{"text_format":"1","workbook":"xlsx","n_sheets":13,"sheets":["TOP","出力シート","設定_会場","設定_主要駅","設定_鉄道運賃料金","設定_会場アクセス","設定_会議時刻時間帯","山陰本線_上り","山陰本線_下り","木次線_上り→松江・安来","木次線_上り→出雲市・益田","安来・松江→木次線_下り","益田・出雲市→木次線_下り"],"not_rendered":{"charts":0,"images":15,"macros":1,"external_links":0,"defined_names":15,"comments":0,"pivot_tables":0},"unopened":[],"bounds":{"document_bytes":16777216,"sheet_cells":100000,"rows_first":2000,"rows_last":500,"rows_between":2000,"halvings":0,"cell_chars":16384,"cell_head_chars":4096},"cells_cut":0,"cells_raw":0,"read":"whole","date_system":"1900"}

{"sheet":"TOP","index":0,"n_rows":14,"n_cols":2,"rows_kept":14,"cut":false,"hidden":false,"merged":[]}
[]
[null,"「駅周辺での会議開催プラン」の作成方法"]
[]
[null,"「作成」をクリックして、表示されたウインドウで"]
[null,"参加者の招集範囲、開催時間帯、会場の最寄り駅及び会場名を選択し"]
[null,"「出力」をクリックしてください。"]
[]
[]
[]
[]
[]
[null,"※このツールはマクロを有効にして実行することで動作します。"]
[null,"　動作環境のセキュリティ設定によってはマクロの実行がブロックされることがございますので、"]
[null,"　その場合は情報セキュリティの担当部署までお問い合わせください。"]

{"sheet":"出力シート","index":1,"n_rows":110,"n_cols":13,"rows_kept":110,"cut":false,"hidden":false,"merged":[[55,10,55,11],[56,10,56,11],[58,0,58,1],[59,0,59,1],[60,0,60,1],[58,10,58,11],[59,10,59,11],[60,10,60,11],[51,10,51,11],[52,10,52,11],[53,10,53,11],[54,10,54,11],[44,0,44,1],[45,0,45,1],[46,0,46,1],[52,0,52,1],[53,0,53,1],[54,0,54,1],[51,0,51,1],[39,0,39,1],[43,0,43,1],[42,0,42,1],[47,0,47,1],[55,0,55,1],[56,0,56,1],[64,0,65,0],[64,2,64,4],[64,5,64,7],[41,0,41,1],[33,0,33,1],[31,0,31,1],[40,0,40,1],[37,0,37,1],[35,0,35,1],[36,0,36,1],[34,0,34,1],[16,8,16,9],[17,8,17,9],[18,8,18,9],[27,0,27,1],[16,0,16,1],[17,0,17,1],[19,0,19,1],[25,0,25,1],[26,0,26,1],[13,8,13,9],[14,8,14,9],[15,8,15,9],[13,0,13,1],[14,0,14,1],[15,0,15,1],[28,0,28,1],[29,0,29,1],[32,0,32,1],[18,0,18,1],[20,0,20,1],[21,0,21,1],[30,0,30,1]]}
["（会議名）",null,null,null,null,"松江テルサまでの交通案内"]
[]
[]
[]
["   開催時刻は、",null,"（開始時刻）","から","（終了時刻）","までを予定しています。"]
["   お越しの際には、鉄道をぜひご利用ください。"]
["   開始・終了時刻に応じた、列車の時刻や駅周辺の情報は次のとおりです。"]
[]
[]
["■鉄道時刻表"]
[]
["【安来市方面からお越しの方】"]
["行き",null,null,null,null,null,null,null,"帰り"]
["種別・列車名",null,"安来発","松江着",null,null,null,null,"種別・列車名",null,"松江発","安来着"]
["普通",null,"06:48:00","07:11:00",null,null,null,null,"特急やくも16号",null,"12:11:00","12:27:00"]
["普通",null,"07:22:00","07:47:00",null,null,null,null,"普通",null,"12:17:00","12:44:00"]
["普通",null,"07:37:00","08:03:00",null,null,null,null,"特急スーパーおき2号",null,"12:50:00","13:09:00"]
["普通",null,"07:54:00","08:24:00",null,null,null,null,"特急やくも18号",null,"13:07:00","13:24:00"]
["特急スーパーまつかぜ1号",null,"08:18:00","08:33:00",null,null,null,null,"普通",null,"13:40:00","14:05:00"]
["普通",null,"08:36:00","08:56:00"]
["特急サンライズ出雲",null,"09:17:00","09:33:00"]
["特急やくも1号",null,"09:30:00","09:49:00"]
[]
["【津和野町・益田市・浜田市・江津市・大田市・出雲市方面からお越しの方】"]
["行き"]
["種別・列車名",null,"津和野発","日原発","益田着","益田発","浜田着","浜田発","江津発","大田市発","出雲市着","出雲市発","松江着"]
["特急やくも6号",null,null,null,null,null,null,null,null,null,null,"06:30:00","07:02:00"]
["普通",null,null,null,null,null,null,null,null,null,null,"06:36:00","07:22:00"]
["普通",null,null,null,null,null,null,null,null,"06:14:00","07:04:00"]
["普通",null,null,null,null,null,null,null,null,null,null,"07:07:00","07:45:00"]
["特急スーパーまつかぜ4号",null,null,null,null,"05:34:00","06:09:00","06:11:00","06:26:00","06:53:00","07:21:00","07:23:00","07:48:00"]
["特急やくも8号",null,null,null,null,null,null,null,null,null,null,"07:30:00","07:56:00"]
["普通",null,null,null,null,null,null,"05:22:00","05:50:00","06:58:00","07:49:00"]
["普通",null,null,null,null,null,null,null,null,null,null,"07:50:00","08:33:00"]
["特急やくも10号",null,null,null,null,null,null,null,null,null,null,"08:34:00","09:04:00"]
["普通",null,null,null,null,null,null,null,null,null,null,"08:39:00","09:22:00"]
["普通",null,null,null,null,"05:42:00","06:32:00","06:34:00","07:02:00","08:02:00","08:50:00"]
["特急スーパーまつかぜ6号",null,null,null,null,"06:53:00","07:28:00","07:30:00","07:56:00","08:29:00","08:54:00","08:56:00","09:25:00"]
["帰り"]
["種別・列車名",null,"松江発","出雲市着","出雲市発","大田市着","江津着","浜田着","浜田発","益田着","益田発","日原着","津和野着"]
["普通",null,"12:20:00","13:05:00"]
["特急やくも7号",null,"12:50:00","13:15:00"]
["特急スーパーまつかぜ5号",null,"13:03:00","13:25:00","13:27:00","13:54:00","14:24:00","14:41:00","14:43:00","15:20:00"]
["普通",null,null,null,null,null,null,null,null,null,"16:39:00","17:08:00","17:19:00"]
["普通",null,"13:07:00","13:42:00"]
["特急やくも9号",null,"13:49:00","14:19:00"]
["普通",null,null,null,"14:24:00","15:06:00","15:56:00","16:26:00"]
["普通",null,null,null,null,null,null,null,"16:37:00","17:27:00"]
[]
["【奥出雲町・雲南市方面からお越しの方】"]
["行き"]
["種別・列車名",null,"出雲横田発","出雲三成発","木次着","木次発","出雲大東発","宍道着","宍道発","松江着","備考"]
["普通",null,"05:23:00","05:44:00","06:19:00","06:21:00","06:32:00","06:55:00",null,null,"宍道乗り継ぎ"]
["普通",null,null,null,null,null,null,null,"07:00:00","07:22:00"]
["普通",null,null,null,null,"06:41:00","06:53:00","07:17:00","07:19:00","07:36:00"]
["普通",null,"07:00:00","07:24:00","07:59:00","08:05:00","08:17:00","08:40:00",null,null,"宍道乗り継ぎ"]
["特急やくも10号",null,null,null,null,null,null,null,"08:48:00","09:04:00"]
["帰り"]
["種別・列車名",null,"松江発","宍道着","宍道発","出雲大東着","木次着","木次発","出雲三成着","出雲横田着","備考"]
["特急やくも9号",null,"13:49:00","14:08:00",null,null,null,null,null,null,"宍道乗り継ぎ"]
["普通",null,null,null,"14:15:00","14:39:00","14:51:00","14:53:00","15:33:00","15:57:00"]
[]
["■主な駅から松江駅までの鉄道運賃・料金（片道、大人1名）"]
[]
["駅","普通","特急（自由席）",null,null,"特急（指定席）"]
[null,"運賃","運賃","特急料金","計","運賃","特急料金","計"]
["安来",420,420,760,1180,420,1290,1710]
["出雲市",590,590,760,1350,590,1290,1880]
["大田市",1170,1170,1200,2370,1170,1730,2900]
["江津",1980,1980,1320,3300,1980,2390,4370]
["浜田",2310,2310,1320,3630,2310,2390,4700]
["益田",3080,3080,1320,4400,3080,2730,5810]
["日原",3410,3410,2200,5610,3410,2730,6140]
["津和野",3410,3410,2200,5610,3410,2730,6140]
["出雲大東",590,590,760,1350,590,1290,1880]
["木次",770,770,760,1530,770,1290,2060]
["出雲三成",1170,1170,760,1930,1170,1290,2460]
["出雲横田",1340,1340,760,2100,1340,1290,2630]
["※特急料金は全区間乗り換えなしで移動した場合の料金になります。"]
["　途中の駅で乗り換えた場合、上記の金額と異なる場合があります。"]
["※指定席の特急料金は通常期の料金になります。最繁忙期・繁忙期・閑散期に利用した場合、上記の金額と異なります。"]
["※最繁忙期や繁忙期は、年末年始、7～11月の金・土・日・祝日などです。詳細はJR西日本のWebサイトでご確認ください。"]
["https://www.jr-odekake.net/railroad/ticket/guide/express_tickets/limited_express03.html"]
["※特急やくもを利用した場合は指定席の特急料金の運賃になります。"]
[]
["■主な駅周辺の駐車場の情報"]
[]
["別紙（主な駅周辺の駐車場の情報）をご覧ください。"]
[]
["■松江駅から松江テルサまでの行き方"]
[]
[]
[]
[]
[]
[]
[]
[]
[]
[]
[]
[]
[]
[]
[]
["■松江駅周辺のコワーキングスペースや飲食店の情報"]
[]
["次のリンク先等を参照ください。"]
["コワーキングスペース情報",null,null,null,null,null,null,"飲食店情報（食べログ）"]
["https://coworking-japan.org/coworking/",null,null,null,null,null,null,"https://tabelog.com/"]

{"sheet":"設定_会場","index":2,"n_rows":7,"n_cols":5,"rows_kept":7,"cut":false,"hidden":true,"merged":[]}
["no.","開催場所","松江駅","出雲市駅","浜田駅"]
[1,"松江駅","松江テルサ","パルメイト出雲","浜田市立中央図書館"]
[2,"出雲市駅","くにびきメッセ","ビッグハート出雲","石央文化ホール"]
[3,"浜田駅","サンラポーむらくも","ツインリーブスホテル出雲","浜田ワシントンホテルプラザ"]
[4,null,"ホテル白鳥","出雲市民会館","ラ・ペアーレ浜田"]
[5,null,"松江エクセルホテル東急","出雲商工会議所"]
[6,null,"ホテル一畑"]

{"sheet":"設定_主要駅","index":3,"n_rows":15,"n_cols":5,"rows_kept":15,"cut":false,"hidden":true,"merged":[]}
["No.","駅名","路線","市町村","所在地"]
[1,"安来","山陰本線","安来市","東部"]
[2,"松江","山陰本線","松江市","東部"]
[3,"出雲市","山陰本線","出雲市","東部"]
[4,"大田市","山陰本線","大田市","西部"]
[5,"江津","山陰本線","江津市","西部"]
[6,"浜田","山陰本線","浜田市","西部"]
[7,"益田","山陰本線","益田市","西部"]
[8,"日原","山陰本線","津和野町","西部"]
[9,"津和野","山陰本線","津和野町","西部"]
[10,"宍道","木次線","松江市（宍道町）","東部"]
[11,"出雲大東","木次線","雲南市","東部"]
[12,"木次","木次線","雲南市","東部"]
[13,"出雲三成","木次線","奥出雲町","東部"]
[14,"出雲横田","木次線","奥出雲町","東部"]

{"sheet":"設定_鉄道運賃料金","index":4,"n_rows":40,"n_cols":8,"rows_kept":40,"cut":false,"hidden":true,"merged":[]}
["No.","最寄り駅No.","行先No.","最寄り駅","行先","普通運賃","自由席特急料金","指定席特急料金"]
[1,{"$f":"MATCH(D2,設定_主要駅!$B$2:$B$15,0)","v":2},{"$f":"MATCH(E2,設定_主要駅!$B$2:$B$15,0)","v":1},"松江","安来",420,760,1290]
[2,{"$f":"MATCH(D3,設定_主要駅!$B$2:$B$15,0)","v":2},{"$f":"MATCH(E3,設定_主要駅!$B$2:$B$15,0)","v":2},"松江","松江"]
[3,{"$f":"MATCH(D4,設定_主要駅!$B$2:$B$15,0)","v":2},{"$f":"MATCH(E4,設定_主要駅!$B$2:$B$15,0)","v":3},"松江","出雲市",590,760,1290]
[4,{"$f":"MATCH(D5,設定_主要駅!$B$2:$B$15,0)","v":2},{"$f":"MATCH(E5,設定_主要駅!$B$2:$B$15,0)","v":4},"松江","大田市",1170,1200,1730]
[5,{"$f":"MATCH(D6,設定_主要駅!$B$2:$B$15,0)","v":2},{"$f":"MATCH(E6,設定_主要駅!$B$2:$B$15,0)","v":5},"松江","江津",1980,1320,2390]
[6,{"$f":"MATCH(D7,設定_主要駅!$B$2:$B$15,0)","v":2},{"$f":"MATCH(E7,設定_主要駅!$B$2:$B$15,0)","v":6},"松江","浜田",2310,1320,2390]
[7,{"$f":"MATCH(D8,設定_主要駅!$B$2:$B$15,0)","v":2},{"$f":"MATCH(E8,設定_主要駅!$B$2:$B$15,0)","v":7},"松江","益田",3080,1320,2730]
[8,{"$f":"MATCH(D9,設定_主要駅!$B$2:$B$15,0)","v":2},{"$f":"MATCH(E9,設定_主要駅!$B$2:$B$15,0)","v":8},"松江","日原",3410,2200,2730]
[9,{"$f":"MATCH(D10,設定_主要駅!$B$2:$B$15,0)","v":2},{"$f":"MATCH(E10,設定_主要駅!$B$2:$B$15,0)","v":9},"松江","津和野",3410,2200,2730]
[10,{"$f":"MATCH(D11,設定_主要駅!$B$2:$B$15,0)","v":2},{"$f":"MATCH(E11,設定_主要駅!$B$2:$B$15,0)","v":11},"松江","出雲大東",590,760,1290]
[11,{"$f":"MATCH(D12,設定_主要駅!$B$2:$B$15,0)","v":2},{"$f":"MATCH(E12,設定_主要駅!$B$2:$B$15,0)","v":12},"松江","木次",770,760,1290]
[12,{"$f":"MATCH(D13,設定_主要駅!$B$2:$B$15,0)","v":2},{"$f":"MATCH(E13,設定_主要駅!$B$2:$B$15,0)","v":13},"松江","出雲三成",1170,760,1290]
[13,{"$f":"MATCH(D14,設定_主要駅!$B$2:$B$15,0)","v":2},{"$f":"MATCH(E14,設定_主要駅!$B$2:$B$15,0)","v":14},"松江","出雲横田",1340,760,1290]
[14,{"$f":"MATCH(D15,設定_主要駅!$B$2:$B$15,0)","v":3},{"$f":"MATCH(E15,設定_主要駅!$B$2:$B$15,0)","v":1},"出雲市","安来",990,1200,1730]
[15,{"$f":"MATCH(D16,設定_主要駅!$B$2:$B$15,0)","v":3},{"$f":"MATCH(E16,設定_主要駅!$B$2:$B$15,0)","v":2},"出雲市","松江",590,760,1290]
[16,{"$f":"MATCH(D17,設定_主要駅!$B$2:$B$15,0)","v":3},{"$f":"MATCH(E17,設定_主要駅!$B$2:$B$15,0)","v":3},"出雲市","出雲市"]
[17,{"$f":"MATCH(D18,設定_主要駅!$B$2:$B$15,0)","v":3},{"$f":"MATCH(E18,設定_主要駅!$B$2:$B$15,0)","v":4},"出雲市","大田市",590,760,1290]
[18,{"$f":"MATCH(D19,設定_主要駅!$B$2:$B$15,0)","v":3},{"$f":"MATCH(E19,設定_主要駅!$B$2:$B$15,0)","v":5},"出雲市","江津",1170,1200,1730]
[19,{"$f":"MATCH(D20,設定_主要駅!$B$2:$B$15,0)","v":3},{"$f":"MATCH(E20,設定_主要駅!$B$2:$B$15,0)","v":6},"出雲市","浜田",1520,1200,1730]
[20,{"$f":"MATCH(D21,設定_主要駅!$B$2:$B$15,0)","v":3},{"$f":"MATCH(E21,設定_主要駅!$B$2:$B$15,0)","v":7},"出雲市","益田",2310,1320,2390]
[21,{"$f":"MATCH(D22,設定_主要駅!$B$2:$B$15,0)","v":3},{"$f":"MATCH(E22,設定_主要駅!$B$2:$B$15,0)","v":8},"出雲市","日原",2640,2200,2730]
[22,{"$f":"MATCH(D23,設定_主要駅!$B$2:$B$15,0)","v":3},{"$f":"MATCH(E23,設定_主要駅!$B$2:$B$15,0)","v":9},"出雲市","津和野",3080,2200,2730]
[23,{"$f":"MATCH(D24,設定_主要駅!$B$2:$B$15,0)","v":3},{"$f":"MATCH(E24,設定_主要駅!$B$2:$B$15,0)","v":11},"出雲市","出雲大東",590,760,1290]
[24,{"$f":"MATCH(D25,設定_主要駅!$B$2:$B$15,0)","v":3},{"$f":"MATCH(E25,設定_主要駅!$B$2:$B$15,0)","v":12},"出雲市","木次",680,760,1290]
[25,{"$f":"MATCH(D26,設定_主要駅!$B$2:$B$15,0)","v":3},{"$f":"MATCH(E26,設定_主要駅!$B$2:$B$15,0)","v":13},"出雲市","出雲三成",1170,760,1290]
[26,{"$f":"MATCH(D27,設定_主要駅!$B$2:$B$15,0)","v":3},{"$f":"MATCH(E27,設定_主要駅!$B$2:$B$15,0)","v":14},"出雲市","出雲横田",1340,760,1290]
[27,{"$f":"MATCH(D28,設定_主要駅!$B$2:$B$15,0)","v":6},{"$f":"MATCH(E28,設定_主要駅!$B$2:$B$15,0)","v":1},"浜田","安来",2640,1320,2390]
[28,{"$f":"MATCH(D29,設定_主要駅!$B$2:$B$15,0)","v":6},{"$f":"MATCH(E29,設定_主要駅!$B$2:$B$15,0)","v":2},"浜田","松江",2310,1320,2390]
[29,{"$f":"MATCH(D30,設定_主要駅!$B$2:$B$15,0)","v":6},{"$f":"MATCH(E30,設定_主要駅!$B$2:$B$15,0)","v":3},"浜田","出雲市",1520,1200,1730]
[30,{"$f":"MATCH(D31,設定_主要駅!$B$2:$B$15,0)","v":6},{"$f":"MATCH(E31,設定_主要駅!$B$2:$B$15,0)","v":4},"浜田","大田市",990,1200,1730]
[31,{"$f":"MATCH(D32,設定_主要駅!$B$2:$B$15,0)","v":6},{"$f":"MATCH(E32,設定_主要駅!$B$2:$B$15,0)","v":5},"浜田","江津",330,760,1290]
[32,{"$f":"MATCH(D33,設定_主要駅!$B$2:$B$15,0)","v":6},{"$f":"MATCH(E33,設定_主要駅!$B$2:$B$15,0)","v":6},"浜田","浜田"]
[33,{"$f":"MATCH(D34,設定_主要駅!$B$2:$B$15,0)","v":6},{"$f":"MATCH(E34,設定_主要駅!$B$2:$B$15,0)","v":7},"浜田","益田",770,760,1290]
[34,{"$f":"MATCH(D35,設定_主要駅!$B$2:$B$15,0)","v":6},{"$f":"MATCH(E35,設定_主要駅!$B$2:$B$15,0)","v":8},"浜田","日原",1170,1200,1730]
[35,{"$f":"MATCH(D36,設定_主要駅!$B$2:$B$15,0)","v":6},{"$f":"MATCH(E36,設定_主要駅!$B$2:$B$15,0)","v":9},"浜田","津和野",1340,1200,1730]
[36,{"$f":"MATCH(D37,設定_主要駅!$B$2:$B$15,0)","v":6},{"$f":"MATCH(E37,設定_主要駅!$B$2:$B$15,0)","v":11},"浜田","出雲大東",1980,1320,2390]
[37,{"$f":"MATCH(D38,設定_主要駅!$B$2:$B$15,0)","v":6},{"$f":"MATCH(E38,設定_主要駅!$B$2:$B$15,0)","v":12},"浜田","木次",2310,1320,2390]
[38,{"$f":"MATCH(D39,設定_主要駅!$B$2:$B$15,0)","v":6},{"$f":"MATCH(E39,設定_主要駅!$B$2:$B$15,0)","v":13},"浜田","出雲三成",2640,1320,2390]
[39,{"$f":"MATCH(D40,設定_主要駅!$B$2:$B$15,0)","v":6},{"$f":"MATCH(E40,設定_主要駅!$B$2:$B$15,0)","v":14},"浜田","出雲横田",3080,1320,2390]

{"sheet":"設定_会場アクセス","index":5,"n_rows":16,"n_cols":10,"rows_kept":16,"cut":false,"hidden":true,"merged":[]}
["No.","会場名","最寄り駅","徒歩_所要時間","バス_所要時間","バス_最寄りバス停","バス_バス停所要時間","バス_運賃","タクシー_所要時間","タクシー_運賃"]
[1,"松江テルサ","松江",1,null,"-"]
[2,"くにびきメッセ","松江",7,3,"くにびきメッセ前",1,160,2,810]
[3,"サンラポーむらくも","松江",21,12,"県民会館前",0,170,6,910]
[4,"ホテル白鳥","松江",27,20,"松江しんじ湖温泉駅",0,210,6,1110]
[5,"松江エクセルホテル東急","松江",3,null,"-"]
[6,"ホテル一畑","松江",27,12,"松江しんじ湖温泉駅",3,210,7,1110]
[7,"パルメイト出雲","出雲市",1,null,"-"]
[8,"ビッグハート出雲","出雲市",1,null,"-"]
[9,"ツインリーブスホテル出雲","出雲市",1,null,"-"]
[10,"出雲市民会館","出雲市",15,4,"市民会館前",0,160,3,810]
[11,"出雲商工会議所","出雲市",20,4,"商工会議所入口",2,160,4,810]
[12,"浜田市立中央図書館","浜田",10,3,"黒川",1,190,2,810]
[13,"石央文化ホール","浜田",3,null,"-"]
[14,"浜田ワシントンホテルプラザ","浜田",3,null,"-"]
[15,"ラ・ペアーレ浜田","浜田",4,null,"-"]

{"sheet":"設定_会議時刻時間帯","index":6,"n_rows":4,"n_cols":11,"rows_kept":4,"cut":false,"hidden":true,"merged":[]}
["no.","開催時間帯","開始時刻","終了時刻","行き抽出時刻1","行き抽出時刻2","帰り出時刻1","帰り抽出時刻2","表示","始発から抽出","終発までの抽出"]
[1,"午前開催","10:00:00","12:00:00","07:00:00","09:50:00",{"$f":"D2","v":"12:00:00"},{"$f":"G2+TIME(2,0,0)","v":"14:00:00"},{"$f":"B2&\"(\"&TEXT(C2,\"h:mm\")&\"～\"&TEXT(D2,\"h:mm\")&\")\"","v":"午前開催(10:00～12:00)"}]
[2,"午後開催","13:00:00","15:00:00","11:20:00",{"$f":"C3-TIME(0,10,0)","v":"12:50:00"},{"$f":"D3","v":"15:00:00"},{"$f":"G3+TIME(2,0,0)","v":"17:00:00"},{"$f":"B3&\"(\"&TEXT(C3,\"h:mm\")&\"～\"&TEXT(D3,\"h:mm\")&\")\"","v":"午後開催(13:00～15:00)"}]
[3,"夕方開催","16:00:00","18:00:00","14:20:00",{"$f":"C4-TIME(0,10,0)","v":"15:50:00"},{"$f":"D4","v":"18:00:00"},null,{"$f":"B4&\"(\"&TEXT(C4,\"h:mm\")&\"～\"&TEXT(D4,\"h:mm\")&\")\"","v":"夕方開催(16:00～18:00)"},null,1]

{"sheet":"山陰本線_上り","index":7,"n_rows":75,"n_cols":37,"rows_kept":75,"cut":false,"hidden":true,"merged":[]}
[null,"津和野町",null,"益田市",null,null,"浜田市",null,null,"江津市",null,"大田市",null,"出雲市",null,null,null,null,"松江市",null,"安来市",null,null,null,null,null,null,"行きで参照","帰りで参照"]
["列車番号","津和野発","日原発","益田着","列車番号","益田発","浜田着","列車番号","浜田発","江津着","江津発","大田市着","大田市発","出雲市着","列車番号","出雲市発","宍道着","宍道発","松江着","松江発","安来着","行先","種別","列車名","備考","接続","行先駅","接続行①","接続行②","接続時間","番号","益田","浜田","出雲市",null,"接続時間","00:35:01"]
[null,null,null,null,null,null,null,null,null,null,null,null,null,null,"1002M","04:42:00","04:52:00","04:53:00","05:06:00","05:07:00","05:23:00","岡山","特急","やくも2号",null,{"$f":"IF(AD3<=$AK$2,IF(AF3<>\"\",AF$2,IF(AG3<>\"\",AG$2,IF(AH3<>\"\",AH$2,\"\"))),\"\")","v":""},{"$f":"_xlfn.IFNA(MATCH(V3,設定_主要駅!$B$2:$B$15,0),1)","v":1},{"$f":"IF(AD3<=$AK$2,IF(AF3<>\"\",MATCH(AF3,$F:$F,0)-2,IF(AG3<>\"\",MATCH(AG3,$I:$I,0)-2,IF(AH3<>\"\",MATCH(AH3,$P:$P,0)-2,\"\"))),\"\")","v":""},{"$f":"_xlfn.IFNA(MATCH(ROW()-2,AB:AB,0)-2,\"\")","v":""},{"$f":"IF(AF3<>\"\",AF3-D3,IF(AG3<>\"\",AG3-G3,IF(AH3<>\"\",AH3-N3,\"\")))","v":""},1,{"$f":"IFERROR(IF(AND(D3<>\"\",F3=\"\",D3<=MAX(F4:F$76)),IF(SMALL(F4:F$76,1)-D3>0,SMALL(F4:F$76,1),SMALL(F4:F$76,2)),\"\"),\"\")","v":""},{"$f":"IFERROR(IF(AND(G3<>\"\",I3=\"\",G3<=MAX(I4:I$76)),IF(SMALL(I4:I$76,1)-G3>0,SMALL(I4:I$76,1),IF(SMALL(I4:I$76,2)>0,SMALL(I4:I$76,2),SMALL(I4:I$76,3))),\"\"),\"\")","v":""},{"$f":"IFERROR(IF(AND(N3<>\"\",P3=\"\",N3<=MAX(P4:P$76)),IF(SMALL(P4:P$76,1)-N3>0,SMALL(P4:P$76,1),SMALL(P4:P$76,2)),\"\"),\"\")","v":""}]
[null,null,null,null,null,null,null,null,null,null,null,null,null,null,"1004M","05:27:00","05:37:00","05:38:00","05:51:00","05:52:00","06:08:00","岡山","特急","やくも4号",null,{"$f":"IF(AD4<=$AK$2,IF(AF4<>\"\",AF$2,IF(AG4<>\"\",AG$2,IF(AH4<>\"\",AH$2,\"\"))),\"\")","v":""},{"$f":"_xlfn.IFNA(MATCH(V4,設定_主要駅!$B$2:$B$15,0),1)","v":1},{"$f":"IF(AD4<=$AK$2,IF(AF4<>\"\",MATCH(AF4,$F:$F,0)-2,IF(AG4<>\"\",MATCH(AG4,$I:$I,0)-2,IF(AH4<>\"\",MATCH(AH4,$P:$P,0)-2,\"\"))),\"\")","v":""},{"$f":"_xlfn.IFNA(MATCH(ROW()-2,AB:AB,0)-2,\"\")","v":""},{"$f":"IF(AF4<>\"\",AF4-D4,IF(AG4<>\"\",AG4-G4,IF(AH4<>\"\",AH4-N4,\"\")))","v":""},2,{"$f":"IFERROR(IF(AND(D4<>\"\",F4=\"\",D4<=MAX(F5:F$76)),IF(SMALL(F5:F$76,1)-D4>0,SMALL(F5:F$76,1),SMALL(F5:F$76,2)),\"\"),\"\")","v":""},{"$f":"IFERROR(IF(AND(G4<>\"\",I4=\"\",G4<=MAX(I5:I$76)),IF(SMALL(I5:I$76,1)-G4>0,SMALL(I5:I$76,1),IF(SMALL(I5:I$76,2)>0,SMALL(I5:I$76,2),SMALL(I5:I$76,3))),\"\"),\"\")","v":""},{"$f":"IFERROR(IF(AND(N4<>\"\",P4=\"\",N4<=MAX(P5:P$76)),IF(SMALL(P5:P$76,1)-N4>0,SMALL(P5:P$76,1),SMALL(P5:P$76,2)),\"\"),\"\")","v":""}]
[null,null,null,null,null,null,null,null,null,null,null,null,null,null,"120D",null,null,null,null,"06:12:00","06:36:00","鳥取","普通",null,null,"",{"$f":"_xlfn.IFNA(MATCH(V5,設定_主要駅!$B$2:$B$15,0),1)","v":1},{"$f":"IF(AD5<=$AK$2,IF(AF5<>\"\",MATCH(AF5,$F:$F,0)-2,IF(AG5<>\"\",MATCH(AG5,$I:$I,0)-2,IF(AH5<>\"\",MATCH(AH5,$P:$P,0)-2,\"\"))),\"\")","v":""},{"$f":"_xlfn.IFNA(MATCH(ROW()-2,AB:AB,0)-2,\"\")","v":""},"",3,{"$f":"IFERROR(IF(AND(D5<>\"\",F5=\"\",D5<=MAX(F6:F$76)),IF(SMALL(F6:F$76,1)-D5>0,SMALL(F6:F$76,1),SMALL(F6:F$76,2)),\"\"),\"\")","v":""},{"$f":"IFERROR(IF(AND(G5<>\"\",I5=\"\",G5<=MAX(I6:I$76)),IF(SMALL(I6:I$76,1)-G5>0,SMALL(I6:I$76,1),IF(SMALL(I6:I$76,2)>0,SMALL(I6:I$76,2),SMALL(I6:I$76,3))),\"\"),\"\")","v":""},{"$f":"IFERROR(IF(AND(N5<>\"\",P5=\"\",N5<=MAX(P6:P$76)),IF(SMALL(P6:P$76,1)-N5>0,SMALL(P6:P$76,1),SMALL(P6:P$76,2)),\"\"),\"\")","v":""}]
[null,null,null,null,null,null,null,null,null,null,null,null,null,null,"122D","06:03:00","06:21:00","06:22:00","06:46:00","06:48:00","07:11:00","米子","普通",null,null,"",{"$f":"_xlfn.IFNA(MATCH(V6,設定_主要駅!$B$2:$B$15,0),1)","v":1},{"$f":"IF(AD6<=$AK$2,IF(AF6<>\"\",MATCH(AF6,$F:$F,0)-2,IF(AG6<>\"\",MATCH(AG6,$I:$I,0)-2,IF(AH6<>\"\",MATCH(AH6,$P:$P,0)-2,\"\"))),\"\")","v":""},{"$f":"_xlfn.IFNA(MATCH(ROW()-2,AB:AB,0)-2,\"\")","v":""},"",4,{"$f":"IFERROR(IF(AND(D6<>\"\",F6=\"\",D6<=MAX(F7:F$76)),IF(SMALL(F7:F$76,1)-D6>0,SMALL(F7:F$76,1),SMALL(F7:F$76,2)),\"\"),\"\")","v":""},{"$f":"IFERROR(IF(AND(G6<>\"\",I6=\"\",G6<=MAX(I7:I$76)),IF(SMALL(I7:I$76,1)-G6>0,SMALL(I7:I$76,1),IF(SMALL(I7:I$76,2)>0,SMALL(I7:I$76,2),SMALL(I7:I$76,3))),\"\"),\"\")","v":""},{"$f":"IFERROR(IF(AND(N6<>\"\",P6=\"\",N6<=MAX(P7:P$76)),IF(SMALL(P7:P$76,1)-N6>0,SMALL(P7:P$76,1),SMALL(P7:P$76,2)),\"\"),\"\")","v":""}]
[null,null,null,null,null,null,null,null,null,null,null,null,null,null,"1006M","06:30:00","06:45:00","06:46:00","07:02:00","07:03:00","07:19:00","岡山","特急","やくも6号",null,"",{"$f":"_xlfn.IFNA(MATCH(V7,設定_主要駅!$B$2:$B$15,0),1)","v":1},{"$f":"IF(AD7<=$AK$2,IF(AF7<>\"\",MATCH(AF7,$F:$F,0)-2,IF(AG7<>\"\",MATCH(AG7,$I:$I,0)-2,IF(AH7<>\"\",MATCH(AH7,$P:$P,0)-2,\"\"))),\"\")","v":""},{"$f":"_xlfn.IFNA(MATCH(ROW()-2,AB:AB,0)-2,\"\")","v":""},"",5,{"$f":"IFERROR(IF(AND(D7<>\"\",F7=\"\",D7<=MAX(F8:F$76)),IF(SMALL(F8:F$76,1)-D7>0,SMALL(F8:F$76,1),SMALL(F8:F$76,2)),\"\"),\"\")","v":""},{"$f":"IFERROR(IF(AND(G7<>\"\",I7=\"\",G7<=MAX(I8:I$76)),IF(SMALL(I8:I$76,1)-G7>0,SMALL(I8:I$76,1),IF(SMALL(I8:I$76,2)>0,SMALL(I8:I$76,2),SMALL(I8:I$76,3))),\"\"),\"\")","v":""},{"$f":"IFERROR(IF(AND(N7<>\"\",P7=\"\",N7<=MAX(P8:P$76)),IF(SMALL(P8:P$76,1)-N7>0,SMALL(P8:P$76,1),SMALL(P8:P$76,2)),\"\"),\"\")","v":""}]
[null,null,null,null,null,null,null,null,null,null,null,null,null,null,"124D","06:36:00","06:56:00","07:00:00","07:22:00","07:24:00","07:52:00","米子","普通",null,null,"",{"$f":"_xlfn.IFNA(MATCH(V8,設定_主要駅!$B$2:$B$15,0),1)","v":1},{"$f":"IF(AD8<=$AK$2,IF(AF8<>\"\",MATCH(AF8,$F:$F,0)-2,IF(AG8<>\"\",MATCH(AG8,$I:$I,0)-2,IF(AH8<>\"\",MATCH(AH8,$P:$P,0)-2,\"\"))),\"\")","v":""},{"$f":"_xlfn.IFNA(MATCH(ROW()-2,AB:AB,0)-2,\"\")","v":""},"",6,{"$f":"IFERROR(IF(AND(D8<>\"\",F8=\"\",D8<=MAX(F9:F$76)),IF(SMALL(F9:F$76,1)-D8>0,SMALL(F9:F$76,1),SMALL(F9:F$76,2)),\"\"),\"\")","v":""},{"$f":"IFERROR(IF(AND(G8<>\"\",I8=\"\",G8<=MAX(I9:I$76)),IF(SMALL(I9:I$76,1)-G8>0,SMALL(I9:I$76,1),IF(SMALL(I9:I$76,2)>0,SMALL(I9:I$76,2),SMALL(I9:I$76,3))),\"\"),\"\")","v":""},{"$f":"IFERROR(IF(AND(N8<>\"\",P8=\"\",N8<=MAX(P9:P$76)),IF(SMALL(P9:P$76,1)-N8>0,SMALL(P9:P$76,1),SMALL(P9:P$76,2)),\"\"),\"\")","v":""}]
[null,null,null,null,null,null,null,null,null,null,null,null,null,null,"3444D",null,"07:17:00","07:19:00","07:36:00",null,null,"松江","普通",null,"木次線から直通（土日祝の場合、松江着時間は7：40）","",{"$f":"_xlfn.IFNA(MATCH(V9,設定_主要駅!$B$2:$B$15,0),1)","v":2},{"$f":"IF(AD9<=$AK$2,IF(AF9<>\"\",MATCH(AF9,$F:$F,0)-2,IF(AG9<>\"\",MATCH(AG9,$I:$I,0)-2,IF(AH9<>\"\",MATCH(AH9,$P:$P,0)-2,\"\"))),\"\")","v":""},{"$f":"_xlfn.IFNA(MATCH(ROW()-2,AB:AB,0)-2,\"\")","v":""},"",7,{"$f":"IFERROR(IF(AND(D9<>\"\",F9=\"\",D9<=MAX(F10:F$76)),IF(SMALL(F10:F$76,1)-D9>0,SMALL(F10:F$76,1),SMALL(F10:F$76,2)),\"\"),\"\")","v":""},{"$f":"IFERROR(IF(AND(G9<>\"\",I9=\"\",G9<=MAX(I10:I$76)),IF(SMALL(I10:I$76,1)-G9>0,SMALL(I10:I$76,1),IF(SMALL(I10:I$76,2)>0,SMALL(I10:I$76,2),SMALL(I10:I$76,3))),\"\"),\"\")","v":""},{"$f":"IFERROR(IF(AND(N9<>\"\",P9=\"\",N9<=MAX(P10:P$76)),IF(SMALL(P10:P$76,1)-N9>0,SMALL(P10:P$76,1),SMALL(P10:P$76,2)),\"\"),\"\")","v":""}]
[null,null,null,null,null,null,null,"362D",null,null,null,null,"06:14:00","07:04:00",null,null,null,null,null,null,null,"出雲市","普通",null,null,"出雲市",{"$f":"_xlfn.IFNA(MATCH(V10,設定_主要駅!$B$2:$B$15,0),1)","v":3},{"$f":"IF(AD10<=$AK$2,IF(AF10<>\"\",MATCH(AF10,$F:$F,0)-2,IF(AG10<>\"\",MATCH(AG10,$I:$I,0)-2,IF(AH10<>\"\",MATCH(AH10,$P:$P,0)-2,\"\"))),\"\")","v":9},{"$f":"_xlfn.IFNA(MATCH(ROW()-2,AB:AB,0)-2,\"\")","v":""},"00:03:00",8,{"$f":"IFERROR(IF(AND(D10<>\"\",F10=\"\",D10<=MAX(F11:F$76)),IF(SMALL(F11:F$76,1)-D10>0,SMALL(F11:F$76,1),SMALL(F11:F$76,2)),\"\"),\"\")","v":""},{"$f":"IFERROR(IF(AND(G10<>\"\",I10=\"\",G10<=MAX(I11:I$76)),IF(SMALL(I11:I$76,1)-G10>0,SMALL(I11:I$76,1),IF(SMALL(I11:I$76,2)>0,SMALL(I11:I$76,2),SMALL(I11:I$76,3))),\"\"),\"\")","v":""},{"$f":"IFERROR(IF(AND(N10<>\"\",P10=\"\",N10<=MAX(P11:P$76)),IF(SMALL(P11:P$76,1)-N10>0,SMALL(P11:P$76,1),SMALL(P11:P$76,2)),\"\"),\"\")","v":"07:07:00"}]
[null,null,null,null,null,null,null,null,null,null,null,null,null,null,"126D","07:07:00","07:24:00","07:25:00","07:45:00","08:01:00","08:28:00","米子","普通",null,"土曜・休日運休",{"$f":"IF(AD11<=$AK$2,IF(AF11<>\"\",AF$2,IF(AG11<>\"\",AG$2,IF(AH11<>\"\",AH$2,\"\"))),\"\")","v":""},{"$f":"_xlfn.IFNA(MATCH(V11,設定_主要駅!$B$2:$B$15,0),1)","v":1},{"$f":"IF(AD11<=$AK$2,IF(AF11<>\"\",MATCH(AF11,$F:$F,0)-2,IF(AG11<>\"\",MATCH(AG11,$I:$I,0)-2,IF(AH11<>\"\",MATCH(AH11,$P:$P,0)-2,\"\"))),\"\")","v":""},{"$f":"_xlfn.IFNA(MATCH(ROW()-2,AB:AB,0)-2,\"\")","v":8},{"$f":"IF(AF11<>\"\",AF11-D11,IF(AG11<>\"\",AG11-G11,IF(AH11<>\"\",AH11-N11,\"\")))","v":""},9,{"$f":"IFERROR(IF(AND(D11<>\"\",F11=\"\",D11<=MAX(F12:F$76)),IF(SMALL(F12:F$76,1)-D11>0,SMALL(F12:F$76,1),SMALL(F12:F$76,2)),\"\"),\"\")","v":""},{"$f":"IFERROR(IF(AND(G11<>\"\",I11=\"\",G11<=MAX(I12:I$76)),IF(SMALL(I12:I$76,1)-G11>0,SMALL(I12:I$76,1),IF(SMALL(I12:I$76,2)>0,SMALL(I12:I$76,2),SMALL(I12:I$76,3))),\"\"),\"\")","v":""},{"$f":"IFERROR(IF(AND(N11<>\"\",P11=\"\",N11<=MAX(P12:P$76)),IF(SMALL(P12:P$76,1)-N11>0,SMALL(P12:P$76,1),SMALL(P12:P$76,2)),\"\"),\"\")","v":""}]
[null,null,null,null,"2004D","05:34:00","06:09:00",null,"06:11:00","06:25:00","06:26:00","06:52:00","06:53:00","07:21:00",null,"07:23:00","-","-","07:48:00","07:49:00",3.3381944444444445,"鳥取","特急","スーパーまつかぜ4号",null,{"$f":"IF(AD12<=$AK$2,IF(AF12<>\"\",AF$2,IF(AG12<>\"\",AG$2,IF(AH12<>\"\",AH$2,\"\"))),\"\")","v":""},{"$f":"_xlfn.IFNA(MATCH(V12,設定_主要駅!$B$2:$B$15,0),1)","v":1},{"$f":"IF(AD12<=$AK$2,IF(AF12<>\"\",MATCH(AF12,$F:$F,0)-2,IF(AG12<>\"\",MATCH(AG12,$I:$I,0)-2,IF(AH12<>\"\",MATCH(AH12,$P:$P,0)-2,\"\"))),\"\")","v":""},{"$f":"_xlfn.IFNA(MATCH(ROW()-2,AB:AB,0)-2,\"\")","v":""},{"$f":"IF(AF12<>\"\",AF12-D12,IF(AG12<>\"\",AG12-G12,IF(AH12<>\"\",AH12-N12,\"\")))","v":""},10,{"$f":"IFERROR(IF(AND(D12<>\"\",F12=\"\",D12<=MAX(F13:F$76)),IF(SMALL(F13:F$76,1)-D12>0,SMALL(F13:F$76,1),SMALL(F13:F$76,2)),\"\"),\"\")","v":""},{"$f":"IFERROR(IF(AND(G12<>\"\",I12=\"\",G12<=MAX(I13:I$76)),IF(SMALL(I13:I$76,1)-G12>0,SMALL(I13:I$76,1),IF(SMALL(I13:I$76,2)>0,SMALL(I13:I$76,2),SMALL(I13:I$76,3))),\"\"),\"\")","v":""},{"$f":"IFERROR(IF(AND(N12<>\"\",P12=\"\",N12<=MAX(P13:P$76)),IF(SMALL(P13:P$76,1)-N12>0,SMALL(P13:P$76,1),SMALL(P13:P$76,2)),\"\"),\"\")","v":""}]
[null,null,null,null,null,null,null,null,null,null,null,null,null,null,"1008M","07:30:00","07:41:00","07:42:00","07:56:00","07:57:00","08:17:00","岡山","特急","やくも8号",null,{"$f":"IF(AD13<=$AK$2,IF(AF13<>\"\",AF$2,IF(AG13<>\"\",AG$2,IF(AH13<>\"\",AH$2,\"\"))),\"\")","v":""},{"$f":"_xlfn.IFNA(MATCH(V13,設定_主要駅!$B$2:$B$15,0),1)","v":1},{"$f":"IF(AD13<=$AK$2,IF(AF13<>\"\",MATCH(AF13,$F:$F,0)-2,IF(AG13<>\"\",MATCH(AG13,$I:$I,0)-2,IF(AH13<>\"\",MATCH(AH13,$P:$P,0)-2,\"\"))),\"\")","v":""},{"$f":"_xlfn.IFNA(MATCH(ROW()-2,AB:AB,0)-2,\"\")","v":""},{"$f":"IF(AF13<>\"\",AF13-D13,IF(AG13<>\"\",AG13-G13,IF(AH13<>\"\",AH13-N13,\"\")))","v":""},11,{"$f":"IFERROR(IF(AND(D13<>\"\",F13=\"\",D13<=MAX(F14:F$76)),IF(SMALL(F14:F$76,1)-D13>0,SMALL(F14:F$76,1),SMALL(F14:F$76,2)),\"\"),\"\")","v":""},{"$f":"IFERROR(IF(AND(G13<>\"\",I13=\"\",G13<=MAX(I14:I$76)),IF(SMALL(I14:I$76,1)-G13>0,SMALL(I14:I$76,1),IF(SMALL(I14:I$76,2)>0,SMALL(I14:I$76,2),SMALL(I14:I$76,3))),\"\"),\"\")","v":""},{"$f":"IFERROR(IF(AND(N13<>\"\",P13=\"\",N13<=MAX(P14:P$76)),IF(SMALL(P14:P$76,1)-N13>0,SMALL(P14:P$76,1),SMALL(P14:P$76,2)),\"\"),\"\")","v":""}]
[null,null,null,null,null,null,null,"320D","05:22:00","05:48:00","05:50:00","06:38:00","06:58:00","07:49:00",null,null,null,null,null,null,null,"出雲市","普通",null,null,{"$f":"IF(AD14<=$AK$2,IF(AF14<>\"\",AF$2,IF(AG14<>\"\",AG$2,IF(AH14<>\"\",AH$2,\"\"))),\"\")","v":"出雲市"},{"$f":"_xlfn.IFNA(MATCH(V14,設定_主要駅!$B$2:$B$15,0),1)","v":3},{"$f":"IF(AD14<=$AK$2,IF(AF14<>\"\",MATCH(AF14,$F:$F,0)-2,IF(AG14<>\"\",MATCH(AG14,$I:$I,0)-2,IF(AH14<>\"\",MATCH(AH14,$P:$P,0)-2,\"\"))),\"\")","v":13},{"$f":"_xlfn.IFNA(MATCH(ROW()-2,AB:AB,0)-2,\"\")","v":""},{"$f":"IF(AF14<>\"\",AF14-D14,IF(AG14<>\"\",AG14-G14,IF(AH14<>\"\",AH14-N14,\"\")))","v":"00:01:00"},12,{"$f":"IFERROR(IF(AND(D14<>\"\",F14=\"\",D14<=MAX(F15:F$76)),IF(SMALL(F15:F$76,1)-D14>0,SMALL(F15:F$76,1),SMALL(F15:F$76,2)),\"\"),\"\")","v":""},{"$f":"IFERROR(IF(AND(G14<>\"\",I14=\"\",G14<=MAX(I15:I$76)),IF(SMALL(I15:I$76,1)-G14>0,SMALL(I15:I$76,1),IF(SMALL(I15:I$76,2)>0,SMALL(I15:I$76,2),SMALL(I15:I$76,3))),\"\"),\"\")","v":""},{"$f":"IFERROR(IF(AND(N14<>\"\",P14=\"\",N14<=MAX(P15:P$76)),IF(SMALL(P15:P$76,1)-N14>0,SMALL(P15:P$76,1),SMALL(P15:P$76,2)),\"\"),\"\")","v":"07:50:00"}]
[null,null,null,null,null,null,null,null,null,null,null,null,null,null,"128D","07:50:00","08:08:00","08:12:00","08:33:00","08:34:00","08:59:00","米子","普通",null,null,{"$f":"IF(AD15<=$AK$2,IF(AF15<>\"\",AF$2,IF(AG15<>\"\",AG$2,IF(AH15<>\"\",AH$2,\"\"))),\"\")","v":""},{"$f":"_xlfn.IFNA(MATCH(V15,設定_主要駅!$B$2:$B$15,0),1)","v":1},{"$f":"IF(AD15<=$AK$2,IF(AF15<>\"\",MATCH(AF15,$F:$F,0)-2,IF(AG15<>\"\",MATCH(AG15,$I:$I,0)-2,IF(AH15<>\"\",MATCH(AH15,$P:$P,0)-2,\"\"))),\"\")","v":""},{"$f":"_xlfn.IFNA(MATCH(ROW()-2,AB:AB,0)-2,\"\")","v":12},{"$f":"IF(AF15<>\"\",AF15-D15,IF(AG15<>\"\",AG15-G15,IF(AH15<>\"\",AH15-N15,\"\")))","v":""},13,{"$f":"IFERROR(IF(AND(D15<>\"\",F15=\"\",D15<=MAX(F16:F$76)),IF(SMALL(F16:F$76,1)-D15>0,SMALL(F16:F$76,1),SMALL(F16:F$76,2)),\"\"),\"\")","v":""},{"$f":"IFERROR(IF(AND(G15<>\"\",I15=\"\",G15<=MAX(I16:I$76)),IF(SMALL(I16:I$76,1)-G15>0,SMALL(I16:I$76,1),IF(SMALL(I16:I$76,2)>0,SMALL(I16:I$76,2),SMALL(I16:I$76,3))),\"\"),\"\")","v":""},{"$f":"IFERROR(IF(AND(N15<>\"\",P15=\"\",N15<=MAX(P16:P$76)),IF(SMALL(P16:P$76,1)-N15>0,SMALL(P16:P$76,1),SMALL(P16:P$76,2)),\"\"),\"\")","v":""}]
[null,null,null,null,null,null,null,null,null,null,null,null,null,null,"130D",null,null,null,null,"08:46:00","09:09:00","米子","普通",null,"土曜・休日運休","",{"$f":"_xlfn.IFNA(MATCH(V16,設定_主要駅!$B$2:$B$15,0),1)","v":1},{"$f":"IF(AD16<=$AK$2,IF(AF16<>\"\",MATCH(AF16,$F:$F,0)-2,IF(AG16<>\"\",MATCH(AG16,$I:$I,0)-2,IF(AH16<>\"\",MATCH(AH16,$P:$P,0)-2,\"\"))),\"\")","v":""},{"$f":"_xlfn.IFNA(MATCH(ROW()-2,AB:AB,0)-2,\"\")","v":""},"",14,{"$f":"IFERROR(IF(AND(D16<>\"\",F16=\"\",D16<=MAX(F17:F$76)),IF(SMALL(F17:F$76,1)-D16>0,SMALL(F17:F$76,1),SMALL(F17:F$76,2)),\"\"),\"\")","v":""},{"$f":"IFERROR(IF(AND(G16<>\"\",I16=\"\",G16<=MAX(I17:I$76)),IF(SMALL(I17:I$76,1)-G16>0,SMALL(I17:I$76,1),IF(SMALL(I17:I$76,2)>0,SMALL(I17:I$76,2),SMALL(I17:I$76,3))),\"\"),\"\")","v":""},{"$f":"IFERROR(IF(AND(N16<>\"\",P16=\"\",N16<=MAX(P17:P$76)),IF(SMALL(P17:P$76,1)-N16>0,SMALL(P17:P$76,1),SMALL(P17:P$76,2)),\"\"),\"\")","v":""}]
[null,null,null,null,null,null,null,null,null,null,null,null,null,null,"1010M","08:34:00","08:47:00","08:48:00","09:04:00","09:05:00","09:26:00","岡山","特急","やくも10号",null,"",{"$f":"_xlfn.IFNA(MATCH(V17,設定_主要駅!$B$2:$B$15,0),1)","v":1},{"$f":"IF(AD17<=$AK$2,IF(AF17<>\"\",MATCH(AF17,$F:$F,0)-2,IF(AG17<>\"\",MATCH(AG17,$I:$I,0)-2,IF(AH17<>\"\",MATCH(AH17,$P:$P,0)-2,\"\"))),\"\")","v":""},{"$f":"_xlfn.IFNA(MATCH(ROW()-2,AB:AB,0)-2,\"\")","v":""},"",15,{"$f":"IFERROR(IF(AND(D17<>\"\",F17=\"\",D17<=MAX(F18:F$76)),IF(SMALL(F18:F$76,1)-D17>0,SMALL(F18:F$76,1),SMALL(F18:F$76,2)),\"\"),\"\")","v":""},{"$f":"IFERROR(IF(AND(G17<>\"\",I17=\"\",G17<=MAX(I18:I$76)),IF(SMALL(I18:I$76,1)-G17>0,SMALL(I18:I$76,1),IF(SMALL(I18:I$76,2)>0,SMALL(I18:I$76,2),SMALL(I18:I$76,3))),\"\"),\"\")","v":""},{"$f":"IFERROR(IF(AND(N17<>\"\",P17=\"\",N17<=MAX(P18:P$76)),IF(SMALL(P18:P$76,1)-N17>0,SMALL(P18:P$76,1),SMALL(P18:P$76,2)),\"\"),\"\")","v":""}]
[null,null,null,null,null,null,null,null,null,null,null,null,null,null,"132D","08:39:00","08:57:00","08:58:00","09:22:00","09:37:00","10:05:00","米子","普通",null,null,"",{"$f":"_xlfn.IFNA(MATCH(V18,設定_主要駅!$B$2:$B$15,0),1)","v":1},{"$f":"IF(AD18<=$AK$2,IF(AF18<>\"\",MATCH(AF18,$F:$F,0)-2,IF(AG18<>\"\",MATCH(AG18,$I:$I,0)-2,IF(AH18<>\"\",MATCH(AH18,$P:$P,0)-2,\"\"))),\"\")","v":""},{"$f":"_xlfn.IFNA(MATCH(ROW()-2,AB:AB,0)-2,\"\")","v":""},"",16,{"$f":"IFERROR(IF(AND(D18<>\"\",F18=\"\",D18<=MAX(F19:F$76)),IF(SMALL(F19:F$76,1)-D18>0,SMALL(F19:F$76,1),SMALL(F19:F$76,2)),\"\"),\"\")","v":""},{"$f":"IFERROR(IF(AND(G18<>\"\",I18=\"\",G18<=MAX(I19:I$76)),IF(SMALL(I19:I$76,1)-G18>0,SMALL(I19:I$76,1),IF(SMALL(I19:I$76,2)>0,SMALL(I19:I$76,2),SMALL(I19:I$76,3))),\"\"),\"\")","v":""},{"$f":"IFERROR(IF(AND(N18<>\"\",P18=\"\",N18<=MAX(P19:P$76)),IF(SMALL(P19:P$76,1)-N18>0,SMALL(P19:P$76,1),SMALL(P19:P$76,2)),\"\"),\"\")","v":""}]
[null,null,null,null,"420D","05:42:00","06:32:00","322D","06:34:00","07:01:00","07:02:00","07:59:00","08:02:00","08:50:00",null,null,null,null,null,null,null,"出雲","普通",null,null,"出雲市",{"$f":"_xlfn.IFNA(MATCH(V19,設定_主要駅!$B$2:$B$15,0),1)","v":1},{"$f":"IF(AD19<=$AK$2,IF(AF19<>\"\",MATCH(AF19,$F:$F,0)-2,IF(AG19<>\"\",MATCH(AG19,$I:$I,0)-2,IF(AH19<>\"\",MATCH(AH19,$P:$P,0)-2,\"\"))),\"\")","v":18},{"$f":"_xlfn.IFNA(MATCH(ROW()-2,AB:AB,0)-2,\"\")","v":""},"00:06:00",17,{"$f":"IFERROR(IF(AND(D19<>\"\",F19=\"\",D19<=MAX(F20:F$76)),IF(SMALL(F20:F$76,1)-D19>0,SMALL(F20:F$76,1),SMALL(F20:F$76,2)),\"\"),\"\")","v":""},{"$f":"IFERROR(IF(AND(G19<>\"\",I19=\"\",G19<=MAX(I20:I$76)),IF(SMALL(I20:I$76,1)-G19>0,SMALL(I20:I$76,1),IF(SMALL(I20:I$76,2)>0,SMALL(I20:I$76,2),SMALL(I20:I$76,3))),\"\"),\"\")","v":""},{"$f":"IFERROR(IF(AND(N19<>\"\",P19=\"\",N19<=MAX(P20:P$76)),IF(SMALL(P20:P$76,1)-N19>0,SMALL(P20:P$76,1),SMALL(P20:P$76,2)),\"\"),\"\")","v":"08:56:00"}]
[null,null,null,null,"2006D","06:53:00","07:28:00",null,"07:30:00","07:53:00","07:56:00","08:28:00","08:29:00","08:54:00",null,"08:56:00","09:07:00","09:10:00","09:25:00","09:26:00","09:42:00","鳥取","特急","スーパーまつかぜ6号",null,"",{"$f":"_xlfn.IFNA(MATCH(V20,設定_主要駅!$B$2:$B$15,0),1)","v":1},{"$f":"IF(AD20<=$AK$2,IF(AF20<>\"\",MATCH(AF20,$F:$F,0)-2,IF(AG20<>\"\",MATCH(AG20,$I:$I,0)-2,IF(AH20<>\"\",MATCH(AH20,$P:$P,0)-2,\"\"))),\"\")","v":""},{"$f":"_xlfn.IFNA(MATCH(ROW()-2,AB:AB,0)-2,\"\")","v":17},"",18,{"$f":"IFERROR(IF(AND(D20<>\"\",F20=\"\",D20<=MAX(F21:F$76)),IF(SMALL(F21:F$76,1)-D20>0,SMALL(F21:F$76,1),SMALL(F21:F$76,2)),\"\"),\"\")","v":""},{"$f":"IFERROR(IF(AND(G20<>\"\",I20=\"\",G20<=MAX(I21:I$76)),IF(SMALL(I21:I$76,1)-G20>0,SMALL(I21:I$76,1),IF(SMALL(I21:I$76,2)>0,SMALL(I21:I$76,2),SMALL(I21:I$76,3))),\"\"),\"\")","v":""},{"$f":"IFERROR(IF(AND(N20<>\"\",P20=\"\",N20<=MAX(P21:P$76)),IF(SMALL(P21:P$76,1)-N20>0,SMALL(P21:P$76,1),SMALL(P21:P$76,2)),\"\"),\"\")","v":""}]
[null,null,null,null,null,null,null,null,null,null,null,null,null,null,"1012M","09:40:00","09:55:00","09:56:00","10:10:00","10:11:00","10:27:00","岡山","特急","やくも12号",null,"",{"$f":"_xlfn.IFNA(MATCH(V21,設定_主要駅!$B$2:$B$15,0),1)","v":1},{"$f":"IF(AD21<=$AK$2,IF(AF21<>\"\",MATCH(AF21,$F:$F,0)-2,IF(AG21<>\"\",MATCH(AG21,$I:$I,0)-2,IF(AH21<>\"\",MATCH(AH21,$P:$P,0)-2,\"\"))),\"\")","v":""},{"$f":"_xlfn.IFNA(MATCH(ROW()-2,AB:AB,0)-2,\"\")","v":""},"",19,{"$f":"IFERROR(IF(AND(D21<>\"\",F21=\"\",D21<=MAX(F22:F$76)),IF(SMALL(F22:F$76,1)-D21>0,SMALL(F22:F$76,1),SMALL(F22:F$76,2)),\"\"),\"\")","v":""},{"$f":"IFERROR(IF(AND(G21<>\"\",I21=\"\",G21<=MAX(I22:I$76)),IF(SMALL(I22:I$76,1)-G21>0,SMALL(I22:I$76,1),IF(SMALL(I22:I$76,2)>0,SMALL(I22:I$76,2),SMALL(I22:I$76,3))),\"\"),\"\")","v":""},{"$f":"IFERROR(IF(AND(N21<>\"\",P21=\"\",N21<=MAX(P22:P$76)),IF(SMALL(P22:P$76,1)-N21>0,SMALL(P22:P$76,1),SMALL(P22:P$76,2)),\"\"),\"\")","v":""}]
[null,null,null,null,"422D","07:00:00","07:51:00","374D","08:00:00","08:25:00",null,null,null,null,null,null,null,null,null,null,null,"江津","普通",null,null,"",{"$f":"_xlfn.IFNA(MATCH(V22,設定_主要駅!$B$2:$B$15,0),1)","v":5},{"$f":"IF(AD22<=$AK$2,IF(AF22<>\"\",MATCH(AF22,$F:$F,0)-2,IF(AG22<>\"\",MATCH(AG22,$I:$I,0)-2,IF(AH22<>\"\",MATCH(AH22,$P:$P,0)-2,\"\"))),\"\")","v":""},{"$f":"_xlfn.IFNA(MATCH(ROW()-2,AB:AB,0)-2,\"\")","v":""},"",20,{"$f":"IFERROR(IF(AND(D22<>\"\",F22=\"\",D22<=MAX(F23:F$76)),IF(SMALL(F23:F$76,1)-D22>0,SMALL(F23:F$76,1),SMALL(F23:F$76,2)),\"\"),\"\")","v":""},{"$f":"IFERROR(IF(AND(G22<>\"\",I22=\"\",G22<=MAX(I23:I$76)),IF(SMALL(I23:I$76,1)-G22>0,SMALL(I23:I$76,1),IF(SMALL(I23:I$76,2)>0,SMALL(I23:I$76,2),SMALL(I23:I$76,3))),\"\"),\"\")","v":""},{"$f":"IFERROR(IF(AND(N22<>\"\",P22=\"\",N22<=MAX(P23:P$76)),IF(SMALL(P23:P$76,1)-N22>0,SMALL(P23:P$76,1),SMALL(P23:P$76,2)),\"\"),\"\")","v":""}]
[null,null,null,null,null,null,null,null,null,null,null,null,null,null,"282M","10:06:00","10:24:00","10:24:00","10:43:00","10:44:00","11:09:00","米子","普通",null,null,{"$f":"IF(AD23<=$AK$2,IF(AF23<>\"\",AF$2,IF(AG23<>\"\",AG$2,IF(AH23<>\"\",AH$2,\"\"))),\"\")","v":""},{"$f":"_xlfn.IFNA(MATCH(V23,設定_主要駅!$B$2:$B$15,0),1)","v":1},{"$f":"IF(AD23<=$AK$2,IF(AF23<>\"\",MATCH(AF23,$F:$F,0)-2,IF(AG23<>\"\",MATCH(AG23,$I:$I,0)-2,IF(AH23<>\"\",MATCH(AH23,$P:$P,0)-2,\"\"))),\"\")","v":""},{"$f":"_xlfn.IFNA(MATCH(ROW()-2,AB:AB,0)-2,\"\")","v":""},{"$f":"IF(AF23<>\"\",AF23-D23,IF(AG23<>\"\",AG23-G23,IF(AH23<>\"\",AH23-N23,\"\")))","v":""},21,{"$f":"IFERROR(IF(AND(D23<>\"\",F23=\"\",D23<=MAX(F24:F$76)),IF(SMALL(F24:F$76,1)-D23>0,SMALL(F24:F$76,1),SMALL(F24:F$76,2)),\"\"),\"\")","v":""},{"$f":"IFERROR(IF(AND(G23<>\"\",I23=\"\",G23<=MAX(I24:I$76)),IF(SMALL(I24:I$76,1)-G23>0,SMALL(I24:I$76,1),IF(SMALL(I24:I$76,2)>0,SMALL(I24:I$76,2),SMALL(I24:I$76,3))),\"\"),\"\")","v":""},{"$f":"IFERROR(IF(AND(N23<>\"\",P23=\"\",N23<=MAX(P24:P$76)),IF(SMALL(P24:P$76,1)-N23>0,SMALL(P24:P$76,1),SMALL(P24:P$76,2)),\"\"),\"\")","v":""}]
[null,null,null,null,null,null,null,null,null,null,null,null,null,null,"1014M","10:38:00","-","-","11:04:00","11:07:00","11:23:00","岡山","特急","やくも14号",null,"",{"$f":"_xlfn.IFNA(MATCH(V24,設定_主要駅!$B$2:$B$15,0),1)","v":1},{"$f":"IF(AD24<=$AK$2,IF(AF24<>\"\",MATCH(AF24,$F:$F,0)-2,IF(AG24<>\"\",MATCH(AG24,$I:$I,0)-2,IF(AH24<>\"\",MATCH(AH24,$P:$P,0)-2,\"\"))),\"\")","v":""},{"$f":"_xlfn.IFNA(MATCH(ROW()-2,AB:AB,0)-2,\"\")","v":""},"",22,{"$f":"IFERROR(IF(AND(D24<>\"\",F24=\"\",D24<=MAX(F25:F$76)),IF(SMALL(F25:F$76,1)-D24>0,SMALL(F25:F$76,1),SMALL(F25:F$76,2)),\"\"),\"\")","v":""},{"$f":"IFERROR(IF(AND(G24<>\"\",I24=\"\",G24<=MAX(I25:I$76)),IF(SMALL(I25:I$76,1)-G24>0,SMALL(I25:I$76,1),IF(SMALL(I25:I$76,2)>0,SMALL(I25:I$76,2),SMALL(I25:I$76,3))),\"\"),\"\")","v":""},{"$f":"IFERROR(IF(AND(N24<>\"\",P24=\"\",N24<=MAX(P25:P$76)),IF(SMALL(P25:P$76,1)-N24>0,SMALL(P25:P$76,1),SMALL(P25:P$76,2)),\"\"),\"\")","v":""}]
[null,null,null,null,null,null,null,null,null,null,null,null,null,null,"134D","10:41:00","11:01:00","11:02:00","11:32:00","11:36:00","12:01:00","米子","普通",null,null,"",{"$f":"_xlfn.IFNA(MATCH(V25,設定_主要駅!$B$2:$B$15,0),1)","v":1},{"$f":"IF(AD25<=$AK$2,IF(AF25<>\"\",MATCH(AF25,$F:$F,0)-2,IF(AG25<>\"\",MATCH(AG25,$I:$I,0)-2,IF(AH25<>\"\",MATCH(AH25,$P:$P,0)-2,\"\"))),\"\")","v":""},{"$f":"_xlfn.IFNA(MATCH(ROW()-2,AB:AB,0)-2,\"\")","v":""},"",23,{"$f":"IFERROR(IF(AND(D25<>\"\",F25=\"\",D25<=MAX(F26:F$76)),IF(SMALL(F26:F$76,1)-D25>0,SMALL(F26:F$76,1),SMALL(F26:F$76,2)),\"\"),\"\")","v":""},{"$f":"IFERROR(IF(AND(G25<>\"\",I25=\"\",G25<=MAX(I26:I$76)),IF(SMALL(I26:I$76,1)-G25>0,SMALL(I26:I$76,1),IF(SMALL(I26:I$76,2)>0,SMALL(I26:I$76,2),SMALL(I26:I$76,3))),\"\"),\"\")","v":""},{"$f":"IFERROR(IF(AND(N25<>\"\",P25=\"\",N25<=MAX(P26:P$76)),IF(SMALL(P26:P$76,1)-N25>0,SMALL(P26:P$76,1),SMALL(P26:P$76,2)),\"\"),\"\")","v":""}]
["2531D","06:45:00","06:57:00","07:26:00",null,null,null,null,null,null,null,null,null,null,null,null,null,null,null,null,null,"益田","普通",null,null,"益田",{"$f":"_xlfn.IFNA(MATCH(V26,設定_主要駅!$B$2:$B$15,0),1)","v":7},{"$f":"IF(AD26<=$AK$2,IF(AF26<>\"\",MATCH(AF26,$F:$F,0)-2,IF(AG26<>\"\",MATCH(AG26,$I:$I,0)-2,IF(AH26<>\"\",MATCH(AH26,$P:$P,0)-2,\"\"))),\"\")","v":25},{"$f":"_xlfn.IFNA(MATCH(ROW()-2,AB:AB,0)-2,\"\")","v":""},"00:11:00",24,{"$f":"IFERROR(IF(AND(D26<>\"\",F26=\"\",D26<=MAX(F27:F$76)),IF(SMALL(F27:F$76,1)-D26>0,SMALL(F27:F$76,1),SMALL(F27:F$76,2)),\"\"),\"\")","v":"07:37:00"},{"$f":"IFERROR(IF(AND(G26<>\"\",I26=\"\",G26<=MAX(I27:I$76)),IF(SMALL(I27:I$76,1)-G26>0,SMALL(I27:I$76,1),IF(SMALL(I27:I$76,2)>0,SMALL(I27:I$76,2),SMALL(I27:I$76,3))),\"\"),\"\")","v":""},{"$f":"IFERROR(IF(AND(N26<>\"\",P26=\"\",N26<=MAX(P27:P$76)),IF(SMALL(P27:P$76,1)-N26>0,SMALL(P27:P$76,1),SMALL(P27:P$76,2)),\"\"),\"\")","v":""}]
[null,null,null,null,"424D","07:37:00","08:31:00",null,null,null,null,null,null,null,null,null,null,null,null,null,null,"浜田","普通",null,null,"",{"$f":"_xlfn.IFNA(MATCH(V27,設定_主要駅!$B$2:$B$15,0),1)","v":6},{"$f":"IF(AD27<=$AK$2,IF(AF27<>\"\",MATCH(AF27,$F:$F,0)-2,IF(AG27<>\"\",MATCH(AG27,$I:$I,0)-2,IF(AH27<>\"\",MATCH(AH27,$P:$P,0)-2,\"\"))),\"\")","v":""},{"$f":"_xlfn.IFNA(MATCH(ROW()-2,AB:AB,0)-2,\"\")","v":24},"00:36:00",25,{"$f":"IFERROR(IF(AND(D27<>\"\",F27=\"\",D27<=MAX(F28:F$76)),IF(SMALL(F28:F$76,1)-D27>0,SMALL(F28:F$76,1),SMALL(F28:F$76,2)),\"\"),\"\")","v":""},{"$f":"IFERROR(IF(AND(G27<>\"\",I27=\"\",G27<=MAX(I28:I$76)),IF(SMALL(I28:I$76,1)-G27>0,SMALL(I28:I$76,1),IF(SMALL(I28:I$76,2)>0,SMALL(I28:I$76,2),SMALL(I28:I$76,3))),\"\"),\"\")","v":"09:07:00"},{"$f":"IFERROR(IF(AND(N27<>\"\",P27=\"\",N27<=MAX(P28:P$76)),IF(SMALL(P28:P$76,1)-N27>0,SMALL(P28:P$76,1),SMALL(P28:P$76,2)),\"\"),\"\")","v":""}]
[null,null,null,null,null,null,null,"324D","09:07:00","09:33:00","09:34:00","10:27:00","10:33:00","11:15:00",null,null,null,null,null,null,null,"出雲市","普通",null,null,"出雲市",{"$f":"_xlfn.IFNA(MATCH(V28,設定_主要駅!$B$2:$B$15,0),1)","v":3},{"$f":"IF(AD28<=$AK$2,IF(AF28<>\"\",MATCH(AF28,$F:$F,0)-2,IF(AG28<>\"\",MATCH(AG28,$I:$I,0)-2,IF(AH28<>\"\",MATCH(AH28,$P:$P,0)-2,\"\"))),\"\")","v":28},{"$f":"_xlfn.IFNA(MATCH(ROW()-2,AB:AB,0)-2,\"\")","v":""},"00:03:00",26,{"$f":"IFERROR(IF(AND(D28<>\"\",F28=\"\",D28<=MAX(F29:F$76)),IF(SMALL(F29:F$76,1)-D28>0,SMALL(F29:F$76,1),SMALL(F29:F$76,2)),\"\"),\"\")","v":""},{"$f":"IFERROR(IF(AND(G28<>\"\",I28=\"\",G28<=MAX(I29:I$76)),IF(SMALL(I29:I$76,1)-G28>0,SMALL(I29:I$76,1),IF(SMALL(I29:I$76,2)>0,SMALL(I29:I$76,2),SMALL(I29:I$76,3))),\"\"),\"\")","v":""},{"$f":"IFERROR(IF(AND(N28<>\"\",P28=\"\",N28<=MAX(P29:P$76)),IF(SMALL(P29:P$76,1)-N28>0,SMALL(P29:P$76,1),SMALL(P29:P$76,2)),\"\"),\"\")","v":"11:18:00"}]
[null,null,null,null,null,null,null,null,null,null,null,null,null,null,"1016M","11:44:00","11:54:00","11:55:00","12:10:00","12:11:00","12:27:00","岡山","特急","やくも16号",null,"",{"$f":"_xlfn.IFNA(MATCH(V29,設定_主要駅!$B$2:$B$15,0),1)","v":1},{"$f":"IF(AD29<=$AK$2,IF(AF29<>\"\",MATCH(AF29,$F:$F,0)-2,IF(AG29<>\"\",MATCH(AG29,$I:$I,0)-2,IF(AH29<>\"\",MATCH(AH29,$P:$P,0)-2,\"\"))),\"\")","v":""},{"$f":"_xlfn.IFNA(MATCH(ROW()-2,AB:AB,0)-2,\"\")","v":""},"",27,{"$f":"IFERROR(IF(AND(D29<>\"\",F29=\"\",D29<=MAX(F30:F$76)),IF(SMALL(F30:F$76,1)-D29>0,SMALL(F30:F$76,1),SMALL(F30:F$76,2)),\"\"),\"\")","v":""},{"$f":"IFERROR(IF(AND(G29<>\"\",I29=\"\",G29<=MAX(I30:I$76)),IF(SMALL(I30:I$76,1)-G29>0,SMALL(I30:I$76,1),IF(SMALL(I30:I$76,2)>0,SMALL(I30:I$76,2),SMALL(I30:I$76,3))),\"\"),\"\")","v":""},{"$f":"IFERROR(IF(AND(N29<>\"\",P29=\"\",N29<=MAX(P30:P$76)),IF(SMALL(P30:P$76,1)-N29>0,SMALL(P30:P$76,1),SMALL(P30:P$76,2)),\"\"),\"\")","v":""}]
[null,null,null,null,null,null,null,null,null,null,null,null,null,null,"136D","11:18:00","11:36:00","11:37:00","12:03:00","12:17:00","12:44:00","米子","普通",null,null,"",{"$f":"_xlfn.IFNA(MATCH(V30,設定_主要駅!$B$2:$B$15,0),1)","v":1},{"$f":"IF(AD30<=$AK$2,IF(AF30<>\"\",MATCH(AF30,$F:$F,0)-2,IF(AG30<>\"\",MATCH(AG30,$I:$I,0)-2,IF(AH30<>\"\",MATCH(AH30,$P:$P,0)-2,\"\"))),\"\")","v":""},{"$f":"_xlfn.IFNA(MATCH(ROW()-2,AB:AB,0)-2,\"\")","v":26},"",28,{"$f":"IFERROR(IF(AND(D30<>\"\",F30=\"\",D30<=MAX(F31:F$76)),IF(SMALL(F31:F$76,1)-D30>0,SMALL(F31:F$76,1),SMALL(F31:F$76,2)),\"\"),\"\")","v":""},{"$f":"IFERROR(IF(AND(G30<>\"\",I30=\"\",G30<=MAX(I31:I$76)),IF(SMALL(I31:I$76,1)-G30>0,SMALL(I31:I$76,1),IF(SMALL(I31:I$76,2)>0,SMALL(I31:I$76,2),SMALL(I31:I$76,3))),\"\"),\"\")","v":""},{"$f":"IFERROR(IF(AND(N30<>\"\",P30=\"\",N30<=MAX(P31:P$76)),IF(SMALL(P31:P$76,1)-N30>0,SMALL(P31:P$76,1),SMALL(P31:P$76,2)),\"\"),\"\")","v":""}]
["2533D","07:53:00","08:05:00","08:34:00",null,null,null,null,null,null,null,null,null,null,null,null,null,null,null,null,null,"益田","普通",null,null,"益田",{"$f":"_xlfn.IFNA(MATCH(V31,設定_主要駅!$B$2:$B$15,0),1)","v":7},{"$f":"IF(AD31<=$AK$2,IF(AF31<>\"\",MATCH(AF31,$F:$F,0)-2,IF(AG31<>\"\",MATCH(AG31,$I:$I,0)-2,IF(AH31<>\"\",MATCH(AH31,$P:$P,0)-2,\"\"))),\"\")","v":30},{"$f":"_xlfn.IFNA(MATCH(ROW()-2,AB:AB,0)-2,\"\")","v":""},"00:32:00",29,{"$f":"IFERROR(IF(AND(D31<>\"\",F31=\"\",D31<=MAX(F32:F$76)),IF(SMALL(F32:F$76,1)-D31>0,SMALL(F32:F$76,1),SMALL(F32:F$76,2)),\"\"),\"\")","v":"09:06:00"},{"$f":"IFERROR(IF(AND(G31<>\"\",I31=\"\",G31<=MAX(I32:I$76)),IF(SMALL(I32:I$76,1)-G31>0,SMALL(I32:I$76,1),IF(SMALL(I32:I$76,2)>0,SMALL(I32:I$76,2),SMALL(I32:I$76,3))),\"\"),\"\")","v":""},{"$f":"IFERROR(IF(AND(N31<>\"\",P31=\"\",N31<=MAX(P32:P$76)),IF(SMALL(P32:P$76,1)-N31>0,SMALL(P32:P$76,1),SMALL(P32:P$76,2)),\"\"),\"\")","v":""}]
[null,null,null,null,"426D","09:06:00","09:58:00",null,null,null,null,null,null,null,null,null,null,null,null,null,null,"浜田","普通",null,null,"",{"$f":"_xlfn.IFNA(MATCH(V32,設定_主要駅!$B$2:$B$15,0),1)","v":6},{"$f":"IF(AD32<=$AK$2,IF(AF32<>\"\",MATCH(AF32,$F:$F,0)-2,IF(AG32<>\"\",MATCH(AG32,$I:$I,0)-2,IF(AH32<>\"\",MATCH(AH32,$P:$P,0)-2,\"\"))),\"\")","v":""},{"$f":"_xlfn.IFNA(MATCH(ROW()-2,AB:AB,0)-2,\"\")","v":29},"01:14:00",30,{"$f":"IFERROR(IF(AND(D32<>\"\",F32=\"\",D32<=MAX(F33:F$76)),IF(SMALL(F33:F$76,1)-D32>0,SMALL(F33:F$76,1),SMALL(F33:F$76,2)),\"\"),\"\")","v":""},{"$f":"IFERROR(IF(AND(G32<>\"\",I32=\"\",G32<=MAX(I33:I$76)),IF(SMALL(I33:I$76,1)-G32>0,SMALL(I33:I$76,1),IF(SMALL(I33:I$76,2)>0,SMALL(I33:I$76,2),SMALL(I33:I$76,3))),\"\"),\"\")","v":"11:12:00"},{"$f":"IFERROR(IF(AND(N32<>\"\",P32=\"\",N32<=MAX(P33:P$76)),IF(SMALL(P33:P$76,1)-N32>0,SMALL(P33:P$76,1),SMALL(P33:P$76,2)),\"\"),\"\")","v":""}]
["3002D","10:03:00","10:14:00","10:35:00",null,"10:37:00","11:10:00",null,"11:12:00","11:27:00","11:28:00","11:55:00","11:56:00","12:20:00",null,"12:22:00","12:34:00","12:35:00","12:49:00","12:50:00","13:09:00","米子","特急","スーパーおき2号",null,"",{"$f":"_xlfn.IFNA(MATCH(V33,設定_主要駅!$B$2:$B$15,0),1)","v":1},{"$f":"IF(AD33<=$AK$2,IF(AF33<>\"\",MATCH(AF33,$F:$F,0)-2,IF(AG33<>\"\",MATCH(AG33,$I:$I,0)-2,IF(AH33<>\"\",MATCH(AH33,$P:$P,0)-2,\"\"))),\"\")","v":""},{"$f":"_xlfn.IFNA(MATCH(ROW()-2,AB:AB,0)-2,\"\")","v":""},"",31,{"$f":"IFERROR(IF(AND(D33<>\"\",F33=\"\",D33<=MAX(F34:F$76)),IF(SMALL(F34:F$76,1)-D33>0,SMALL(F34:F$76,1),SMALL(F34:F$76,2)),\"\"),\"\")","v":""},{"$f":"IFERROR(IF(AND(G33<>\"\",I33=\"\",G33<=MAX(I34:I$76)),IF(SMALL(I34:I$76,1)-G33>0,SMALL(I34:I$76,1),IF(SMALL(I34:I$76,2)>0,SMALL(I34:I$76,2),SMALL(I34:I$76,3))),\"\"),\"\")","v":""},{"$f":"IFERROR(IF(AND(N33<>\"\",P33=\"\",N33<=MAX(P34:P$76)),IF(SMALL(P34:P$76,1)-N33>0,SMALL(P34:P$76,1),SMALL(P34:P$76,2)),\"\"),\"\")","v":""}]
[null,null,null,null,null,null,null,null,null,null,null,null,null,null,"1018M","12:38:00","-","-","13:03:00","13:07:00","13:24:00","岡山","特急","やくも18号",null,"",{"$f":"_xlfn.IFNA(MATCH(V34,設定_主要駅!$B$2:$B$15,0),1)","v":1},{"$f":"IF(AD34<=$AK$2,IF(AF34<>\"\",MATCH(AF34,$F:$F,0)-2,IF(AG34<>\"\",MATCH(AG34,$I:$I,0)-2,IF(AH34<>\"\",MATCH(AH34,$P:$P,0)-2,\"\"))),\"\")","v":""},{"$f":"_xlfn.IFNA(MATCH(ROW()-2,AB:AB,0)-2,\"\")","v":""},"",32,{"$f":"IFERROR(IF(AND(D34<>\"\",F34=\"\",D34<=MAX(F35:F$76)),IF(SMALL(F35:F$76,1)-D34>0,SMALL(F35:F$76,1),SMALL(F35:F$76,2)),\"\"),\"\")","v":""},{"$f":"IFERROR(IF(AND(G34<>\"\",I34=\"\",G34<=MAX(I35:I$76)),IF(SMALL(I35:I$76,1)-G34>0,SMALL(I35:I$76,1),IF(SMALL(I35:I$76,2)>0,SMALL(I35:I$76,2),SMALL(I35:I$76,3))),\"\"),\"\")","v":""},{"$f":"IFERROR(IF(AND(N34<>\"\",P34=\"\",N34<=MAX(P35:P$76)),IF(SMALL(P35:P$76,1)-N34>0,SMALL(P35:P$76,1),SMALL(P35:P$76,2)),\"\"),\"\")","v":""}]
[null,null,null,null,null,null,null,null,null,null,null,null,null,null,"138D","12:52:00","13:12:00","13:15:00","13:36:00","13:40:00","14:05:00","米子","普通",null,null,"",{"$f":"_xlfn.IFNA(MATCH(V35,設定_主要駅!$B$2:$B$15,0),1)","v":1},{"$f":"IF(AD35<=$AK$2,IF(AF35<>\"\",MATCH(AF35,$F:$F,0)-2,IF(AG35<>\"\",MATCH(AG35,$I:$I,0)-2,IF(AH35<>\"\",MATCH(AH35,$P:$P,0)-2,\"\"))),\"\")","v":""},{"$f":"_xlfn.IFNA(MATCH(ROW()-2,AB:AB,0)-2,\"\")","v":""},"",33,{"$f":"IFERROR(IF(AND(D35<>\"\",F35=\"\",D35<=MAX(F36:F$76)),IF(SMALL(F36:F$76,1)-D35>0,SMALL(F36:F$76,1),SMALL(F36:F$76,2)),\"\"),\"\")","v":""},{"$f":"IFERROR(IF(AND(G35<>\"\",I35=\"\",G35<=MAX(I36:I$76)),IF(SMALL(I36:I$76,1)-G35>0,SMALL(I36:I$76,1),IF(SMALL(I36:I$76,2)>0,SMALL(I36:I$76,2),SMALL(I36:I$76,3))),\"\"),\"\")","v":""},{"$f":"IFERROR(IF(AND(N35<>\"\",P35=\"\",N35<=MAX(P36:P$76)),IF(SMALL(P36:P$76,1)-N35>0,SMALL(P36:P$76,1),SMALL(P36:P$76,2)),\"\"),\"\")","v":""}]
[null,null,null,null,"428D","10:44:00","11:44:00",null,null,null,null,null,null,null,null,null,null,null,null,null,null,"浜田","普通",null,null,"浜田",{"$f":"_xlfn.IFNA(MATCH(V36,設定_主要駅!$B$2:$B$15,0),1)","v":6},{"$f":"IF(AD36<=$AK$2,IF(AF36<>\"\",MATCH(AF36,$F:$F,0)-2,IF(AG36<>\"\",MATCH(AG36,$I:$I,0)-2,IF(AH36<>\"\",MATCH(AH36,$P:$P,0)-2,\"\"))),\"\")","v":35},{"$f":"_xlfn.IFNA(MATCH(ROW()-2,AB:AB,0)-2,\"\")","v":""},"00:02:00",34,{"$f":"IFERROR(IF(AND(D36<>\"\",F36=\"\",D36<=MAX(F37:F$76)),IF(SMALL(F37:F$76,1)-D36>0,SMALL(F37:F$76,1),SMALL(F37:F$76,2)),\"\"),\"\")","v":""},{"$f":"IFERROR(IF(AND(G36<>\"\",I36=\"\",G36<=MAX(I37:I$76)),IF(SMALL(I37:I$76,1)-G36>0,SMALL(I37:I$76,1),IF(SMALL(I37:I$76,2)>0,SMALL(I37:I$76,2),SMALL(I37:I$76,3))),\"\"),\"\")","v":"11:46:00"},{"$f":"IFERROR(IF(AND(N36<>\"\",P36=\"\",N36<=MAX(P37:P$76)),IF(SMALL(P37:P$76,1)-N36>0,SMALL(P37:P$76,1),SMALL(P37:P$76,2)),\"\"),\"\")","v":""}]
[null,null,null,null,null,null,null,"326D","11:46:00","12:11:00","12:12:00","12:59:00","13:00:00","13:38:00",null,null,null,null,null,null,null,"出雲市","普通",null,null,"出雲市",{"$f":"_xlfn.IFNA(MATCH(V37,設定_主要駅!$B$2:$B$15,0),1)","v":3},{"$f":"IF(AD37<=$AK$2,IF(AF37<>\"\",MATCH(AF37,$F:$F,0)-2,IF(AG37<>\"\",MATCH(AG37,$I:$I,0)-2,IF(AH37<>\"\",MATCH(AH37,$P:$P,0)-2,\"\"))),\"\")","v":36},{"$f":"_xlfn.IFNA(MATCH(ROW()-2,AB:AB,0)-2,\"\")","v":34},"00:05:00",35,{"$f":"IFERROR(IF(AND(D37<>\"\",F37=\"\",D37<=MAX(F38:F$76)),IF(SMALL(F38:F$76,1)-D37>0,SMALL(F38:F$76,1),SMALL(F38:F$76,2)),\"\"),\"\")","v":""},{"$f":"IFERROR(IF(AND(G37<>\"\",I37=\"\",G37<=MAX(I38:I$76)),IF(SMALL(I38:I$76,1)-G37>0,SMALL(I38:I$76,1),IF(SMALL(I38:I$76,2)>0,SMALL(I38:I$76,2),SMALL(I38:I$76,3))),\"\"),\"\")","v":""},{"$f":"IFERROR(IF(AND(N37<>\"\",P37=\"\",N37<=MAX(P38:P$76)),IF(SMALL(P38:P$76,1)-N37>0,SMALL(P38:P$76,1),SMALL(P38:P$76,2)),\"\"),\"\")","v":"13:43:00"}]
[null,null,null,null,null,null,null,null,null,null,null,null,null,null,"1020M","13:43:00","13:53:00","13:54:00","14:07:00","14:09:00","14:25:00","岡山","特急","やくも20号",null,"",{"$f":"_xlfn.IFNA(MATCH(V38,設定_主要駅!$B$2:$B$15,0),1)","v":1},{"$f":"IF(AD38<=$AK$2,IF(AF38<>\"\",MATCH(AF38,$F:$F,0)-2,IF(AG38<>\"\",MATCH(AG38,$I:$I,0)-2,IF(AH38<>\"\",MATCH(AH38,$P:$P,0)-2,\"\"))),\"\")","v":""},{"$f":"_xlfn.IFNA(MATCH(ROW()-2,AB:AB,0)-2,\"\")","v":35},"",36,{"$f":"IFERROR(IF(AND(D38<>\"\",F38=\"\",D38<=MAX(F39:F$76)),IF(SMALL(F39:F$76,1)-D38>0,SMALL(F39:F$76,1),SMALL(F39:F$76,2)),\"\"),\"\")","v":""},{"$f":"IFERROR(IF(AND(G38<>\"\",I38=\"\",G38<=MAX(I39:I$76)),IF(SMALL(I39:I$76,1)-G38>0,SMALL(I39:I$76,1),IF(SMALL(I39:I$76,2)>0,SMALL(I39:I$76,2),SMALL(I39:I$76,3))),\"\"),\"\")","v":""},{"$f":"IFERROR(IF(AND(N38<>\"\",P38=\"\",N38<=MAX(P39:P$76)),IF(SMALL(P39:P$76,1)-N38>0,SMALL(P39:P$76,1),SMALL(P39:P$76,2)),\"\"),\"\")","v":""}]
[null,null,null,null,null,null,null,null,null,null,null,null,null,null,"140D","13:50:00","14:07:00","14:08:00","14:27:00","14:34:00","14:59:00","出雲市","普通",null,null,"",{"$f":"_xlfn.IFNA(MATCH(V39,設定_主要駅!$B$2:$B$15,0),1)","v":3},{"$f":"IF(AD39<=$AK$2,IF(AF39<>\"\",MATCH(AF39,$F:$F,0)-2,IF(AG39<>\"\",MATCH(AG39,$I:$I,0)-2,IF(AH39<>\"\",MATCH(AH39,$P:$P,0)-2,\"\"))),\"\")","v":""},{"$f":"_xlfn.IFNA(MATCH(ROW()-2,AB:AB,0)-2,\"\")","v":""},"",37,{"$f":"IFERROR(IF(AND(D39<>\"\",F39=\"\",D39<=MAX(F40:F$76)),IF(SMALL(F40:F$76,1)-D39>0,SMALL(F40:F$76,1),SMALL(F40:F$76,2)),\"\"),\"\")","v":""},{"$f":"IFERROR(IF(AND(G39<>\"\",I39=\"\",G39<=MAX(I40:I$76)),IF(SMALL(I40:I$76,1)-G39>0,SMALL(I40:I$76,1),IF(SMALL(I40:I$76,2)>0,SMALL(I40:I$76,2),SMALL(I40:I$76,3))),\"\"),\"\")","v":""},{"$f":"IFERROR(IF(AND(N39<>\"\",P39=\"\",N39<=MAX(P40:P$76)),IF(SMALL(P40:P$76,1)-N39>0,SMALL(P40:P$76,1),SMALL(P40:P$76,2)),\"\"),\"\")","v":""}]
["2541D","11:30:00","11:42:00","12:11:00",null,null,null,null,null,null,null,null,null,null,null,null,null,null,null,null,null,"益田","普通",null,null,"益田",{"$f":"_xlfn.IFNA(MATCH(V40,設定_主要駅!$B$2:$B$15,0),1)","v":7},{"$f":"IF(AD40<=$AK$2,IF(AF40<>\"\",MATCH(AF40,$F:$F,0)-2,IF(AG40<>\"\",MATCH(AG40,$I:$I,0)-2,IF(AH40<>\"\",MATCH(AH40,$P:$P,0)-2,\"\"))),\"\")","v":39},{"$f":"_xlfn.IFNA(MATCH(ROW()-2,AB:AB,0)-2,\"\")","v":""},"00:03:00",38,{"$f":"IFERROR(IF(AND(D40<>\"\",F40=\"\",D40<=MAX(F41:F$76)),IF(SMALL(F41:F$76,1)-D40>0,SMALL(F41:F$76,1),SMALL(F41:F$76,2)),\"\"),\"\")","v":"12:14:00"},{"$f":"IFERROR(IF(AND(G40<>\"\",I40=\"\",G40<=MAX(I41:I$76)),IF(SMALL(I41:I$76,1)-G40>0,SMALL(I41:I$76,1),IF(SMALL(I41:I$76,2)>0,SMALL(I41:I$76,2),SMALL(I41:I$76,3))),\"\"),\"\")","v":""},{"$f":"IFERROR(IF(AND(N40<>\"\",P40=\"\",N40<=MAX(P41:P$76)),IF(SMALL(P41:P$76,1)-N40>0,SMALL(P41:P$76,1),SMALL(P41:P$76,2)),\"\"),\"\")","v":""}]
[null,null,null,null,"2010D","12:14:00","12:48:00",null,"12:50:00","13:04:00","13:05:00","13:32:00","13:33:00","13:58:00",null,"14:01:00","-","-","14:30:00","14:31:00","14:46:00","鳥取","特急","スーパーまつかぜ10号",null,"",{"$f":"_xlfn.IFNA(MATCH(V41,設定_主要駅!$B$2:$B$15,0),1)","v":1},{"$f":"IF(AD41<=$AK$2,IF(AF41<>\"\",MATCH(AF41,$F:$F,0)-2,IF(AG41<>\"\",MATCH(AG41,$I:$I,0)-2,IF(AH41<>\"\",MATCH(AH41,$P:$P,0)-2,\"\"))),\"\")","v":""},{"$f":"_xlfn.IFNA(MATCH(ROW()-2,AB:AB,0)-2,\"\")","v":38},"",39,{"$f":"IFERROR(IF(AND(D41<>\"\",F41=\"\",D41<=MAX(F42:F$76)),IF(SMALL(F42:F$76,1)-D41>0,SMALL(F42:F$76,1),SMALL(F42:F$76,2)),\"\"),\"\")","v":""},{"$f":"IFERROR(IF(AND(G41<>\"\",I41=\"\",G41<=MAX(I42:I$76)),IF(SMALL(I42:I$76,1)-G41>0,SMALL(I42:I$76,1),IF(SMALL(I42:I$76,2)>0,SMALL(I42:I$76,2),SMALL(I42:I$76,3))),\"\"),\"\")","v":""},{"$f":"IFERROR(IF(AND(N41<>\"\",P41=\"\",N41<=MAX(P42:P$76)),IF(SMALL(P42:P$76,1)-N41>0,SMALL(P42:P$76,1),SMALL(P42:P$76,2)),\"\"),\"\")","v":""}]
[null,null,null,null,null,null,null,null,null,null,null,null,null,null,"1022M","14:37:00","-","-","15:08:00","15:09:00","15:27:00","岡山","特急","やくも22号",null,"",{"$f":"_xlfn.IFNA(MATCH(V42,設定_主要駅!$B$2:$B$15,0),1)","v":1},{"$f":"IF(AD42<=$AK$2,IF(AF42<>\"\",MATCH(AF42,$F:$F,0)-2,IF(AG42<>\"\",MATCH(AG42,$I:$I,0)-2,IF(AH42<>\"\",MATCH(AH42,$P:$P,0)-2,\"\"))),\"\")","v":""},{"$f":"_xlfn.IFNA(MATCH(ROW()-2,AB:AB,0)-2,\"\")","v":""},"",40,{"$f":"IFERROR(IF(AND(D42<>\"\",F42=\"\",D42<=MAX(F43:F$76)),IF(SMALL(F43:F$76,1)-D42>0,SMALL(F43:F$76,1),SMALL(F43:F$76,2)),\"\"),\"\")","v":""},{"$f":"IFERROR(IF(AND(G42<>\"\",I42=\"\",G42<=MAX(I43:I$76)),IF(SMALL(I43:I$76,1)-G42>0,SMALL(I43:I$76,1),IF(SMALL(I43:I$76,2)>0,SMALL(I43:I$76,2),SMALL(I43:I$76,3))),\"\"),\"\")","v":""},{"$f":"IFERROR(IF(AND(N42<>\"\",P42=\"\",N42<=MAX(P43:P$76)),IF(SMALL(P43:P$76,1)-N42>0,SMALL(P43:P$76,1),SMALL(P43:P$76,2)),\"\"),\"\")","v":""}]
[null,null,null,null,null,null,null,null,null,null,null,null,null,null,"284M","14:59:00","15:17:00","15:18:00","15:37:00","15:39:00","16:07:00","米子","普通",null,null,"",{"$f":"_xlfn.IFNA(MATCH(V43,設定_主要駅!$B$2:$B$15,0),1)","v":1},{"$f":"IF(AD43<=$AK$2,IF(AF43<>\"\",MATCH(AF43,$F:$F,0)-2,IF(AG43<>\"\",MATCH(AG43,$I:$I,0)-2,IF(AH43<>\"\",MATCH(AH43,$P:$P,0)-2,\"\"))),\"\")","v":""},{"$f":"_xlfn.IFNA(MATCH(ROW()-2,AB:AB,0)-2,\"\")","v":""},"",41,{"$f":"IFERROR(IF(AND(D43<>\"\",F43=\"\",D43<=MAX(F44:F$76)),IF(SMALL(F44:F$76,1)-D43>0,SMALL(F44:F$76,1),SMALL(F44:F$76,2)),\"\"),\"\")","v":""},{"$f":"IFERROR(IF(AND(G43<>\"\",I43=\"\",G43<=MAX(I44:I$76)),IF(SMALL(I44:I$76,1)-G43>0,SMALL(I44:I$76,1),IF(SMALL(I44:I$76,2)>0,SMALL(I44:I$76,2),SMALL(I44:I$76,3))),\"\"),\"\")","v":""},{"$f":"IFERROR(IF(AND(N43<>\"\",P43=\"\",N43<=MAX(P44:P$76)),IF(SMALL(P44:P$76,1)-N43>0,SMALL(P44:P$76,1),SMALL(P44:P$76,2)),\"\"),\"\")","v":""}]
[null,null,null,null,null,null,null,"328D","13:10:00","13:34:00","13:34:00","14:21:00","14:30:00","15:14:00",null,null,null,null,null,null,null,"出雲市","普通",null,null,"出雲市",{"$f":"_xlfn.IFNA(MATCH(V44,設定_主要駅!$B$2:$B$15,0),1)","v":3},{"$f":"IF(AD44<=$AK$2,IF(AF44<>\"\",MATCH(AF44,$F:$F,0)-2,IF(AG44<>\"\",MATCH(AG44,$I:$I,0)-2,IF(AH44<>\"\",MATCH(AH44,$P:$P,0)-2,\"\"))),\"\")","v":43},{"$f":"_xlfn.IFNA(MATCH(ROW()-2,AB:AB,0)-2,\"\")","v":""},"00:15:00",42,{"$f":"IFERROR(IF(AND(D44<>\"\",F44=\"\",D44<=MAX(F45:F$76)),IF(SMALL(F45:F$76,1)-D44>0,SMALL(F45:F$76,1),SMALL(F45:F$76,2)),\"\"),\"\")","v":""},{"$f":"IFERROR(IF(AND(G44<>\"\",I44=\"\",G44<=MAX(I45:I$76)),IF(SMALL(I45:I$76,1)-G44>0,SMALL(I45:I$76,1),IF(SMALL(I45:I$76,2)>0,SMALL(I45:I$76,2),SMALL(I45:I$76,3))),\"\"),\"\")","v":""},{"$f":"IFERROR(IF(AND(N44<>\"\",P44=\"\",N44<=MAX(P45:P$76)),IF(SMALL(P45:P$76,1)-N44>0,SMALL(P45:P$76,1),SMALL(P45:P$76,2)),\"\"),\"\")","v":"15:29:00"}]
[null,null,null,null,null,null,null,null,null,null,null,null,null,null,"142D","15:29:00","15:59:00","15:59:00","16:20:00","16:21:00","16:55:00","米子","普通",null,null,"",{"$f":"_xlfn.IFNA(MATCH(V45,設定_主要駅!$B$2:$B$15,0),1)","v":1},{"$f":"IF(AD45<=$AK$2,IF(AF45<>\"\",MATCH(AF45,$F:$F,0)-2,IF(AG45<>\"\",MATCH(AG45,$I:$I,0)-2,IF(AH45<>\"\",MATCH(AH45,$P:$P,0)-2,\"\"))),\"\")","v":""},{"$f":"_xlfn.IFNA(MATCH(ROW()-2,AB:AB,0)-2,\"\")","v":42},"",43,{"$f":"IFERROR(IF(AND(D45<>\"\",F45=\"\",D45<=MAX(F46:F$76)),IF(SMALL(F46:F$76,1)-D45>0,SMALL(F46:F$76,1),SMALL(F46:F$76,2)),\"\"),\"\")","v":""},{"$f":"IFERROR(IF(AND(G45<>\"\",I45=\"\",G45<=MAX(I46:I$76)),IF(SMALL(I46:I$76,1)-G45>0,SMALL(I46:I$76,1),IF(SMALL(I46:I$76,2)>0,SMALL(I46:I$76,2),SMALL(I46:I$76,3))),\"\"),\"\")","v":""},{"$f":"IFERROR(IF(AND(N45<>\"\",P45=\"\",N45<=MAX(P46:P$76)),IF(SMALL(P46:P$76,1)-N45>0,SMALL(P46:P$76,1),SMALL(P46:P$76,2)),\"\"),\"\")","v":""}]
[null,null,null,null,null,null,null,null,null,null,null,null,null,null,"1024M","15:35:00","15:48:00","15:49:00","16:05:00","16:06:00","16:22:00","岡山","特急","やくも24号",null,"",{"$f":"_xlfn.IFNA(MATCH(V46,設定_主要駅!$B$2:$B$15,0),1)","v":1},{"$f":"IF(AD46<=$AK$2,IF(AF46<>\"\",MATCH(AF46,$F:$F,0)-2,IF(AG46<>\"\",MATCH(AG46,$I:$I,0)-2,IF(AH46<>\"\",MATCH(AH46,$P:$P,0)-2,\"\"))),\"\")","v":""},{"$f":"_xlfn.IFNA(MATCH(ROW()-2,AB:AB,0)-2,\"\")","v":""},"",44,{"$f":"IFERROR(IF(AND(D46<>\"\",F46=\"\",D46<=MAX(F47:F$76)),IF(SMALL(F47:F$76,1)-D46>0,SMALL(F47:F$76,1),SMALL(F47:F$76,2)),\"\"),\"\")","v":""},{"$f":"IFERROR(IF(AND(G46<>\"\",I46=\"\",G46<=MAX(I47:I$76)),IF(SMALL(I47:I$76,1)-G46>0,SMALL(I47:I$76,1),IF(SMALL(I47:I$76,2)>0,SMALL(I47:I$76,2),SMALL(I47:I$76,3))),\"\"),\"\")","v":""},{"$f":"IFERROR(IF(AND(N46<>\"\",P46=\"\",N46<=MAX(P47:P$76)),IF(SMALL(P47:P$76,1)-N46>0,SMALL(P47:P$76,1),SMALL(P47:P$76,2)),\"\"),\"\")","v":""}]
[null,null,null,null,null,null,null,null,null,null,null,null,null,null,"144D","16:07:00","16:36:00","16:39:00","17:02:00","17:14:00","17:39:00","米子","普通",null,null,"",{"$f":"_xlfn.IFNA(MATCH(V47,設定_主要駅!$B$2:$B$15,0),1)","v":1},{"$f":"IF(AD47<=$AK$2,IF(AF47<>\"\",MATCH(AF47,$F:$F,0)-2,IF(AG47<>\"\",MATCH(AG47,$I:$I,0)-2,IF(AH47<>\"\",MATCH(AH47,$P:$P,0)-2,\"\"))),\"\")","v":""},{"$f":"_xlfn.IFNA(MATCH(ROW()-2,AB:AB,0)-2,\"\")","v":""},"",45,{"$f":"IFERROR(IF(AND(D47<>\"\",F47=\"\",D47<=MAX(F48:F$76)),IF(SMALL(F48:F$76,1)-D47>0,SMALL(F48:F$76,1),SMALL(F48:F$76,2)),\"\"),\"\")","v":""},{"$f":"IFERROR(IF(AND(G47<>\"\",I47=\"\",G47<=MAX(I48:I$76)),IF(SMALL(I48:I$76,1)-G47>0,SMALL(I48:I$76,1),IF(SMALL(I48:I$76,2)>0,SMALL(I48:I$76,2),SMALL(I48:I$76,3))),\"\"),\"\")","v":""},{"$f":"IFERROR(IF(AND(N47<>\"\",P47=\"\",N47<=MAX(P48:P$76)),IF(SMALL(P48:P$76,1)-N47>0,SMALL(P48:P$76,1),SMALL(P48:P$76,2)),\"\"),\"\")","v":""}]
[null,null,null,null,"430D","13:24:00","14:15:00",null,null,null,null,null,null,null,null,null,null,null,null,null,null,"浜田","普通",null,null,"",{"$f":"_xlfn.IFNA(MATCH(V48,設定_主要駅!$B$2:$B$15,0),1)","v":6},{"$f":"IF(AD48<=$AK$2,IF(AF48<>\"\",MATCH(AF48,$F:$F,0)-2,IF(AG48<>\"\",MATCH(AG48,$I:$I,0)-2,IF(AH48<>\"\",MATCH(AH48,$P:$P,0)-2,\"\"))),\"\")","v":""},{"$f":"_xlfn.IFNA(MATCH(ROW()-2,AB:AB,0)-2,\"\")","v":""},"00:53:00",46,{"$f":"IFERROR(IF(AND(D48<>\"\",F48=\"\",D48<=MAX(F49:F$76)),IF(SMALL(F49:F$76,1)-D48>0,SMALL(F49:F$76,1),SMALL(F49:F$76,2)),\"\"),\"\")","v":""},{"$f":"IFERROR(IF(AND(G48<>\"\",I48=\"\",G48<=MAX(I49:I$76)),IF(SMALL(I49:I$76,1)-G48>0,SMALL(I49:I$76,1),IF(SMALL(I49:I$76,2)>0,SMALL(I49:I$76,2),SMALL(I49:I$76,3))),\"\"),\"\")","v":"15:08:00"},{"$f":"IFERROR(IF(AND(N48<>\"\",P48=\"\",N48<=MAX(P49:P$76)),IF(SMALL(P49:P$76,1)-N48>0,SMALL(P49:P$76,1),SMALL(P49:P$76,2)),\"\"),\"\")","v":""}]
["3004D","13:58:00","14:09:00","14:30:00",null,"14:34:00","15:07:00",null,"15:08:00","15:24:00","15:25:00","15:52:00","15:53:00","16:17:00",null,"16:19:00","16:29:00","16:30:00","16:44:00","16:46:00","17:03:00","鳥取","特急","スーパーおき4号",null,"",{"$f":"_xlfn.IFNA(MATCH(V49,設定_主要駅!$B$2:$B$15,0),1)","v":1},{"$f":"IF(AD49<=$AK$2,IF(AF49<>\"\",MATCH(AF49,$F:$F,0)-2,IF(AG49<>\"\",MATCH(AG49,$I:$I,0)-2,IF(AH49<>\"\",MATCH(AH49,$P:$P,0)-2,\"\"))),\"\")","v":""},{"$f":"_xlfn.IFNA(MATCH(ROW()-2,AB:AB,0)-2,\"\")","v":""},"",47,{"$f":"IFERROR(IF(AND(D49<>\"\",F49=\"\",D49<=MAX(F50:F$76)),IF(SMALL(F50:F$76,1)-D49>0,SMALL(F50:F$76,1),SMALL(F50:F$76,2)),\"\"),\"\")","v":""},{"$f":"IFERROR(IF(AND(G49<>\"\",I49=\"\",G49<=MAX(I50:I$76)),IF(SMALL(I50:I$76,1)-G49>0,SMALL(I50:I$76,1),IF(SMALL(I50:I$76,2)>0,SMALL(I50:I$76,2),SMALL(I50:I$76,3))),\"\"),\"\")","v":""},{"$f":"IFERROR(IF(AND(N49<>\"\",P49=\"\",N49<=MAX(P50:P$76)),IF(SMALL(P50:P$76,1)-N49>0,SMALL(P50:P$76,1),SMALL(P50:P$76,2)),\"\"),\"\")","v":""}]
[null,null,null,null,null,null,null,null,null,null,null,null,null,null,"1026M","16:41:00","16:52:00","16:52:00","17:08:00","17:10:00","17:26:00","岡山","特急","やくも26号",null,"",{"$f":"_xlfn.IFNA(MATCH(V50,設定_主要駅!$B$2:$B$15,0),1)","v":1},{"$f":"IF(AD50<=$AK$2,IF(AF50<>\"\",MATCH(AF50,$F:$F,0)-2,IF(AG50<>\"\",MATCH(AG50,$I:$I,0)-2,IF(AH50<>\"\",MATCH(AH50,$P:$P,0)-2,\"\"))),\"\")","v":""},{"$f":"_xlfn.IFNA(MATCH(ROW()-2,AB:AB,0)-2,\"\")","v":""},"",48,{"$f":"IFERROR(IF(AND(D50<>\"\",F50=\"\",D50<=MAX(F51:F$76)),IF(SMALL(F51:F$76,1)-D50>0,SMALL(F51:F$76,1),SMALL(F51:F$76,2)),\"\"),\"\")","v":""},{"$f":"IFERROR(IF(AND(G50<>\"\",I50=\"\",G50<=MAX(I51:I$76)),IF(SMALL(I51:I$76,1)-G50>0,SMALL(I51:I$76,1),IF(SMALL(I51:I$76,2)>0,SMALL(I51:I$76,2),SMALL(I51:I$76,3))),\"\"),\"\")","v":""},{"$f":"IFERROR(IF(AND(N50<>\"\",P50=\"\",N50<=MAX(P51:P$76)),IF(SMALL(P51:P$76,1)-N50>0,SMALL(P51:P$76,1),SMALL(P51:P$76,2)),\"\"),\"\")","v":""}]
[null,null,null,null,null,null,null,null,null,null,null,null,null,null,"146D","17:12:00","17:30:00","17:31:00","17:51:00","18:13:00","18:38:00","米子","普通",null,null,"",{"$f":"_xlfn.IFNA(MATCH(V51,設定_主要駅!$B$2:$B$15,0),1)","v":1},{"$f":"IF(AD51<=$AK$2,IF(AF51<>\"\",MATCH(AF51,$F:$F,0)-2,IF(AG51<>\"\",MATCH(AG51,$I:$I,0)-2,IF(AH51<>\"\",MATCH(AH51,$P:$P,0)-2,\"\"))),\"\")","v":""},{"$f":"_xlfn.IFNA(MATCH(ROW()-2,AB:AB,0)-2,\"\")","v":""},"",49,{"$f":"IFERROR(IF(AND(D51<>\"\",F51=\"\",D51<=MAX(F52:F$76)),IF(SMALL(F52:F$76,1)-D51>0,SMALL(F52:F$76,1),SMALL(F52:F$76,2)),\"\"),\"\")","v":""},{"$f":"IFERROR(IF(AND(G51<>\"\",I51=\"\",G51<=MAX(I52:I$76)),IF(SMALL(I52:I$76,1)-G51>0,SMALL(I52:I$76,1),IF(SMALL(I52:I$76,2)>0,SMALL(I52:I$76,2),SMALL(I52:I$76,3))),\"\"),\"\")","v":""},{"$f":"IFERROR(IF(AND(N51<>\"\",P51=\"\",N51<=MAX(P52:P$76)),IF(SMALL(P52:P$76,1)-N51>0,SMALL(P52:P$76,1),SMALL(P52:P$76,2)),\"\"),\"\")","v":""}]
[null,null,null,null,null,null,null,null,null,null,null,null,null,null,"1028M","17:28:00","17:39:00","17:40:00","17:55:00","17:56:00","18:12:00","岡山","特急","やくも28号",null,"",{"$f":"_xlfn.IFNA(MATCH(V52,設定_主要駅!$B$2:$B$15,0),1)","v":1},{"$f":"IF(AD52<=$AK$2,IF(AF52<>\"\",MATCH(AF52,$F:$F,0)-2,IF(AG52<>\"\",MATCH(AG52,$I:$I,0)-2,IF(AH52<>\"\",MATCH(AH52,$P:$P,0)-2,\"\"))),\"\")","v":""},{"$f":"_xlfn.IFNA(MATCH(ROW()-2,AB:AB,0)-2,\"\")","v":""},"",50,{"$f":"IFERROR(IF(AND(D52<>\"\",F52=\"\",D52<=MAX(F53:F$76)),IF(SMALL(F53:F$76,1)-D52>0,SMALL(F53:F$76,1),SMALL(F53:F$76,2)),\"\"),\"\")","v":""},{"$f":"IFERROR(IF(AND(G52<>\"\",I52=\"\",G52<=MAX(I53:I$76)),IF(SMALL(I53:I$76,1)-G52>0,SMALL(I53:I$76,1),IF(SMALL(I53:I$76,2)>0,SMALL(I53:I$76,2),SMALL(I53:I$76,3))),\"\"),\"\")","v":""},{"$f":"IFERROR(IF(AND(N52<>\"\",P52=\"\",N52<=MAX(P53:P$76)),IF(SMALL(P53:P$76,1)-N52>0,SMALL(P53:P$76,1),SMALL(P53:P$76,2)),\"\"),\"\")","v":""}]
[null,null,null,null,null,null,null,"330D","15:40:00","16:07:00","16:08:00","16:59:00","17:16:00","17:59:00",null,null,null,null,null,null,null,"出雲市","普通",null,null,"出雲市",{"$f":"_xlfn.IFNA(MATCH(V53,設定_主要駅!$B$2:$B$15,0),1)","v":3},{"$f":"IF(AD53<=$AK$2,IF(AF53<>\"\",MATCH(AF53,$F:$F,0)-2,IF(AG53<>\"\",MATCH(AG53,$I:$I,0)-2,IF(AH53<>\"\",MATCH(AH53,$P:$P,0)-2,\"\"))),\"\")","v":53},{"$f":"_xlfn.IFNA(MATCH(ROW()-2,AB:AB,0)-2,\"\")","v":""},"00:02:00",51,{"$f":"IFERROR(IF(AND(D53<>\"\",F53=\"\",D53<=MAX(F54:F$76)),IF(SMALL(F54:F$76,1)-D53>0,SMALL(F54:F$76,1),SMALL(F54:F$76,2)),\"\"),\"\")","v":""},{"$f":"IFERROR(IF(AND(G53<>\"\",I53=\"\",G53<=MAX(I54:I$76)),IF(SMALL(I54:I$76,1)-G53>0,SMALL(I54:I$76,1),IF(SMALL(I54:I$76,2)>0,SMALL(I54:I$76,2),SMALL(I54:I$76,3))),\"\"),\"\")","v":""},{"$f":"IFERROR(IF(AND(N53<>\"\",P53=\"\",N53<=MAX(P54:P$76)),IF(SMALL(P54:P$76,1)-N53>0,SMALL(P54:P$76,1),SMALL(P54:P$76,2)),\"\"),\"\")","v":"18:01:00"}]
[null,null,null,null,"2012D","15:48:00","16:23:00",null,"16:27:00","16:42:00","16:43:00","17:09:00","17:10:00","17:33:00",null,"17:35:00","-","-","18:08:00","18:09:00","-","鳥取","特急","スーパーまつかぜ12号",null,"",{"$f":"_xlfn.IFNA(MATCH(V54,設定_主要駅!$B$2:$B$15,0),1)","v":1},{"$f":"IF(AD54<=$AK$2,IF(AF54<>\"\",MATCH(AF54,$F:$F,0)-2,IF(AG54<>\"\",MATCH(AG54,$I:$I,0)-2,IF(AH54<>\"\",MATCH(AH54,$P:$P,0)-2,\"\"))),\"\")","v":""},{"$f":"_xlfn.IFNA(MATCH(ROW()-2,AB:AB,0)-2,\"\")","v":""},"",52,{"$f":"IFERROR(IF(AND(D54<>\"\",F54=\"\",D54<=MAX(F55:F$76)),IF(SMALL(F55:F$76,1)-D54>0,SMALL(F55:F$76,1),SMALL(F55:F$76,2)),\"\"),\"\")","v":""},{"$f":"IFERROR(IF(AND(G54<>\"\",I54=\"\",G54<=MAX(I55:I$76)),IF(SMALL(I55:I$76,1)-G54>0,SMALL(I55:I$76,1),IF(SMALL(I55:I$76,2)>0,SMALL(I55:I$76,2),SMALL(I55:I$76,3))),\"\"),\"\")","v":""},{"$f":"IFERROR(IF(AND(N54<>\"\",P54=\"\",N54<=MAX(P55:P$76)),IF(SMALL(P55:P$76,1)-N54>0,SMALL(P55:P$76,1),SMALL(P55:P$76,2)),\"\"),\"\")","v":""}]
[null,null,null,null,null,null,null,null,null,null,null,null,null,null,"286M","18:01:00","18:19:00","18:20:00","18:49:00","19:05:00","19:31:00","新見","普通",null,null,"",{"$f":"_xlfn.IFNA(MATCH(V55,設定_主要駅!$B$2:$B$15,0),1)","v":1},{"$f":"IF(AD55<=$AK$2,IF(AF55<>\"\",MATCH(AF55,$F:$F,0)-2,IF(AG55<>\"\",MATCH(AG55,$I:$I,0)-2,IF(AH55<>\"\",MATCH(AH55,$P:$P,0)-2,\"\"))),\"\")","v":""},{"$f":"_xlfn.IFNA(MATCH(ROW()-2,AB:AB,0)-2,\"\")","v":51},"",53,{"$f":"IFERROR(IF(AND(D55<>\"\",F55=\"\",D55<=MAX(F56:F$76)),IF(SMALL(F56:F$76,1)-D55>0,SMALL(F56:F$76,1),SMALL(F56:F$76,2)),\"\"),\"\")","v":""},{"$f":"IFERROR(IF(AND(G55<>\"\",I55=\"\",G55<=MAX(I56:I$76)),IF(SMALL(I56:I$76,1)-G55>0,SMALL(I56:I$76,1),IF(SMALL(I56:I$76,2)>0,SMALL(I56:I$76,2),SMALL(I56:I$76,3))),\"\"),\"\")","v":""},{"$f":"IFERROR(IF(AND(N55<>\"\",P55=\"\",N55<=MAX(P56:P$76)),IF(SMALL(P56:P$76,1)-N55>0,SMALL(P56:P$76,1),SMALL(P56:P$76,2)),\"\"),\"\")","v":""}]
[null,null,null,null,null,null,null,null,null,null,null,null,null,null,"1030M","18:32:00","18:43:00","18:45:00","18:58:00","18:59:00","19:18:00","岡山","特急","やくも30号",null,"",{"$f":"_xlfn.IFNA(MATCH(V56,設定_主要駅!$B$2:$B$15,0),1)","v":1},{"$f":"IF(AD56<=$AK$2,IF(AF56<>\"\",MATCH(AF56,$F:$F,0)-2,IF(AG56<>\"\",MATCH(AG56,$I:$I,0)-2,IF(AH56<>\"\",MATCH(AH56,$P:$P,0)-2,\"\"))),\"\")","v":""},{"$f":"_xlfn.IFNA(MATCH(ROW()-2,AB:AB,0)-2,\"\")","v":""},"",54,{"$f":"IFERROR(IF(AND(D56<>\"\",F56=\"\",D56<=MAX(F57:F$76)),IF(SMALL(F57:F$76,1)-D56>0,SMALL(F57:F$76,1),SMALL(F57:F$76,2)),\"\"),\"\")","v":""},{"$f":"IFERROR(IF(AND(G56<>\"\",I56=\"\",G56<=MAX(I57:I$76)),IF(SMALL(I57:I$76,1)-G56>0,SMALL(I57:I$76,1),IF(SMALL(I57:I$76,2)>0,SMALL(I57:I$76,2),SMALL(I57:I$76,3))),\"\"),\"\")","v":""},{"$f":"IFERROR(IF(AND(N56<>\"\",P56=\"\",N56<=MAX(P57:P$76)),IF(SMALL(P57:P$76,1)-N56>0,SMALL(P57:P$76,1),SMALL(P57:P$76,2)),\"\"),\"\")","v":""}]
[null,null,null,null,"432D","15:22:00","16:14:00",null,null,null,null,null,null,null,null,null,null,null,null,null,null,"浜田","普通",null,null,"浜田",{"$f":"_xlfn.IFNA(MATCH(V57,設定_主要駅!$B$2:$B$15,0),1)","v":6},{"$f":"IF(AD57<=$AK$2,IF(AF57<>\"\",MATCH(AF57,$F:$F,0)-2,IF(AG57<>\"\",MATCH(AG57,$I:$I,0)-2,IF(AH57<>\"\",MATCH(AH57,$P:$P,0)-2,\"\"))),\"\")","v":56},{"$f":"_xlfn.IFNA(MATCH(ROW()-2,AB:AB,0)-2,\"\")","v":""},"00:23:00",55,{"$f":"IFERROR(IF(AND(D57<>\"\",F57=\"\",D57<=MAX(F58:F$76)),IF(SMALL(F58:F$76,1)-D57>0,SMALL(F58:F$76,1),SMALL(F58:F$76,2)),\"\"),\"\")","v":""},{"$f":"IFERROR(IF(AND(G57<>\"\",I57=\"\",G57<=MAX(I58:I$76)),IF(SMALL(I58:I$76,1)-G57>0,SMALL(I58:I$76,1),IF(SMALL(I58:I$76,2)>0,SMALL(I58:I$76,2),SMALL(I58:I$76,3))),\"\"),\"\")","v":"16:37:00"},{"$f":"IFERROR(IF(AND(N57<>\"\",P57=\"\",N57<=MAX(P58:P$76)),IF(SMALL(P58:P$76,1)-N57>0,SMALL(P58:P$76,1),SMALL(P58:P$76,2)),\"\"),\"\")","v":""}]
[null,null,null,null,null,null,null,"332D","16:37:00","17:02:00","17:03:00","18:14:00","18:15:00","18:55:00",null,null,null,null,null,null,null,"出雲市","普通",null,null,"出雲市",{"$f":"_xlfn.IFNA(MATCH(V58,設定_主要駅!$B$2:$B$15,0),1)","v":3},{"$f":"IF(AD58<=$AK$2,IF(AF58<>\"\",MATCH(AF58,$F:$F,0)-2,IF(AG58<>\"\",MATCH(AG58,$I:$I,0)-2,IF(AH58<>\"\",MATCH(AH58,$P:$P,0)-2,\"\"))),\"\")","v":57},{"$f":"_xlfn.IFNA(MATCH(ROW()-2,AB:AB,0)-2,\"\")","v":55},"00:02:00",56,{"$f":"IFERROR(IF(AND(D58<>\"\",F58=\"\",D58<=MAX(F59:F$76)),IF(SMALL(F59:F$76,1)-D58>0,SMALL(F59:F$76,1),SMALL(F59:F$76,2)),\"\"),\"\")","v":""},{"$f":"IFERROR(IF(AND(G58<>\"\",I58=\"\",G58<=MAX(I59:I$76)),IF(SMALL(I59:I$76,1)-G58>0,SMALL(I59:I$76,1),IF(SMALL(I59:I$76,2)>0,SMALL(I59:I$76,2),SMALL(I59:I$76,3))),\"\"),\"\")","v":""},{"$f":"IFERROR(IF(AND(N58<>\"\",P58=\"\",N58<=MAX(P59:P$76)),IF(SMALL(P59:P$76,1)-N58>0,SMALL(P59:P$76,1),SMALL(P59:P$76,2)),\"\"),\"\")","v":"18:57:00"}]
[null,null,null,null,null,null,null,null,null,null,null,null,null,null,"4032M","18:57:00","19:10:00","19:11:00","19:26:00","19:27:00","19:44:00","東京","特急","サンライズ出雲",null,"",{"$f":"_xlfn.IFNA(MATCH(V59,設定_主要駅!$B$2:$B$15,0),1)","v":1},{"$f":"IF(AD59<=$AK$2,IF(AF59<>\"\",MATCH(AF59,$F:$F,0)-2,IF(AG59<>\"\",MATCH(AG59,$I:$I,0)-2,IF(AH59<>\"\",MATCH(AH59,$P:$P,0)-2,\"\"))),\"\")","v":""},{"$f":"_xlfn.IFNA(MATCH(ROW()-2,AB:AB,0)-2,\"\")","v":56},"",57,{"$f":"IFERROR(IF(AND(D59<>\"\",F59=\"\",D59<=MAX(F60:F$76)),IF(SMALL(F60:F$76,1)-D59>0,SMALL(F60:F$76,1),SMALL(F60:F$76,2)),\"\"),\"\")","v":""},{"$f":"IFERROR(IF(AND(G59<>\"\",I59=\"\",G59<=MAX(I60:I$76)),IF(SMALL(I60:I$76,1)-G59>0,SMALL(I60:I$76,1),IF(SMALL(I60:I$76,2)>0,SMALL(I60:I$76,2),SMALL(I60:I$76,3))),\"\"),\"\")","v":""},{"$f":"IFERROR(IF(AND(N59<>\"\",P59=\"\",N59<=MAX(P60:P$76)),IF(SMALL(P60:P$76,1)-N59>0,SMALL(P60:P$76,1),SMALL(P60:P$76,2)),\"\"),\"\")","v":""}]
[null,null,null,null,null,null,null,null,null,null,null,null,null,null,"148D","19:00:00","19:17:00","19:20:00","19:40:00","19:41:00","20:03:00","米子","普通",null,null,"",{"$f":"_xlfn.IFNA(MATCH(V60,設定_主要駅!$B$2:$B$15,0),1)","v":1},{"$f":"IF(AD60<=$AK$2,IF(AF60<>\"\",MATCH(AF60,$F:$F,0)-2,IF(AG60<>\"\",MATCH(AG60,$I:$I,0)-2,IF(AH60<>\"\",MATCH(AH60,$P:$P,0)-2,\"\"))),\"\")","v":""},{"$f":"_xlfn.IFNA(MATCH(ROW()-2,AB:AB,0)-2,\"\")","v":""},"",58,{"$f":"IFERROR(IF(AND(D60<>\"\",F60=\"\",D60<=MAX(F61:F$76)),IF(SMALL(F61:F$76,1)-D60>0,SMALL(F61:F$76,1),SMALL(F61:F$76,2)),\"\"),\"\")","v":""},{"$f":"IFERROR(IF(AND(G60<>\"\",I60=\"\",G60<=MAX(I61:I$76)),IF(SMALL(I61:I$76,1)-G60>0,SMALL(I61:I$76,1),IF(SMALL(I61:I$76,2)>0,SMALL(I61:I$76,2),SMALL(I61:I$76,3))),\"\"),\"\")","v":""},{"$f":"IFERROR(IF(AND(N60<>\"\",P60=\"\",N60<=MAX(P61:P$76)),IF(SMALL(P61:P$76,1)-N60>0,SMALL(P61:P$76,1),SMALL(P61:P$76,2)),\"\"),\"\")","v":""}]
[null,null,null,null,null,null,null,null,null,null,null,null,null,null,"150D","19:32:00","19:52:00","19:54:00","20:16:00","20:24:00","20:55:00","米子","普通",null,null,"",{"$f":"_xlfn.IFNA(MATCH(V61,設定_主要駅!$B$2:$B$15,0),1)","v":1},{"$f":"IF(AD61<=$AK$2,IF(AF61<>\"\",MATCH(AF61,$F:$F,0)-2,IF(AG61<>\"\",MATCH(AG61,$I:$I,0)-2,IF(AH61<>\"\",MATCH(AH61,$P:$P,0)-2,\"\"))),\"\")","v":""},{"$f":"_xlfn.IFNA(MATCH(ROW()-2,AB:AB,0)-2,\"\")","v":""},"",59,{"$f":"IFERROR(IF(AND(D61<>\"\",F61=\"\",D61<=MAX(F62:F$76)),IF(SMALL(F62:F$76,1)-D61>0,SMALL(F62:F$76,1),SMALL(F62:F$76,2)),\"\"),\"\")","v":""},{"$f":"IFERROR(IF(AND(G61<>\"\",I61=\"\",G61<=MAX(I62:I$76)),IF(SMALL(I62:I$76,1)-G61>0,SMALL(I62:I$76,1),IF(SMALL(I62:I$76,2)>0,SMALL(I62:I$76,2),SMALL(I62:I$76,3))),\"\"),\"\")","v":""},{"$f":"IFERROR(IF(AND(N61<>\"\",P61=\"\",N61<=MAX(P62:P$76)),IF(SMALL(P62:P$76,1)-N61>0,SMALL(P62:P$76,1),SMALL(P62:P$76,2)),\"\"),\"\")","v":""}]
["2545D","15:20:00","15:32:00","16:00:00",null,null,null,null,null,null,null,null,null,null,null,null,null,null,null,null,null,"益田","普通",null,null,"",{"$f":"_xlfn.IFNA(MATCH(V62,設定_主要駅!$B$2:$B$15,0),1)","v":7},{"$f":"IF(AD62<=$AK$2,IF(AF62<>\"\",MATCH(AF62,$F:$F,0)-2,IF(AG62<>\"\",MATCH(AG62,$I:$I,0)-2,IF(AH62<>\"\",MATCH(AH62,$P:$P,0)-2,\"\"))),\"\")","v":""},{"$f":"_xlfn.IFNA(MATCH(ROW()-2,AB:AB,0)-2,\"\")","v":""},"01:37:00",60,{"$f":"IFERROR(IF(AND(D62<>\"\",F62=\"\",D62<=MAX(F63:F$76)),IF(SMALL(F63:F$76,1)-D62>0,SMALL(F63:F$76,1),SMALL(F63:F$76,2)),\"\"),\"\")","v":"17:37:00"},{"$f":"IFERROR(IF(AND(G62<>\"\",I62=\"\",G62<=MAX(I63:I$76)),IF(SMALL(I63:I$76,1)-G62>0,SMALL(I63:I$76,1),IF(SMALL(I63:I$76,2)>0,SMALL(I63:I$76,2),SMALL(I63:I$76,3))),\"\"),\"\")","v":""},{"$f":"IFERROR(IF(AND(N62<>\"\",P62=\"\",N62<=MAX(P63:P$76)),IF(SMALL(P63:P$76,1)-N62>0,SMALL(P63:P$76,1),SMALL(P63:P$76,2)),\"\"),\"\")","v":""}]
["3006D","17:21:00","17:32:00","18:00:00",null,"18:01:00","18:36:00",null,"18:39:00","18:53:00","18:54:00","19:23:00","19:24:00","19:51:00",null,"19:53:00","20:03:00","20:04:00","20:19:00","20:20:00","20:35:00","米子","特急","スーパーおき6号",null,"",{"$f":"_xlfn.IFNA(MATCH(V63,設定_主要駅!$B$2:$B$15,0),1)","v":1},{"$f":"IF(AD63<=$AK$2,IF(AF63<>\"\",MATCH(AF63,$F:$F,0)-2,IF(AG63<>\"\",MATCH(AG63,$I:$I,0)-2,IF(AH63<>\"\",MATCH(AH63,$P:$P,0)-2,\"\"))),\"\")","v":""},{"$f":"_xlfn.IFNA(MATCH(ROW()-2,AB:AB,0)-2,\"\")","v":""},"",61,{"$f":"IFERROR(IF(AND(D63<>\"\",F63=\"\",D63<=MAX(F64:F$76)),IF(SMALL(F64:F$76,1)-D63>0,SMALL(F64:F$76,1),SMALL(F64:F$76,2)),\"\"),\"\")","v":""},{"$f":"IFERROR(IF(AND(G63<>\"\",I63=\"\",G63<=MAX(I64:I$76)),IF(SMALL(I64:I$76,1)-G63>0,SMALL(I64:I$76,1),IF(SMALL(I64:I$76,2)>0,SMALL(I64:I$76,2),SMALL(I64:I$76,3))),\"\"),\"\")","v":""},{"$f":"IFERROR(IF(AND(N63<>\"\",P63=\"\",N63<=MAX(P64:P$76)),IF(SMALL(P64:P$76,1)-N63>0,SMALL(P64:P$76,1),SMALL(P64:P$76,2)),\"\"),\"\")","v":""}]
[null,null,null,null,null,null,null,"334D","17:42:00","18:10:00","18:20:00","19:07:00","19:30:00","20:17:00",null,null,null,null,null,null,null,"出雲市","普通",null,null,"出雲市",{"$f":"_xlfn.IFNA(MATCH(V64,設定_主要駅!$B$2:$B$15,0),1)","v":3},{"$f":"IF(AD64<=$AK$2,IF(AF64<>\"\",MATCH(AF64,$F:$F,0)-2,IF(AG64<>\"\",MATCH(AG64,$I:$I,0)-2,IF(AH64<>\"\",MATCH(AH64,$P:$P,0)-2,\"\"))),\"\")","v":63},{"$f":"_xlfn.IFNA(MATCH(ROW()-2,AB:AB,0)-2,\"\")","v":""},"00:09:00",62,{"$f":"IFERROR(IF(AND(D64<>\"\",F64=\"\",D64<=MAX(F65:F$76)),IF(SMALL(F65:F$76,1)-D64>0,SMALL(F65:F$76,1),SMALL(F65:F$76,2)),\"\"),\"\")","v":""},{"$f":"IFERROR(IF(AND(G64<>\"\",I64=\"\",G64<=MAX(I65:I$76)),IF(SMALL(I65:I$76,1)-G64>0,SMALL(I65:I$76,1),IF(SMALL(I65:I$76,2)>0,SMALL(I65:I$76,2),SMALL(I65:I$76,3))),\"\"),\"\")","v":""},{"$f":"IFERROR(IF(AND(N64<>\"\",P64=\"\",N64<=MAX(P65:P$76)),IF(SMALL(P65:P$76,1)-N64>0,SMALL(P65:P$76,1),SMALL(P65:P$76,2)),\"\"),\"\")","v":"20:26:00"}]
[null,null,null,null,null,null,null,null,null,null,null,null,null,null,"152D","20:26:00","20:44:00","20:45:00","21:06:00","21:08:00","21:29:00","米子","普通",null,null,"",{"$f":"_xlfn.IFNA(MATCH(V65,設定_主要駅!$B$2:$B$15,0),1)","v":1},{"$f":"IF(AD65<=$AK$2,IF(AF65<>\"\",MATCH(AF65,$F:$F,0)-2,IF(AG65<>\"\",MATCH(AG65,$I:$I,0)-2,IF(AH65<>\"\",MATCH(AH65,$P:$P,0)-2,\"\"))),\"\")","v":""},{"$f":"_xlfn.IFNA(MATCH(ROW()-2,AB:AB,0)-2,\"\")","v":62},"",63,{"$f":"IFERROR(IF(AND(D65<>\"\",F65=\"\",D65<=MAX(F66:F$76)),IF(SMALL(F66:F$76,1)-D65>0,SMALL(F66:F$76,1),SMALL(F66:F$76,2)),\"\"),\"\")","v":""},{"$f":"IFERROR(IF(AND(G65<>\"\",I65=\"\",G65<=MAX(I66:I$76)),IF(SMALL(I66:I$76,1)-G65>0,SMALL(I66:I$76,1),IF(SMALL(I66:I$76,2)>0,SMALL(I66:I$76,2),SMALL(I66:I$76,3))),\"\"),\"\")","v":""},{"$f":"IFERROR(IF(AND(N65<>\"\",P65=\"\",N65<=MAX(P66:P$76)),IF(SMALL(P66:P$76,1)-N65>0,SMALL(P66:P$76,1),SMALL(P66:P$76,2)),\"\"),\"\")","v":""}]
["2547D","16:55:00","17:07:00","17:36:00",null,null,null,null,null,null,null,null,null,null,null,null,null,null,null,null,null,"益田","普通",null,null,{"$f":"IF(AD66<=$AK$2,IF(AF66<>\"\",AF$2,IF(AG66<>\"\",AG$2,IF(AH66<>\"\",AH$2,\"\"))),\"\")","v":"益田"},{"$f":"_xlfn.IFNA(MATCH(V66,設定_主要駅!$B$2:$B$15,0),1)","v":7},{"$f":"IF(AD66<=$AK$2,IF(AF66<>\"\",MATCH(AF66,$F:$F,0)-2,IF(AG66<>\"\",MATCH(AG66,$I:$I,0)-2,IF(AH66<>\"\",MATCH(AH66,$P:$P,0)-2,\"\"))),\"\")","v":65},{"$f":"_xlfn.IFNA(MATCH(ROW()-2,AB:AB,0)-2,\"\")","v":""},{"$f":"IF(AF66<>\"\",AF66-D66,IF(AG66<>\"\",AG66-G66,IF(AH66<>\"\",AH66-N66,\"\")))","v":"00:01:00"},64,{"$f":"IFERROR(IF(AND(D66<>\"\",F66=\"\",D66<=MAX(F67:F$76)),IF(SMALL(F67:F$76,1)-D66>0,SMALL(F67:F$76,1),SMALL(F67:F$76,2)),\"\"),\"\")","v":"17:37:00"},{"$f":"IFERROR(IF(AND(G66<>\"\",I66=\"\",G66<=MAX(I67:I$76)),IF(SMALL(I67:I$76,1)-G66>0,SMALL(I67:I$76,1),IF(SMALL(I67:I$76,2)>0,SMALL(I67:I$76,2),SMALL(I67:I$76,3))),\"\"),\"\")","v":""},{"$f":"IFERROR(IF(AND(N66<>\"\",P66=\"\",N66<=MAX(P67:P$76)),IF(SMALL(P67:P$76,1)-N66>0,SMALL(P67:P$76,1),SMALL(P67:P$76,2)),\"\"),\"\")","v":""}]
[null,null,null,null,"434D","17:37:00","18:28:00","336D","18:50:00","19:16:00","19:17:00","20:02:00","20:03:00","20:55:00",null,null,null,null,null,null,null,"出雲市","普通",null,null,"出雲市",{"$f":"_xlfn.IFNA(MATCH(V67,設定_主要駅!$B$2:$B$15,0),1)","v":3},66,64,"00:15:00",65,{"$f":"IFERROR(IF(AND(D67<>\"\",F67=\"\",D67<=MAX(F68:F$76)),IF(SMALL(F68:F$76,1)-D67>0,SMALL(F68:F$76,1),SMALL(F68:F$76,2)),\"\"),\"\")","v":""},{"$f":"IFERROR(IF(AND(G67<>\"\",I67=\"\",G67<=MAX(I68:I$76)),IF(SMALL(I68:I$76,1)-G67>0,SMALL(I68:I$76,1),IF(SMALL(I68:I$76,2)>0,SMALL(I68:I$76,2),SMALL(I68:I$76,3))),\"\"),\"\")","v":""},{"$f":"IFERROR(IF(AND(N67<>\"\",P67=\"\",N67<=MAX(P68:P$76)),IF(SMALL(P68:P$76,1)-N67>0,SMALL(P68:P$76,1),SMALL(P68:P$76,2)),\"\"),\"\")","v":"21:10:00"}]
[null,null,null,null,null,null,null,null,null,null,null,null,null,null,"154D","21:10:00","21:35:00","21:36:00","21:56:00","22:00:00","22:21:00","米子","普通",null,null,"",{"$f":"_xlfn.IFNA(MATCH(V68,設定_主要駅!$B$2:$B$15,0),1)","v":1},"",65,"",66,{"$f":"IFERROR(IF(AND(D68<>\"\",F68=\"\",D68<=MAX(F69:F$76)),IF(SMALL(F69:F$76,1)-D68>0,SMALL(F69:F$76,1),SMALL(F69:F$76,2)),\"\"),\"\")","v":""},{"$f":"IFERROR(IF(AND(G68<>\"\",I68=\"\",G68<=MAX(I69:I$76)),IF(SMALL(I69:I$76,1)-G68>0,SMALL(I69:I$76,1),IF(SMALL(I69:I$76,2)>0,SMALL(I69:I$76,2),SMALL(I69:I$76,3))),\"\"),\"\")","v":""},{"$f":"IFERROR(IF(AND(N68<>\"\",P68=\"\",N68<=MAX(P69:P$76)),IF(SMALL(P69:P$76,1)-N68>0,SMALL(P69:P$76,1),SMALL(P69:P$76,2)),\"\"),\"\")","v":""}]
[null,null,null,null,"436D","18:53:00","19:46:00",null,null,null,null,null,null,null,null,null,null,null,null,null,null,"浜田","普通",null,null,"浜田",{"$f":"_xlfn.IFNA(MATCH(V69,設定_主要駅!$B$2:$B$15,0),1)","v":6},68,"","00:31:00",67,{"$f":"IFERROR(IF(AND(D69<>\"\",F69=\"\",D69<=MAX(F70:F$76)),IF(SMALL(F70:F$76,1)-D69>0,SMALL(F70:F$76,1),SMALL(F70:F$76,2)),\"\"),\"\")","v":""},{"$f":"IFERROR(IF(AND(G69<>\"\",I69=\"\",G69<=MAX(I70:I$76)),IF(SMALL(I70:I$76,1)-G69>0,SMALL(I70:I$76,1),IF(SMALL(I70:I$76,2)>0,SMALL(I70:I$76,2),SMALL(I70:I$76,3))),\"\"),\"\")","v":"20:17:00"},{"$f":"IFERROR(IF(AND(N69<>\"\",P69=\"\",N69<=MAX(P70:P$76)),IF(SMALL(P70:P$76,1)-N69>0,SMALL(P70:P$76,1),SMALL(P70:P$76,2)),\"\"),\"\")","v":""}]
[null,null,null,null,null,null,null,"338D","20:17:00","20:43:00","20:48:00","21:38:00","21:49:00","22:32:00",null,null,null,null,null,null,null,"出雲市","普通",null,null,"出雲市",{"$f":"_xlfn.IFNA(MATCH(V70,設定_主要駅!$B$2:$B$15,0),1)","v":3},69,67,"00:02:00",68,{"$f":"IFERROR(IF(AND(D70<>\"\",F70=\"\",D70<=MAX(F71:F$76)),IF(SMALL(F71:F$76,1)-D70>0,SMALL(F71:F$76,1),SMALL(F71:F$76,2)),\"\"),\"\")","v":""},{"$f":"IFERROR(IF(AND(G70<>\"\",I70=\"\",G70<=MAX(I71:I$76)),IF(SMALL(I71:I$76,1)-G70>0,SMALL(I71:I$76,1),IF(SMALL(I71:I$76,2)>0,SMALL(I71:I$76,2),SMALL(I71:I$76,3))),\"\"),\"\")","v":""},{"$f":"IFERROR(IF(AND(N70<>\"\",P70=\"\",N70<=MAX(P71:P$76)),IF(SMALL(P71:P$76,1)-N70>0,SMALL(P71:P$76,1),SMALL(P71:P$76,2)),\"\"),\"\")","v":"22:34:00"}]
[null,null,null,null,null,null,null,null,null,null,null,null,null,null,"156D","22:34:00","22:49:00","22:50:00","23:10:00","23:11:00","23:33:00","米子","普通",null,null,"",{"$f":"_xlfn.IFNA(MATCH(V71,設定_主要駅!$B$2:$B$15,0),1)","v":1},"",68,"",69,{"$f":"IFERROR(IF(AND(D71<>\"\",F71=\"\",D71<=MAX(F72:F$76)),IF(SMALL(F72:F$76,1)-D71>0,SMALL(F72:F$76,1),SMALL(F72:F$76,2)),\"\"),\"\")","v":""},{"$f":"IFERROR(IF(AND(G71<>\"\",I71=\"\",G71<=MAX(I72:I$76)),IF(SMALL(I72:I$76,1)-G71>0,SMALL(I72:I$76,1),IF(SMALL(I72:I$76,2)>0,SMALL(I72:I$76,2),SMALL(I72:I$76,3))),\"\"),\"\")","v":""},{"$f":"IFERROR(IF(AND(N71<>\"\",P71=\"\",N71<=MAX(P72:P$76)),IF(SMALL(P72:P$76,1)-N71>0,SMALL(P72:P$76,1),SMALL(P72:P$76,2)),\"\"),\"\")","v":""}]
["2551D","19:36:00","19:48:00","20:17:00",null,null,null,null,null,null,null,null,null,null,null,null,null,null,null,null,null,"益田","普通",null,null,"益田",{"$f":"_xlfn.IFNA(MATCH(V72,設定_主要駅!$B$2:$B$15,0),1)","v":7},71,"","00:04:00",70,{"$f":"IFERROR(IF(AND(D72<>\"\",F72=\"\",D72<=MAX(F73:F$76)),IF(SMALL(F73:F$76,1)-D72>0,SMALL(F73:F$76,1),SMALL(F73:F$76,2)),\"\"),\"\")","v":"20:21:00"},{"$f":"IFERROR(IF(AND(G72<>\"\",I72=\"\",G72<=MAX(I73:I$76)),IF(SMALL(I73:I$76,1)-G72>0,SMALL(I73:I$76,1),IF(SMALL(I73:I$76,2)>0,SMALL(I73:I$76,2),SMALL(I73:I$76,3))),\"\"),\"\")","v":""},{"$f":"IFERROR(IF(AND(N72<>\"\",P72=\"\",N72<=MAX(P73:P$76)),IF(SMALL(P73:P$76,1)-N72>0,SMALL(P73:P$76,1),SMALL(P73:P$76,2)),\"\"),\"\")","v":""}]
[null,null,null,null,"438D","20:21:00","21:17:00","376D","21:26:00","21:51:00",null,null,null,null,null,null,null,null,null,null,null,"江津","普通",null,null,"",{"$f":"_xlfn.IFNA(MATCH(V73,設定_主要駅!$B$2:$B$15,0),1)","v":5},"",70,"",71,{"$f":"IFERROR(IF(AND(D73<>\"\",F73=\"\",D73<=MAX(F74:F$76)),IF(SMALL(F74:F$76,1)-D73>0,SMALL(F74:F$76,1),SMALL(F74:F$76,2)),\"\"),\"\")","v":""},{"$f":"IFERROR(IF(AND(G73<>\"\",I73=\"\",G73<=MAX(I74:I$76)),IF(SMALL(I74:I$76,1)-G73>0,SMALL(I74:I$76,1),IF(SMALL(I74:I$76,2)>0,SMALL(I74:I$76,2),SMALL(I74:I$76,3))),\"\"),\"\")","v":""},{"$f":"IFERROR(IF(AND(N73<>\"\",P73=\"\",N73<=MAX(P74:P$76)),IF(SMALL(P74:P$76,1)-N73>0,SMALL(P74:P$76,1),SMALL(P74:P$76,2)),\"\"),\"\")","v":""}]
[null,null,null,null,null,null,null,"364D",null,null,null,null,"22:41:00","23:20:00",null,null,null,null,null,null,null,"出雲市","普通",null,null,"",{"$f":"_xlfn.IFNA(MATCH(V74,設定_主要駅!$B$2:$B$15,0),1)","v":3},"","","",72,{"$f":"IFERROR(IF(AND(D74<>\"\",F74=\"\",D74<=MAX(F75:F$76)),IF(SMALL(F75:F$76,1)-D74>0,SMALL(F75:F$76,1),SMALL(F75:F$76,2)),\"\"),\"\")","v":""},{"$f":"IFERROR(IF(AND(G74<>\"\",I74=\"\",G74<=MAX(I75:I$76)),IF(SMALL(I75:I$76,1)-G74>0,SMALL(I75:I$76,1),IF(SMALL(I75:I$76,2)>0,SMALL(I75:I$76,2),SMALL(I75:I$76,3))),\"\"),\"\")","v":""},{"$f":"IFERROR(IF(AND(N74<>\"\",P74=\"\",N74<=MAX(P75:P$76)),IF(SMALL(P75:P$76,1)-N74>0,SMALL(P75:P$76,1),SMALL(P75:P$76,2)),\"\"),\"\")","v":""}]
[null,null,null,null,"440D","21:42:00","22:30:00",null,null,null,null,null,null,null,null,null,null,null,null,null,null,"浜田","普通",null,null,"",{"$f":"_xlfn.IFNA(MATCH(V75,設定_主要駅!$B$2:$B$15,0),1)","v":6},"","","",73,{"$f":"IFERROR(IF(AND(D75<>\"\",F75=\"\",D75<=MAX(F76:F$76)),IF(SMALL(F76:F$76,1)-D75>0,SMALL(F76:F$76,1),SMALL(F76:F$76,2)),\"\"),\"\")","v":""},{"$f":"IFERROR(IF(AND(G75<>\"\",I75=\"\",G75<=MAX(I76:I$76)),IF(SMALL(I76:I$76,1)-G75>0,SMALL(I76:I$76,1),IF(SMALL(I76:I$76,2)>0,SMALL(I76:I$76,2),SMALL(I76:I$76,3))),\"\"),\"\")","v":""},{"$f":"IFERROR(IF(AND(N75<>\"\",P75=\"\",N75<=MAX(P76:P$76)),IF(SMALL(P76:P$76,1)-N75>0,SMALL(P76:P$76,1),SMALL(P76:P$76,2)),\"\"),\"\")","v":""}]

{"sheet":"山陰本線_下り","index":8,"n_rows":73,"n_cols":37,"rows_kept":73,"cut":false,"hidden":true,"merged":[]}
[null,"安来市","松江市",null,null,null,"出雲市",null,null,"大田市",null,"江津市",null,"浜田市",null,null,"益田市",null,null,"津和野町",null,null,null,null,null,null,null,"行きで参照","帰りで参照"]
["列車番号","安来発","松江着","松江発","宍道着","宍道発","出雲市着","列車番号","出雲市発","大田市着","大田市発","江津着","江津発","浜田着","列車番号","浜田発","益田着","列車番号","益田発","日原着","津和野着","行先","種別","列車名","備考","接続","行先駅","接続行①","接続行②","接続時間","番号","出雲市","浜田","益田",null,"接続時間","00:35:01"]
[null,null,null,null,null,null,null,null,null,null,null,null,null,null,"421D","05:28:00","06:23:00",null,null,null,null,"益田","普通",null,null,{"$f":"IF(AD3<=$AK$2,IF(AF3<>\"\",AF$2,IF(AG3<>\"\",AG$2,IF(AH3<>\"\",AH$2,\"\"))),\"\")","v":"益田"},{"$f":"_xlfn.IFNA(MATCH(V3,設定_主要駅!$B$2:$B$15,0),9)","v":7},{"$f":"IF(AD3<=$AK$2,IF(AF3<>\"\",MATCH(AF3,$I:$I,0)-2,IF(AG3<>\"\",MATCH(AG3,$P:$P,0)-2,IF(AH3<>\"\",MATCH(AH3,$S:$S,0)-2,\"\"))),\"\")","v":2},{"$f":"_xlfn.IFNA(MATCH(ROW()-2,AB:AB,0)-2,\"\")","v":""},{"$f":"IF(AF3<>\"\",AF3-G3,IF(AG3<>\"\",AG3-N3,IF(AH3<>\"\",AH3-Q3,\"\")))","v":"00:05:00"},1,{"$f":"IFERROR(IF(AND(G3<>\"\",I3=\"\",G3<=MAX(I4:I$73)),IF(SMALL(I4:I$73,1)-G3>0,SMALL(I4:I$73,1),SMALL(I4:I$73,2)),\"\"),\"\")","v":""},{"$f":"IFERROR(IF(AND(N3<>\"\",P3=\"\",N3<=MAX(P4:P$73)),IF(SMALL(P4:P$73,1)-N3>0,SMALL(P4:P$73,1),IF(SMALL(P4:P$73,2)-N3>0,SMALL(P4:P$73,2),SMALL(P4:P$73,3))),\"\"),\"\")","v":""},{"$f":"IFERROR(IF(AND(Q3<>\"\",S3=\"\",Q3<=MAX(S4:S$73)),IF(SMALL(S4:S$73,1)-Q3>0,SMALL(S4:S$73,1),IF(SMALL(S4:S$73,2)>0,SMALL(S4:S$73,2),SMALL(S4:S$73,3))),\"\"),\"\")","v":"06:28:00"}]
[null,null,null,null,null,null,null,null,null,null,null,null,null,null,null,null,null,"2534D","06:28:00","06:57:00","07:09:00","新山口","普通",null,null,{"$f":"IF(AD4<=$AK$2,IF(AF4<>\"\",AF$2,IF(AG4<>\"\",AG$2,IF(AH4<>\"\",AH$2,\"\"))),\"\")","v":""},{"$f":"_xlfn.IFNA(MATCH(V4,設定_主要駅!$B$2:$B$15,0),9)","v":9},{"$f":"IF(AD4<=$AK$2,IF(AF4<>\"\",MATCH(AF4,$I:$I,0)-2,IF(AG4<>\"\",MATCH(AG4,$P:$P,0)-2,IF(AH4<>\"\",MATCH(AH4,$S:$S,0)-2,\"\"))),\"\")","v":""},{"$f":"_xlfn.IFNA(MATCH(ROW()-2,AB:AB,0)-2,\"\")","v":1},{"$f":"IF(AF4<>\"\",AF4-G4,IF(AG4<>\"\",AG4-N4,IF(AH4<>\"\",AH4-Q4,\"\")))","v":""},2,{"$f":"IFERROR(IF(AND(G4<>\"\",I4=\"\",G4<=MAX(I5:I$73)),IF(SMALL(I5:I$73,1)-G4>0,SMALL(I5:I$73,1),SMALL(I5:I$73,2)),\"\"),\"\")","v":""},{"$f":"IFERROR(IF(AND(N4<>\"\",P4=\"\",N4<=MAX(P5:P$73)),IF(SMALL(P5:P$73,1)-N4>0,SMALL(P5:P$73,1),IF(SMALL(P5:P$73,2)-N4>0,SMALL(P5:P$73,2),SMALL(P5:P$73,3))),\"\"),\"\")","v":""},{"$f":"IFERROR(IF(AND(Q4<>\"\",S4=\"\",Q4<=MAX(S5:S$73)),IF(SMALL(S5:S$73,1)-Q4>0,SMALL(S5:S$73,1),IF(SMALL(S5:S$73,2)>0,SMALL(S5:S$73,2),SMALL(S5:S$73,3))),\"\"),\"\")","v":""}]
[null,null,null,null,null,null,null,null,null,null,null,null,null,null,null,null,null,"2536D","07:01:00","07:29:00","07:41:00","津和野","普通",null,null,{"$f":"IF(AD5<=$AK$2,IF(AF5<>\"\",AF$2,IF(AG5<>\"\",AG$2,IF(AH5<>\"\",AH$2,\"\"))),\"\")","v":""},{"$f":"_xlfn.IFNA(MATCH(V5,設定_主要駅!$B$2:$B$15,0),9)","v":9},{"$f":"IF(AD5<=$AK$2,IF(AF5<>\"\",MATCH(AF5,$I:$I,0)-2,IF(AG5<>\"\",MATCH(AG5,$P:$P,0)-2,IF(AH5<>\"\",MATCH(AH5,$S:$S,0)-2,\"\"))),\"\")","v":""},{"$f":"_xlfn.IFNA(MATCH(ROW()-2,AB:AB,0)-2,\"\")","v":""},{"$f":"IF(AF5<>\"\",AF5-G5,IF(AG5<>\"\",AG5-N5,IF(AH5<>\"\",AH5-Q5,\"\")))","v":""},3,{"$f":"IFERROR(IF(AND(G5<>\"\",I5=\"\",G5<=MAX(I6:I$73)),IF(SMALL(I6:I$73,1)-G5>0,SMALL(I6:I$73,1),SMALL(I6:I$73,2)),\"\"),\"\")","v":""},{"$f":"IFERROR(IF(AND(N5<>\"\",P5=\"\",N5<=MAX(P6:P$73)),IF(SMALL(P6:P$73,1)-N5>0,SMALL(P6:P$73,1),IF(SMALL(P6:P$73,2)-N5>0,SMALL(P6:P$73,2),SMALL(P6:P$73,3))),\"\"),\"\")","v":""},{"$f":"IFERROR(IF(AND(Q5<>\"\",S5=\"\",Q5<=MAX(S6:S$73)),IF(SMALL(S6:S$73,1)-Q5>0,SMALL(S6:S$73,1),IF(SMALL(S6:S$73,2)>0,SMALL(S6:S$73,2),SMALL(S6:S$73,3))),\"\"),\"\")","v":""}]
[null,null,null,null,null,null,null,"8371D",null,null,null,null,"06:04:00","06:33:00","423D","06:38:00","07:29:00",null,null,null,null,"益田","普通",null,"江津～浜田間は土曜・休日運休","益田",{"$f":"_xlfn.IFNA(MATCH(V6,設定_主要駅!$B$2:$B$15,0),9)","v":7},{"$f":"IF(AD6<=$AK$2,IF(AF6<>\"\",MATCH(AF6,$I:$I,0)-2,IF(AG6<>\"\",MATCH(AG6,$P:$P,0)-2,IF(AH6<>\"\",MATCH(AH6,$S:$S,0)-2,\"\"))),\"\")","v":5},{"$f":"_xlfn.IFNA(MATCH(ROW()-2,AB:AB,0)-2,\"\")","v":""},"00:08:00",4,{"$f":"IFERROR(IF(AND(G6<>\"\",I6=\"\",G6<=MAX(I7:I$73)),IF(SMALL(I7:I$73,1)-G6>0,SMALL(I7:I$73,1),SMALL(I7:I$73,2)),\"\"),\"\")","v":""},{"$f":"IFERROR(IF(AND(N6<>\"\",P6=\"\",N6<=MAX(P7:P$73)),IF(SMALL(P7:P$73,1)-N6>0,SMALL(P7:P$73,1),IF(SMALL(P7:P$73,2)-N6>0,SMALL(P7:P$73,2),SMALL(P7:P$73,3))),\"\"),\"\")","v":""},{"$f":"IFERROR(IF(AND(Q6<>\"\",S6=\"\",Q6<=MAX(S7:S$73)),IF(SMALL(S7:S$73,1)-Q6>0,SMALL(S7:S$73,1),IF(SMALL(S7:S$73,2)>0,SMALL(S7:S$73,2),SMALL(S7:S$73,3))),\"\"),\"\")","v":"07:37:00"}]
[null,null,null,null,null,null,null,null,null,null,null,null,null,null,null,null,null,"2542D","07:37:00","08:05:00","08:17:00","山口","普通",null,null,"",{"$f":"_xlfn.IFNA(MATCH(V7,設定_主要駅!$B$2:$B$15,0),9)","v":9},{"$f":"IF(AD7<=$AK$2,IF(AF7<>\"\",MATCH(AF7,$I:$I,0)-2,IF(AG7<>\"\",MATCH(AG7,$P:$P,0)-2,IF(AH7<>\"\",MATCH(AH7,$S:$S,0)-2,\"\"))),\"\")","v":""},{"$f":"_xlfn.IFNA(MATCH(ROW()-2,AB:AB,0)-2,\"\")","v":4},"",5,{"$f":"IFERROR(IF(AND(G7<>\"\",I7=\"\",G7<=MAX(I8:I$73)),IF(SMALL(I8:I$73,1)-G7>0,SMALL(I8:I$73,1),SMALL(I8:I$73,2)),\"\"),\"\")","v":""},{"$f":"IFERROR(IF(AND(N7<>\"\",P7=\"\",N7<=MAX(P8:P$73)),IF(SMALL(P8:P$73,1)-N7>0,SMALL(P8:P$73,1),IF(SMALL(P8:P$73,2)-N7>0,SMALL(P8:P$73,2),SMALL(P8:P$73,3))),\"\"),\"\")","v":""},{"$f":"IFERROR(IF(AND(Q7<>\"\",S7=\"\",Q7<=MAX(S8:S$73)),IF(SMALL(S8:S$73,1)-Q7>0,SMALL(S8:S$73,1),IF(SMALL(S8:S$73,2)>0,SMALL(S8:S$73,2),SMALL(S8:S$73,3))),\"\"),\"\")","v":""}]
[null,null,null,null,null,null,null,"373D",null,null,null,null,"07:01:00","07:29:00","425D","07:35:00","08:30:00",null,null,null,null,"益田","普通",null,"江津～浜田間は土曜・休日運休","益田",{"$f":"_xlfn.IFNA(MATCH(V8,設定_主要駅!$B$2:$B$15,0),9)","v":7},{"$f":"IF(AD8<=$AK$2,IF(AF8<>\"\",MATCH(AF8,$I:$I,0)-2,IF(AG8<>\"\",MATCH(AG8,$P:$P,0)-2,IF(AH8<>\"\",MATCH(AH8,$S:$S,0)-2,\"\"))),\"\")","v":9},{"$f":"_xlfn.IFNA(MATCH(ROW()-2,AB:AB,0)-2,\"\")","v":""},"00:14:00",6,{"$f":"IFERROR(IF(AND(G8<>\"\",I8=\"\",G8<=MAX(I9:I$73)),IF(SMALL(I9:I$73,1)-G8>0,SMALL(I9:I$73,1),SMALL(I9:I$73,2)),\"\"),\"\")","v":""},{"$f":"IFERROR(IF(AND(N8<>\"\",P8=\"\",N8<=MAX(P9:P$73)),IF(SMALL(P9:P$73,1)-N8>0,SMALL(P9:P$73,1),IF(SMALL(P9:P$73,2)-N8>0,SMALL(P9:P$73,2),SMALL(P9:P$73,3))),\"\"),\"\")","v":""},{"$f":"IFERROR(IF(AND(Q8<>\"\",S8=\"\",Q8<=MAX(S9:S$73)),IF(SMALL(S9:S$73,1)-Q8>0,SMALL(S9:S$73,1),IF(SMALL(S9:S$73,2)>0,SMALL(S9:S$73,2),SMALL(S9:S$73,3))),\"\"),\"\")","v":"08:44:00"}]
[null,null,null,null,null,null,null,"321D","05:50:00","06:34:00","06:38:00","07:26:00","07:27:00","07:52:00","427D","08:10:00","09:05:00",null,null,null,null,"益田","普通",null,null,"",{"$f":"_xlfn.IFNA(MATCH(V9,設定_主要駅!$B$2:$B$15,0),9)","v":7},{"$f":"IF(AD9<=$AK$2,IF(AF9<>\"\",MATCH(AF9,$I:$I,0)-2,IF(AG9<>\"\",MATCH(AG9,$P:$P,0)-2,IF(AH9<>\"\",MATCH(AH9,$S:$S,0)-2,\"\"))),\"\")","v":""},{"$f":"_xlfn.IFNA(MATCH(ROW()-2,AB:AB,0)-2,\"\")","v":""},"02:07:00",7,{"$f":"IFERROR(IF(AND(G9<>\"\",I9=\"\",G9<=MAX(I10:I$73)),IF(SMALL(I10:I$73,1)-G9>0,SMALL(I10:I$73,1),SMALL(I10:I$73,2)),\"\"),\"\")","v":""},{"$f":"IFERROR(IF(AND(N9<>\"\",P9=\"\",N9<=MAX(P10:P$73)),IF(SMALL(P10:P$73,1)-N9>0,SMALL(P10:P$73,1),IF(SMALL(P10:P$73,2)-N9>0,SMALL(P10:P$73,2),SMALL(P10:P$73,3))),\"\"),\"\")","v":""},{"$f":"IFERROR(IF(AND(Q9<>\"\",S9=\"\",Q9<=MAX(S10:S$73)),IF(SMALL(S10:S$73,1)-Q9>0,SMALL(S10:S$73,1),IF(SMALL(S10:S$73,2)>0,SMALL(S10:S$73,2),SMALL(S10:S$73,3))),\"\"),\"\")","v":"11:12:00"}]
["121D","05:27:00","05:48:00","05:52:00","06:11:00","06:12:00","06:29:00",null,null,null,null,null,null,null,null,null,null,null,null,null,null,"出雲市","普通",null,"土曜日、休日は松江まで","出雲市",{"$f":"_xlfn.IFNA(MATCH(V10,設定_主要駅!$B$2:$B$15,0),9)","v":3},{"$f":"IF(AD10<=$AK$2,IF(AF10<>\"\",MATCH(AF10,$I:$I,0)-2,IF(AG10<>\"\",MATCH(AG10,$P:$P,0)-2,IF(AH10<>\"\",MATCH(AH10,$S:$S,0)-2,\"\"))),\"\")","v":9},{"$f":"_xlfn.IFNA(MATCH(ROW()-2,AB:AB,0)-2,\"\")","v":""},"00:21:00",8,{"$f":"IFERROR(IF(AND(G10<>\"\",I10=\"\",G10<=MAX(I11:I$73)),IF(SMALL(I11:I$73,1)-G10>0,SMALL(I11:I$73,1),SMALL(I11:I$73,2)),\"\"),\"\")","v":"06:50:00"},{"$f":"IFERROR(IF(AND(N10<>\"\",P10=\"\",N10<=MAX(P11:P$73)),IF(SMALL(P11:P$73,1)-N10>0,SMALL(P11:P$73,1),IF(SMALL(P11:P$73,2)-N10>0,SMALL(P11:P$73,2),SMALL(P11:P$73,3))),\"\"),\"\")","v":""},{"$f":"IFERROR(IF(AND(Q10<>\"\",S10=\"\",Q10<=MAX(S11:S$73)),IF(SMALL(S11:S$73,1)-Q10>0,SMALL(S11:S$73,1),IF(SMALL(S11:S$73,2)>0,SMALL(S11:S$73,2),SMALL(S11:S$73,3))),\"\"),\"\")","v":""}]
["3001D","06:08:00","06:22:00","06:23:00","06:36:00","06:37:00","06:48:00",null,"06:50:00","07:14:00","07:15:00","07:42:00","07:43:00","07:58:00",null,"08:00:00","08:41:00",null,"08:44:00","09:06:00","09:15:00","新山口","特急","スーパーおき1号",null,"",{"$f":"_xlfn.IFNA(MATCH(V11,設定_主要駅!$B$2:$B$15,0),9)","v":9},{"$f":"IF(AD11<=$AK$2,IF(AF11<>\"\",MATCH(AF11,$I:$I,0)-2,IF(AG11<>\"\",MATCH(AG11,$P:$P,0)-2,IF(AH11<>\"\",MATCH(AH11,$S:$S,0)-2,\"\"))),\"\")","v":""},{"$f":"_xlfn.IFNA(MATCH(ROW()-2,AB:AB,0)-2,\"\")","v":6},"",9,{"$f":"IFERROR(IF(AND(G11<>\"\",I11=\"\",G11<=MAX(I12:I$73)),IF(SMALL(I12:I$73,1)-G11>0,SMALL(I12:I$73,1),SMALL(I12:I$73,2)),\"\"),\"\")","v":""},{"$f":"IFERROR(IF(AND(N11<>\"\",P11=\"\",N11<=MAX(P12:P$73)),IF(SMALL(P12:P$73,1)-N11>0,SMALL(P12:P$73,1),IF(SMALL(P12:P$73,2)-N11>0,SMALL(P12:P$73,2),SMALL(P12:P$73,3))),\"\"),\"\")","v":""},{"$f":"IFERROR(IF(AND(Q11<>\"\",S11=\"\",Q11<=MAX(S12:S$73)),IF(SMALL(S12:S$73,1)-Q11>0,SMALL(S12:S$73,1),IF(SMALL(S12:S$73,2)>0,SMALL(S12:S$73,2),SMALL(S12:S$73,3))),\"\"),\"\")","v":""}]
[null,null,null,null,null,null,null,"323D","06:53:00","07:40:00","07:41:00","08:30:00","08:31:00","08:57:00",null,null,null,null,null,null,null,"浜田","普通",null,null,"",{"$f":"_xlfn.IFNA(MATCH(V12,設定_主要駅!$B$2:$B$15,0),9)","v":6},{"$f":"IF(AD12<=$AK$2,IF(AF12<>\"\",MATCH(AF12,$I:$I,0)-2,IF(AG12<>\"\",MATCH(AG12,$P:$P,0)-2,IF(AH12<>\"\",MATCH(AH12,$S:$S,0)-2,\"\"))),\"\")","v":""},{"$f":"_xlfn.IFNA(MATCH(ROW()-2,AB:AB,0)-2,\"\")","v":""},"01:23:00",10,{"$f":"IFERROR(IF(AND(G12<>\"\",I12=\"\",G12<=MAX(I13:I$73)),IF(SMALL(I13:I$73,1)-G12>0,SMALL(I13:I$73,1),SMALL(I13:I$73,2)),\"\"),\"\")","v":""},{"$f":"IFERROR(IF(AND(N12<>\"\",P12=\"\",N12<=MAX(P13:P$73)),IF(SMALL(P13:P$73,1)-N12>0,SMALL(P13:P$73,1),IF(SMALL(P13:P$73,2)-N12>0,SMALL(P13:P$73,2),SMALL(P13:P$73,3))),\"\"),\"\")","v":"10:20:00"},{"$f":"IFERROR(IF(AND(Q12<>\"\",S12=\"\",Q12<=MAX(S13:S$73)),IF(SMALL(S13:S$73,1)-Q12>0,SMALL(S13:S$73,1),IF(SMALL(S13:S$73,2)>0,SMALL(S13:S$73,2),SMALL(S13:S$73,3))),\"\"),\"\")","v":""}]
["125D","06:14:00","06:37:00","06:38:00","07:00:00","07:01:00","07:19:00",null,null,null,null,null,null,null,null,null,null,null,null,null,null,"出雲市","普通",null,null,"",{"$f":"_xlfn.IFNA(MATCH(V13,設定_主要駅!$B$2:$B$15,0),9)","v":3},{"$f":"IF(AD13<=$AK$2,IF(AF13<>\"\",MATCH(AF13,$I:$I,0)-2,IF(AG13<>\"\",MATCH(AG13,$P:$P,0)-2,IF(AH13<>\"\",MATCH(AH13,$S:$S,0)-2,\"\"))),\"\")","v":""},{"$f":"_xlfn.IFNA(MATCH(ROW()-2,AB:AB,0)-2,\"\")","v":""},"00:45:00",11,{"$f":"IFERROR(IF(AND(G13<>\"\",I13=\"\",G13<=MAX(I14:I$73)),IF(SMALL(I14:I$73,1)-G13>0,SMALL(I14:I$73,1),SMALL(I14:I$73,2)),\"\"),\"\")","v":"08:04:00"},{"$f":"IFERROR(IF(AND(N13<>\"\",P13=\"\",N13<=MAX(P14:P$73)),IF(SMALL(P14:P$73,1)-N13>0,SMALL(P14:P$73,1),IF(SMALL(P14:P$73,2)-N13>0,SMALL(P14:P$73,2),SMALL(P14:P$73,3))),\"\"),\"\")","v":""},{"$f":"IFERROR(IF(AND(Q13<>\"\",S13=\"\",Q13<=MAX(S14:S$73)),IF(SMALL(S14:S$73,1)-Q13>0,SMALL(S14:S$73,1),IF(SMALL(S14:S$73,2)>0,SMALL(S14:S$73,2),SMALL(S14:S$73,3))),\"\"),\"\")","v":""}]
[null,null,null,null,null,null,null,null,null,null,null,null,null,null,null,null,null,"2548D","11:12:00","11:42:00","11:53:00","山口","普通",null,null,"",{"$f":"_xlfn.IFNA(MATCH(V14,設定_主要駅!$B$2:$B$15,0),9)","v":9},{"$f":"IF(AD14<=$AK$2,IF(AF14<>\"\",MATCH(AF14,$I:$I,0)-2,IF(AG14<>\"\",MATCH(AG14,$P:$P,0)-2,IF(AH14<>\"\",MATCH(AH14,$S:$S,0)-2,\"\"))),\"\")","v":""},{"$f":"_xlfn.IFNA(MATCH(ROW()-2,AB:AB,0)-2,\"\")","v":""},"",12,{"$f":"IFERROR(IF(AND(G14<>\"\",I14=\"\",G14<=MAX(I15:I$73)),IF(SMALL(I15:I$73,1)-G14>0,SMALL(I15:I$73,1),SMALL(I15:I$73,2)),\"\"),\"\")","v":""},{"$f":"IFERROR(IF(AND(N14<>\"\",P14=\"\",N14<=MAX(P15:P$73)),IF(SMALL(P15:P$73,1)-N14>0,SMALL(P15:P$73,1),IF(SMALL(P15:P$73,2)-N14>0,SMALL(P15:P$73,2),SMALL(P15:P$73,3))),\"\"),\"\")","v":""},{"$f":"IFERROR(IF(AND(Q14<>\"\",S14=\"\",Q14<=MAX(S15:S$73)),IF(SMALL(S15:S$73,1)-Q14>0,SMALL(S15:S$73,1),IF(SMALL(S15:S$73,2)>0,SMALL(S15:S$73,2),SMALL(S15:S$73,3))),\"\"),\"\")","v":""}]
["127D","06:48:00","07:11:00","07:13:00","07:41:00","07:42:00","08:02:00",null,null,null,null,null,null,null,null,null,null,null,null,null,null,"出雲市","普通",null,null,"出雲市",{"$f":"_xlfn.IFNA(MATCH(V15,設定_主要駅!$B$2:$B$15,0),9)","v":3},{"$f":"IF(AD15<=$AK$2,IF(AF15<>\"\",MATCH(AF15,$I:$I,0)-2,IF(AG15<>\"\",MATCH(AG15,$P:$P,0)-2,IF(AH15<>\"\",MATCH(AH15,$S:$S,0)-2,\"\"))),\"\")","v":14},{"$f":"_xlfn.IFNA(MATCH(ROW()-2,AB:AB,0)-2,\"\")","v":""},"00:02:00",13,{"$f":"IFERROR(IF(AND(G15<>\"\",I15=\"\",G15<=MAX(I16:I$73)),IF(SMALL(I16:I$73,1)-G15>0,SMALL(I16:I$73,1),SMALL(I16:I$73,2)),\"\"),\"\")","v":"08:04:00"},{"$f":"IFERROR(IF(AND(N15<>\"\",P15=\"\",N15<=MAX(P16:P$73)),IF(SMALL(P16:P$73,1)-N15>0,SMALL(P16:P$73,1),IF(SMALL(P16:P$73,2)-N15>0,SMALL(P16:P$73,2),SMALL(P16:P$73,3))),\"\"),\"\")","v":""},{"$f":"IFERROR(IF(AND(Q15<>\"\",S15=\"\",Q15<=MAX(S16:S$73)),IF(SMALL(S16:S$73,1)-Q15>0,SMALL(S16:S$73,1),IF(SMALL(S16:S$73,2)>0,SMALL(S16:S$73,2),SMALL(S16:S$73,3))),\"\"),\"\")","v":""}]
[null,null,null,null,null,null,null,"325D","08:04:00","08:43:00","08:44:00","09:33:00","09:34:00","10:01:00","429D","10:28:00","11:21:00",null,null,null,null,"益田","普通",null,null,"",{"$f":"_xlfn.IFNA(MATCH(V16,設定_主要駅!$B$2:$B$15,0),9)","v":7},{"$f":"IF(AD16<=$AK$2,IF(AF16<>\"\",MATCH(AF16,$I:$I,0)-2,IF(AG16<>\"\",MATCH(AG16,$P:$P,0)-2,IF(AH16<>\"\",MATCH(AH16,$S:$S,0)-2,\"\"))),\"\")","v":""},{"$f":"_xlfn.IFNA(MATCH(ROW()-2,AB:AB,0)-2,\"\")","v":13},"02:06:00",14,{"$f":"IFERROR(IF(AND(G16<>\"\",I16=\"\",G16<=MAX(I17:I$73)),IF(SMALL(I17:I$73,1)-G16>0,SMALL(I17:I$73,1),SMALL(I17:I$73,2)),\"\"),\"\")","v":""},{"$f":"IFERROR(IF(AND(N16<>\"\",P16=\"\",N16<=MAX(P17:P$73)),IF(SMALL(P17:P$73,1)-N16>0,SMALL(P17:P$73,1),IF(SMALL(P17:P$73,2)-N16>0,SMALL(P17:P$73,2),SMALL(P17:P$73,3))),\"\"),\"\")","v":""},{"$f":"IFERROR(IF(AND(Q16<>\"\",S16=\"\",Q16<=MAX(S17:S$73)),IF(SMALL(S17:S$73,1)-Q16>0,SMALL(S17:S$73,1),IF(SMALL(S17:S$73,2)>0,SMALL(S17:S$73,2),SMALL(S17:S$73,3))),\"\"),\"\")","v":"13:27:00"}]
["129D","07:22:00","07:47:00","07:48:00","08:11:00","08:12:00","08:31:00",null,null,null,null,null,null,null,null,null,null,null,null,null,null,"西出雲","普通",null,null,"",{"$f":"_xlfn.IFNA(MATCH(V17,設定_主要駅!$B$2:$B$15,0),9)","v":9},{"$f":"IF(AD17<=$AK$2,IF(AF17<>\"\",MATCH(AF17,$I:$I,0)-2,IF(AG17<>\"\",MATCH(AG17,$P:$P,0)-2,IF(AH17<>\"\",MATCH(AH17,$S:$S,0)-2,\"\"))),\"\")","v":""},{"$f":"_xlfn.IFNA(MATCH(ROW()-2,AB:AB,0)-2,\"\")","v":""},"00:36:00",15,{"$f":"IFERROR(IF(AND(G17<>\"\",I17=\"\",G17<=MAX(I18:I$73)),IF(SMALL(I18:I$73,1)-G17>0,SMALL(I18:I$73,1),SMALL(I18:I$73,2)),\"\"),\"\")","v":"09:07:00"},{"$f":"IFERROR(IF(AND(N17<>\"\",P17=\"\",N17<=MAX(P18:P$73)),IF(SMALL(P18:P$73,1)-N17>0,SMALL(P18:P$73,1),IF(SMALL(P18:P$73,2)-N17>0,SMALL(P18:P$73,2),SMALL(P18:P$73,3))),\"\"),\"\")","v":""},{"$f":"IFERROR(IF(AND(Q17<>\"\",S17=\"\",Q17<=MAX(S18:S$73)),IF(SMALL(S18:S$73,1)-Q17>0,SMALL(S18:S$73,1),IF(SMALL(S18:S$73,2)>0,SMALL(S18:S$73,2),SMALL(S18:S$73,3))),\"\"),\"\")","v":""}]
["131D",null,null,"07:58:00","08:22:00",null,null,null,null,null,null,null,null,null,null,null,null,null,null,null,null,"宍道","普通",null,null,"",{"$f":"_xlfn.IFNA(MATCH(V18,設定_主要駅!$B$2:$B$15,0),9)","v":10},{"$f":"IF(AD18<=$AK$2,IF(AF18<>\"\",MATCH(AF18,$I:$I,0)-2,IF(AG18<>\"\",MATCH(AG18,$P:$P,0)-2,IF(AH18<>\"\",MATCH(AH18,$S:$S,0)-2,\"\"))),\"\")","v":""},{"$f":"_xlfn.IFNA(MATCH(ROW()-2,AB:AB,0)-2,\"\")","v":""},"",16,{"$f":"IFERROR(IF(AND(G18<>\"\",I18=\"\",G18<=MAX(I19:I$73)),IF(SMALL(I19:I$73,1)-G18>0,SMALL(I19:I$73,1),SMALL(I19:I$73,2)),\"\"),\"\")","v":""},{"$f":"IFERROR(IF(AND(N18<>\"\",P18=\"\",N18<=MAX(P19:P$73)),IF(SMALL(P19:P$73,1)-N18>0,SMALL(P19:P$73,1),IF(SMALL(P19:P$73,2)-N18>0,SMALL(P19:P$73,2),SMALL(P19:P$73,3))),\"\"),\"\")","v":""},{"$f":"IFERROR(IF(AND(Q18<>\"\",S18=\"\",Q18<=MAX(S19:S$73)),IF(SMALL(S19:S$73,1)-Q18>0,SMALL(S19:S$73,1),IF(SMALL(S19:S$73,2)>0,SMALL(S19:S$73,2),SMALL(S19:S$73,3))),\"\"),\"\")","v":""}]
["133D","07:37:00","08:03:00","08:06:00","08:27:00","08:28:00","08:51:00",null,null,null,null,null,null,null,null,null,null,null,null,null,null,"出雲市","普通",null,"土曜日、休日は運休","出雲市",{"$f":"_xlfn.IFNA(MATCH(V19,設定_主要駅!$B$2:$B$15,0),9)","v":3},{"$f":"IF(AD19<=$AK$2,IF(AF19<>\"\",MATCH(AF19,$I:$I,0)-2,IF(AG19<>\"\",MATCH(AG19,$P:$P,0)-2,IF(AH19<>\"\",MATCH(AH19,$S:$S,0)-2,\"\"))),\"\")","v":19},{"$f":"_xlfn.IFNA(MATCH(ROW()-2,AB:AB,0)-2,\"\")","v":""},"00:16:00",17,{"$f":"IFERROR(IF(AND(G19<>\"\",I19=\"\",G19<=MAX(I20:I$73)),IF(SMALL(I20:I$73,1)-G19>0,SMALL(I20:I$73,1),SMALL(I20:I$73,2)),\"\"),\"\")","v":"09:07:00"},{"$f":"IFERROR(IF(AND(N19<>\"\",P19=\"\",N19<=MAX(P20:P$73)),IF(SMALL(P20:P$73,1)-N19>0,SMALL(P20:P$73,1),IF(SMALL(P20:P$73,2)-N19>0,SMALL(P20:P$73,2),SMALL(P20:P$73,3))),\"\"),\"\")","v":""},{"$f":"IFERROR(IF(AND(Q19<>\"\",S19=\"\",Q19<=MAX(S20:S$73)),IF(SMALL(S20:S$73,1)-Q19>0,SMALL(S20:S$73,1),IF(SMALL(S20:S$73,2)>0,SMALL(S20:S$73,2),SMALL(S20:S$73,3))),\"\"),\"\")","v":""}]
["135D","07:54:00","08:24:00",null,null,null,null,null,null,null,null,null,null,null,null,null,null,null,null,null,null,"松江","普通",null,null,"",{"$f":"_xlfn.IFNA(MATCH(V20,設定_主要駅!$B$2:$B$15,0),9)","v":2},{"$f":"IF(AD20<=$AK$2,IF(AF20<>\"\",MATCH(AF20,$I:$I,0)-2,IF(AG20<>\"\",MATCH(AG20,$P:$P,0)-2,IF(AH20<>\"\",MATCH(AH20,$S:$S,0)-2,\"\"))),\"\")","v":""},{"$f":"_xlfn.IFNA(MATCH(ROW()-2,AB:AB,0)-2,\"\")","v":""},"",18,{"$f":"IFERROR(IF(AND(G20<>\"\",I20=\"\",G20<=MAX(I21:I$73)),IF(SMALL(I21:I$73,1)-G20>0,SMALL(I21:I$73,1),SMALL(I21:I$73,2)),\"\"),\"\")","v":""},{"$f":"IFERROR(IF(AND(N20<>\"\",P20=\"\",N20<=MAX(P21:P$73)),IF(SMALL(P21:P$73,1)-N20>0,SMALL(P21:P$73,1),IF(SMALL(P21:P$73,2)-N20>0,SMALL(P21:P$73,2),SMALL(P21:P$73,3))),\"\"),\"\")","v":""},{"$f":"IFERROR(IF(AND(Q20<>\"\",S20=\"\",Q20<=MAX(S21:S$73)),IF(SMALL(S21:S$73,1)-Q20>0,SMALL(S21:S$73,1),IF(SMALL(S21:S$73,2)>0,SMALL(S21:S$73,2),SMALL(S21:S$73,3))),\"\"),\"\")","v":""}]
["2001D","08:18:00","08:33:00","08:34:00","08:47:00","08:50:00","09:05:00",null,"09:07:00","09:29:00","09:30:00","09:58:00","10:00:00","10:17:00",null,"10:20:00","11:02:00",null,null,null,null,"益田","特急","スーパーまつかぜ1号",null,"",{"$f":"_xlfn.IFNA(MATCH(V21,設定_主要駅!$B$2:$B$15,0),9)","v":7},{"$f":"IF(AD21<=$AK$2,IF(AF21<>\"\",MATCH(AF21,$I:$I,0)-2,IF(AG21<>\"\",MATCH(AG21,$P:$P,0)-2,IF(AH21<>\"\",MATCH(AH21,$S:$S,0)-2,\"\"))),\"\")","v":""},{"$f":"_xlfn.IFNA(MATCH(ROW()-2,AB:AB,0)-2,\"\")","v":17},"02:25:00",19,{"$f":"IFERROR(IF(AND(G21<>\"\",I21=\"\",G21<=MAX(I22:I$73)),IF(SMALL(I22:I$73,1)-G21>0,SMALL(I22:I$73,1),SMALL(I22:I$73,2)),\"\"),\"\")","v":""},{"$f":"IFERROR(IF(AND(N21<>\"\",P21=\"\",N21<=MAX(P22:P$73)),IF(SMALL(P22:P$73,1)-N21>0,SMALL(P22:P$73,1),IF(SMALL(P22:P$73,2)-N21>0,SMALL(P22:P$73,2),SMALL(P22:P$73,3))),\"\"),\"\")","v":""},{"$f":"IFERROR(IF(AND(Q21<>\"\",S21=\"\",Q21<=MAX(S22:S$73)),IF(SMALL(S22:S$73,1)-Q21>0,SMALL(S22:S$73,1),IF(SMALL(S22:S$73,2)>0,SMALL(S22:S$73,2),SMALL(S22:S$73,3))),\"\"),\"\")","v":"13:27:00"}]
["281M","08:36:00","08:56:00","08:57:00","09:18:00","09:30:00","09:50:00",null,null,null,null,null,null,null,null,null,null,null,null,null,null,"出雲市","普通",null,null,"出雲市",{"$f":"_xlfn.IFNA(MATCH(V22,設定_主要駅!$B$2:$B$15,0),9)","v":3},{"$f":"IF(AD22<=$AK$2,IF(AF22<>\"\",MATCH(AF22,$I:$I,0)-2,IF(AG22<>\"\",MATCH(AG22,$P:$P,0)-2,IF(AH22<>\"\",MATCH(AH22,$S:$S,0)-2,\"\"))),\"\")","v":23},{"$f":"_xlfn.IFNA(MATCH(ROW()-2,AB:AB,0)-2,\"\")","v":""},"00:34:00",20,{"$f":"IFERROR(IF(AND(G22<>\"\",I22=\"\",G22<=MAX(I23:I$73)),IF(SMALL(I23:I$73,1)-G22>0,SMALL(I23:I$73,1),SMALL(I23:I$73,2)),\"\"),\"\")","v":"10:24:00"},{"$f":"IFERROR(IF(AND(N22<>\"\",P22=\"\",N22<=MAX(P23:P$73)),IF(SMALL(P23:P$73,1)-N22>0,SMALL(P23:P$73,1),IF(SMALL(P23:P$73,2)-N22>0,SMALL(P23:P$73,2),SMALL(P23:P$73,3))),\"\"),\"\")","v":""},{"$f":"IFERROR(IF(AND(Q22<>\"\",S22=\"\",Q22<=MAX(S23:S$73)),IF(SMALL(S23:S$73,1)-Q22>0,SMALL(S23:S$73,1),IF(SMALL(S23:S$73,2)>0,SMALL(S23:S$73,2),SMALL(S23:S$73,3))),\"\"),\"\")","v":""}]
["4031M","09:17:00","09:33:00","09:34:00","09:47:00","09:48:00","10:00:00",null,null,null,null,null,null,null,null,null,null,null,null,null,null,"出雲市","特急","サンライズ出雲",null,"出雲市",{"$f":"_xlfn.IFNA(MATCH(V23,設定_主要駅!$B$2:$B$15,0),9)","v":3},{"$f":"IF(AD23<=$AK$2,IF(AF23<>\"\",MATCH(AF23,$I:$I,0)-2,IF(AG23<>\"\",MATCH(AG23,$P:$P,0)-2,IF(AH23<>\"\",MATCH(AH23,$S:$S,0)-2,\"\"))),\"\")","v":23},{"$f":"_xlfn.IFNA(MATCH(ROW()-2,AB:AB,0)-2,\"\")","v":""},"00:24:00",21,{"$f":"IFERROR(IF(AND(G23<>\"\",I23=\"\",G23<=MAX(I24:I$73)),IF(SMALL(I24:I$73,1)-G23>0,SMALL(I24:I$73,1),SMALL(I24:I$73,2)),\"\"),\"\")","v":"10:24:00"},{"$f":"IFERROR(IF(AND(N23<>\"\",P23=\"\",N23<=MAX(P24:P$73)),IF(SMALL(P24:P$73,1)-N23>0,SMALL(P24:P$73,1),IF(SMALL(P24:P$73,2)-N23>0,SMALL(P24:P$73,2),SMALL(P24:P$73,3))),\"\"),\"\")","v":""},{"$f":"IFERROR(IF(AND(Q23<>\"\",S23=\"\",Q23<=MAX(S24:S$73)),IF(SMALL(S24:S$73,1)-Q23>0,SMALL(S24:S$73,1),IF(SMALL(S24:S$73,2)>0,SMALL(S24:S$73,2),SMALL(S24:S$73,3))),\"\"),\"\")","v":""}]
["1001M","09:30:00","09:49:00","09:50:00","10:06:00","10:07:00","10:18:00",null,null,null,null,null,null,null,null,null,null,null,null,null,null,"出雲市","特急","やくも1号",null,"出雲市",{"$f":"_xlfn.IFNA(MATCH(V24,設定_主要駅!$B$2:$B$15,0),9)","v":3},{"$f":"IF(AD24<=$AK$2,IF(AF24<>\"\",MATCH(AF24,$I:$I,0)-2,IF(AG24<>\"\",MATCH(AG24,$P:$P,0)-2,IF(AH24<>\"\",MATCH(AH24,$S:$S,0)-2,\"\"))),\"\")","v":23},{"$f":"_xlfn.IFNA(MATCH(ROW()-2,AB:AB,0)-2,\"\")","v":""},"00:06:00",22,{"$f":"IFERROR(IF(AND(G24<>\"\",I24=\"\",G24<=MAX(I25:I$73)),IF(SMALL(I25:I$73,1)-G24>0,SMALL(I25:I$73,1),SMALL(I25:I$73,2)),\"\"),\"\")","v":"10:24:00"},{"$f":"IFERROR(IF(AND(N24<>\"\",P24=\"\",N24<=MAX(P25:P$73)),IF(SMALL(P25:P$73,1)-N24>0,SMALL(P25:P$73,1),IF(SMALL(P25:P$73,2)-N24>0,SMALL(P25:P$73,2),SMALL(P25:P$73,3))),\"\"),\"\")","v":""},{"$f":"IFERROR(IF(AND(Q24<>\"\",S24=\"\",Q24<=MAX(S25:S$73)),IF(SMALL(S25:S$73,1)-Q24>0,SMALL(S25:S$73,1),IF(SMALL(S25:S$73,2)>0,SMALL(S25:S$73,2),SMALL(S25:S$73,3))),\"\"),\"\")","v":""}]
[null,null,null,null,null,null,null,"327D","10:24:00","11:05:00","11:09:00","12:00:00","12:01:00","12:28:00",null,null,null,null,null,null,null,"浜田","普通",null,null,"浜田",{"$f":"_xlfn.IFNA(MATCH(V25,設定_主要駅!$B$2:$B$15,0),9)","v":6},{"$f":"IF(AD25<=$AK$2,IF(AF25<>\"\",MATCH(AF25,$I:$I,0)-2,IF(AG25<>\"\",MATCH(AG25,$P:$P,0)-2,IF(AH25<>\"\",MATCH(AH25,$S:$S,0)-2,\"\"))),\"\")","v":26},{"$f":"_xlfn.IFNA(MATCH(ROW()-2,AB:AB,0)-2,\"\")","v":20},"00:21:00",23,{"$f":"IFERROR(IF(AND(G25<>\"\",I25=\"\",G25<=MAX(I26:I$73)),IF(SMALL(I26:I$73,1)-G25>0,SMALL(I26:I$73,1),SMALL(I26:I$73,2)),\"\"),\"\")","v":""},{"$f":"IFERROR(IF(AND(N25<>\"\",P25=\"\",N25<=MAX(P26:P$73)),IF(SMALL(P26:P$73,1)-N25>0,SMALL(P26:P$73,1),IF(SMALL(P26:P$73,2)-N25>0,SMALL(P26:P$73,2),SMALL(P26:P$73,3))),\"\"),\"\")","v":"12:49:00"},{"$f":"IFERROR(IF(AND(Q25<>\"\",S25=\"\",Q25<=MAX(S26:S$73)),IF(SMALL(S26:S$73,1)-Q25>0,SMALL(S26:S$73,1),IF(SMALL(S26:S$73,2)>0,SMALL(S26:S$73,2),SMALL(S26:S$73,3))),\"\"),\"\")","v":""}]
["137D","09:54:00","10:15:00","10:20:00","10:41:00","10:51:00","11:07:00",null,null,null,null,null,null,null,null,null,null,null,null,null,null,"出雲市","普通",null,null,"出雲市",{"$f":"_xlfn.IFNA(MATCH(V26,設定_主要駅!$B$2:$B$15,0),9)","v":3},{"$f":"IF(AD26<=$AK$2,IF(AF26<>\"\",MATCH(AF26,$I:$I,0)-2,IF(AG26<>\"\",MATCH(AG26,$P:$P,0)-2,IF(AH26<>\"\",MATCH(AH26,$S:$S,0)-2,\"\"))),\"\")","v":26},{"$f":"_xlfn.IFNA(MATCH(ROW()-2,AB:AB,0)-2,\"\")","v":""},"00:34:00",24,{"$f":"IFERROR(IF(AND(G26<>\"\",I26=\"\",G26<=MAX(I27:I$73)),IF(SMALL(I27:I$73,1)-G26>0,SMALL(I27:I$73,1),SMALL(I27:I$73,2)),\"\"),\"\")","v":"11:41:00"},{"$f":"IFERROR(IF(AND(N26<>\"\",P26=\"\",N26<=MAX(P27:P$73)),IF(SMALL(P27:P$73,1)-N26>0,SMALL(P27:P$73,1),IF(SMALL(P27:P$73,2)-N26>0,SMALL(P27:P$73,2),SMALL(P27:P$73,3))),\"\"),\"\")","v":""},{"$f":"IFERROR(IF(AND(Q26<>\"\",S26=\"\",Q26<=MAX(S27:S$73)),IF(SMALL(S27:S$73,1)-Q26>0,SMALL(S27:S$73,1),IF(SMALL(S27:S$73,2)>0,SMALL(S27:S$73,2),SMALL(S27:S$73,3))),\"\"),\"\")","v":""}]
["1003M","10:32:00","10:47:00","10:48:00","11:01:00","11:01:00","11:12:00",null,null,null,null,null,null,null,null,null,null,null,null,null,null,"出雲市","特急","やくも3号",null,"出雲市",{"$f":"_xlfn.IFNA(MATCH(V27,設定_主要駅!$B$2:$B$15,0),9)","v":3},{"$f":"IF(AD27<=$AK$2,IF(AF27<>\"\",MATCH(AF27,$I:$I,0)-2,IF(AG27<>\"\",MATCH(AG27,$P:$P,0)-2,IF(AH27<>\"\",MATCH(AH27,$S:$S,0)-2,\"\"))),\"\")","v":26},{"$f":"_xlfn.IFNA(MATCH(ROW()-2,AB:AB,0)-2,\"\")","v":""},"00:29:00",25,{"$f":"IFERROR(IF(AND(G27<>\"\",I27=\"\",G27<=MAX(I28:I$73)),IF(SMALL(I28:I$73,1)-G27>0,SMALL(I28:I$73,1),SMALL(I28:I$73,2)),\"\"),\"\")","v":"11:41:00"},{"$f":"IFERROR(IF(AND(N27<>\"\",P27=\"\",N27<=MAX(P28:P$73)),IF(SMALL(P28:P$73,1)-N27>0,SMALL(P28:P$73,1),IF(SMALL(P28:P$73,2)-N27>0,SMALL(P28:P$73,2),SMALL(P28:P$73,3))),\"\"),\"\")","v":""},{"$f":"IFERROR(IF(AND(Q27<>\"\",S27=\"\",Q27<=MAX(S28:S$73)),IF(SMALL(S28:S$73,1)-Q27>0,SMALL(S28:S$73,1),IF(SMALL(S28:S$73,2)>0,SMALL(S28:S$73,2),SMALL(S28:S$73,3))),\"\"),\"\")","v":""}]
["3003D","11:00:00","11:14:00","11:16:00","-","-","11:39:00",null,"11:41:00","12:05:00","12:06:00","12:32:00","12:33:00","12:48:00",null,"12:49:00","13:24:00",null,"13:27:00","13:48:00","13:57:00","新山口","特急","スーパーおき3号",null,"",{"$f":"_xlfn.IFNA(MATCH(V28,設定_主要駅!$B$2:$B$15,0),9)","v":9},{"$f":"IF(AD28<=$AK$2,IF(AF28<>\"\",MATCH(AF28,$I:$I,0)-2,IF(AG28<>\"\",MATCH(AG28,$P:$P,0)-2,IF(AH28<>\"\",MATCH(AH28,$S:$S,0)-2,\"\"))),\"\")","v":""},{"$f":"_xlfn.IFNA(MATCH(ROW()-2,AB:AB,0)-2,\"\")","v":23},"",26,{"$f":"IFERROR(IF(AND(G28<>\"\",I28=\"\",G28<=MAX(I29:I$73)),IF(SMALL(I29:I$73,1)-G28>0,SMALL(I29:I$73,1),SMALL(I29:I$73,2)),\"\"),\"\")","v":""},{"$f":"IFERROR(IF(AND(N28<>\"\",P28=\"\",N28<=MAX(P29:P$73)),IF(SMALL(P29:P$73,1)-N28>0,SMALL(P29:P$73,1),IF(SMALL(P29:P$73,2)-N28>0,SMALL(P29:P$73,2),SMALL(P29:P$73,3))),\"\"),\"\")","v":""},{"$f":"IFERROR(IF(AND(Q28<>\"\",S28=\"\",Q28<=MAX(S29:S$73)),IF(SMALL(S29:S$73,1)-Q28>0,SMALL(S29:S$73,1),IF(SMALL(S29:S$73,2)>0,SMALL(S29:S$73,2),SMALL(S29:S$73,3))),\"\"),\"\")","v":""}]
[null,null,null,null,null,null,null,null,null,null,null,null,null,null,"431D","13:16:00","14:18:00",null,null,null,null,"益田","普通",null,null,"",{"$f":"_xlfn.IFNA(MATCH(V29,設定_主要駅!$B$2:$B$15,0),9)","v":7},{"$f":"IF(AD29<=$AK$2,IF(AF29<>\"\",MATCH(AF29,$I:$I,0)-2,IF(AG29<>\"\",MATCH(AG29,$P:$P,0)-2,IF(AH29<>\"\",MATCH(AH29,$S:$S,0)-2,\"\"))),\"\")","v":""},{"$f":"_xlfn.IFNA(MATCH(ROW()-2,AB:AB,0)-2,\"\")","v":""},"02:21:00",27,{"$f":"IFERROR(IF(AND(G29<>\"\",I29=\"\",G29<=MAX(I30:I$73)),IF(SMALL(I30:I$73,1)-G29>0,SMALL(I30:I$73,1),SMALL(I30:I$73,2)),\"\"),\"\")","v":""},{"$f":"IFERROR(IF(AND(N29<>\"\",P29=\"\",N29<=MAX(P30:P$73)),IF(SMALL(P30:P$73,1)-N29>0,SMALL(P30:P$73,1),IF(SMALL(P30:P$73,2)-N29>0,SMALL(P30:P$73,2),SMALL(P30:P$73,3))),\"\"),\"\")","v":""},{"$f":"IFERROR(IF(AND(Q29<>\"\",S29=\"\",Q29<=MAX(S30:S$73)),IF(SMALL(S30:S$73,1)-Q29>0,SMALL(S30:S$73,1),IF(SMALL(S30:S$73,2)>0,SMALL(S30:S$73,2),SMALL(S30:S$73,3))),\"\"),\"\")","v":"16:39:00"}]
["1005M","11:33:00","11:48:00","11:49:00","12:06:00","12:06:00","12:17:00",null,null,null,null,null,null,null,null,null,null,null,null,null,null,"出雲市","特急","やくも5号",null,"出雲市",{"$f":"_xlfn.IFNA(MATCH(V30,設定_主要駅!$B$2:$B$15,0),9)","v":3},{"$f":"IF(AD30<=$AK$2,IF(AF30<>\"\",MATCH(AF30,$I:$I,0)-2,IF(AG30<>\"\",MATCH(AG30,$P:$P,0)-2,IF(AH30<>\"\",MATCH(AH30,$S:$S,0)-2,\"\"))),\"\")","v":29},{"$f":"_xlfn.IFNA(MATCH(ROW()-2,AB:AB,0)-2,\"\")","v":""},"00:04:00",28,{"$f":"IFERROR(IF(AND(G30<>\"\",I30=\"\",G30<=MAX(I31:I$73)),IF(SMALL(I31:I$73,1)-G30>0,SMALL(I31:I$73,1),SMALL(I31:I$73,2)),\"\"),\"\")","v":"12:21:00"},{"$f":"IFERROR(IF(AND(N30<>\"\",P30=\"\",N30<=MAX(P31:P$73)),IF(SMALL(P31:P$73,1)-N30>0,SMALL(P31:P$73,1),IF(SMALL(P31:P$73,2)-N30>0,SMALL(P31:P$73,2),SMALL(P31:P$73,3))),\"\"),\"\")","v":""},{"$f":"IFERROR(IF(AND(Q30<>\"\",S30=\"\",Q30<=MAX(S31:S$73)),IF(SMALL(S31:S$73,1)-Q30>0,SMALL(S31:S$73,1),IF(SMALL(S31:S$73,2)>0,SMALL(S31:S$73,2),SMALL(S31:S$73,3))),\"\"),\"\")","v":""}]
[null,null,null,null,null,null,null,"329D","12:21:00","12:59:00","13:00:00","13:58:00","14:01:00","14:28:00",null,null,null,null,null,null,null,"浜田","普通",null,null,"浜田",{"$f":"_xlfn.IFNA(MATCH(V31,設定_主要駅!$B$2:$B$15,0),9)","v":6},{"$f":"IF(AD31<=$AK$2,IF(AF31<>\"\",MATCH(AF31,$I:$I,0)-2,IF(AG31<>\"\",MATCH(AG31,$P:$P,0)-2,IF(AH31<>\"\",MATCH(AH31,$S:$S,0)-2,\"\"))),\"\")","v":32},{"$f":"_xlfn.IFNA(MATCH(ROW()-2,AB:AB,0)-2,\"\")","v":28},"00:15:00",29,{"$f":"IFERROR(IF(AND(G31<>\"\",I31=\"\",G31<=MAX(I32:I$73)),IF(SMALL(I32:I$73,1)-G31>0,SMALL(I32:I$73,1),SMALL(I32:I$73,2)),\"\"),\"\")","v":""},{"$f":"IFERROR(IF(AND(N31<>\"\",P31=\"\",N31<=MAX(P32:P$73)),IF(SMALL(P32:P$73,1)-N31>0,SMALL(P32:P$73,1),IF(SMALL(P32:P$73,2)-N31>0,SMALL(P32:P$73,2),SMALL(P32:P$73,3))),\"\"),\"\")","v":"14:43:00"},{"$f":"IFERROR(IF(AND(Q31<>\"\",S31=\"\",Q31<=MAX(S32:S$73)),IF(SMALL(S32:S$73,1)-Q31>0,SMALL(S32:S$73,1),IF(SMALL(S32:S$73,2)>0,SMALL(S32:S$73,2),SMALL(S32:S$73,3))),\"\"),\"\")","v":""}]
["283M","11:40:00","12:01:00","12:20:00","12:44:00","12:49:00","13:05:00",null,null,null,null,null,null,null,null,null,null,null,null,null,null,"西出雲","普通",null,null,"出雲市",{"$f":"_xlfn.IFNA(MATCH(V32,設定_主要駅!$B$2:$B$15,0),9)","v":9},{"$f":"IF(AD32<=$AK$2,IF(AF32<>\"\",MATCH(AF32,$I:$I,0)-2,IF(AG32<>\"\",MATCH(AG32,$P:$P,0)-2,IF(AH32<>\"\",MATCH(AH32,$S:$S,0)-2,\"\"))),\"\")","v":32},{"$f":"_xlfn.IFNA(MATCH(ROW()-2,AB:AB,0)-2,\"\")","v":""},"00:22:00",30,{"$f":"IFERROR(IF(AND(G32<>\"\",I32=\"\",G32<=MAX(I33:I$73)),IF(SMALL(I33:I$73,1)-G32>0,SMALL(I33:I$73,1),SMALL(I33:I$73,2)),\"\"),\"\")","v":"13:27:00"},{"$f":"IFERROR(IF(AND(N32<>\"\",P32=\"\",N32<=MAX(P33:P$73)),IF(SMALL(P33:P$73,1)-N32>0,SMALL(P33:P$73,1),IF(SMALL(P33:P$73,2)-N32>0,SMALL(P33:P$73,2),SMALL(P33:P$73,3))),\"\"),\"\")","v":""},{"$f":"IFERROR(IF(AND(Q32<>\"\",S32=\"\",Q32<=MAX(S33:S$73)),IF(SMALL(S33:S$73,1)-Q32>0,SMALL(S33:S$73,1),IF(SMALL(S33:S$73,2)>0,SMALL(S33:S$73,2),SMALL(S33:S$73,3))),\"\"),\"\")","v":""}]
["1007M","12:34:00","12:49:00","12:50:00","13:03:00","13:04:00","13:15:00",null,null,null,null,null,null,null,null,null,null,null,null,null,null,"出雲市","特急","やくも7号",null,"出雲市",{"$f":"_xlfn.IFNA(MATCH(V33,設定_主要駅!$B$2:$B$15,0),9)","v":3},{"$f":"IF(AD33<=$AK$2,IF(AF33<>\"\",MATCH(AF33,$I:$I,0)-2,IF(AG33<>\"\",MATCH(AG33,$P:$P,0)-2,IF(AH33<>\"\",MATCH(AH33,$S:$S,0)-2,\"\"))),\"\")","v":32},{"$f":"_xlfn.IFNA(MATCH(ROW()-2,AB:AB,0)-2,\"\")","v":""},"00:12:00",31,{"$f":"IFERROR(IF(AND(G33<>\"\",I33=\"\",G33<=MAX(I34:I$73)),IF(SMALL(I34:I$73,1)-G33>0,SMALL(I34:I$73,1),SMALL(I34:I$73,2)),\"\"),\"\")","v":"13:27:00"},{"$f":"IFERROR(IF(AND(N33<>\"\",P33=\"\",N33<=MAX(P34:P$73)),IF(SMALL(P34:P$73,1)-N33>0,SMALL(P34:P$73,1),IF(SMALL(P34:P$73,2)-N33>0,SMALL(P34:P$73,2),SMALL(P34:P$73,3))),\"\"),\"\")","v":""},{"$f":"IFERROR(IF(AND(Q33<>\"\",S33=\"\",Q33<=MAX(S34:S$73)),IF(SMALL(S34:S$73,1)-Q33>0,SMALL(S34:S$73,1),IF(SMALL(S34:S$73,2)>0,SMALL(S34:S$73,2),SMALL(S34:S$73,3))),\"\"),\"\")","v":""}]
["2005D",null,"13:02:00","13:03:00","-","-","13:25:00",null,"13:27:00","13:54:00","13:55:00","14:24:00","14:25:00","14:41:00",null,"14:43:00","15:20:00",null,null,null,null,"益田","特急","スーパーまつかぜ5号",null,"",{"$f":"_xlfn.IFNA(MATCH(V34,設定_主要駅!$B$2:$B$15,0),9)","v":7},{"$f":"IF(AD34<=$AK$2,IF(AF34<>\"\",MATCH(AF34,$I:$I,0)-2,IF(AG34<>\"\",MATCH(AG34,$P:$P,0)-2,IF(AH34<>\"\",MATCH(AH34,$S:$S,0)-2,\"\"))),\"\")","v":""},{"$f":"_xlfn.IFNA(MATCH(ROW()-2,AB:AB,0)-2,\"\")","v":29},"01:19:00",32,{"$f":"IFERROR(IF(AND(G34<>\"\",I34=\"\",G34<=MAX(I35:I$73)),IF(SMALL(I35:I$73,1)-G34>0,SMALL(I35:I$73,1),SMALL(I35:I$73,2)),\"\"),\"\")","v":""},{"$f":"IFERROR(IF(AND(N34<>\"\",P34=\"\",N34<=MAX(P35:P$73)),IF(SMALL(P35:P$73,1)-N34>0,SMALL(P35:P$73,1),IF(SMALL(P35:P$73,2)-N34>0,SMALL(P35:P$73,2),SMALL(P35:P$73,3))),\"\"),\"\")","v":""},{"$f":"IFERROR(IF(AND(Q34<>\"\",S34=\"\",Q34<=MAX(S35:S$73)),IF(SMALL(S35:S$73,1)-Q34>0,SMALL(S35:S$73,1),IF(SMALL(S35:S$73,2)>0,SMALL(S35:S$73,2),SMALL(S35:S$73,3))),\"\"),\"\")","v":"16:39:00"}]
[null,null,null,null,null,null,null,null,null,null,null,null,null,null,null,null,null,"2550D","16:39:00","17:08:00","17:19:00","新山口","普通",null,null,"",{"$f":"_xlfn.IFNA(MATCH(V35,設定_主要駅!$B$2:$B$15,0),9)","v":9},{"$f":"IF(AD35<=$AK$2,IF(AF35<>\"\",MATCH(AF35,$I:$I,0)-2,IF(AG35<>\"\",MATCH(AG35,$P:$P,0)-2,IF(AH35<>\"\",MATCH(AH35,$S:$S,0)-2,\"\"))),\"\")","v":""},{"$f":"_xlfn.IFNA(MATCH(ROW()-2,AB:AB,0)-2,\"\")","v":""},"",33,{"$f":"IFERROR(IF(AND(G35<>\"\",I35=\"\",G35<=MAX(I36:I$73)),IF(SMALL(I36:I$73,1)-G35>0,SMALL(I36:I$73,1),SMALL(I36:I$73,2)),\"\"),\"\")","v":""},{"$f":"IFERROR(IF(AND(N35<>\"\",P35=\"\",N35<=MAX(P36:P$73)),IF(SMALL(P36:P$73,1)-N35>0,SMALL(P36:P$73,1),IF(SMALL(P36:P$73,2)-N35>0,SMALL(P36:P$73,2),SMALL(P36:P$73,3))),\"\"),\"\")","v":""},{"$f":"IFERROR(IF(AND(Q35<>\"\",S35=\"\",Q35<=MAX(S36:S$73)),IF(SMALL(S36:S$73,1)-Q35>0,SMALL(S36:S$73,1),IF(SMALL(S36:S$73,2)>0,SMALL(S36:S$73,2),SMALL(S36:S$73,3))),\"\"),\"\")","v":""}]
["139D","12:27:00","12:58:00","13:07:00","13:26:00","13:27:00","13:42:00",null,null,null,null,null,null,null,null,null,null,null,null,null,null,"出雲市","普通",null,null,"",{"$f":"_xlfn.IFNA(MATCH(V36,設定_主要駅!$B$2:$B$15,0),9)","v":3},{"$f":"IF(AD36<=$AK$2,IF(AF36<>\"\",MATCH(AF36,$I:$I,0)-2,IF(AG36<>\"\",MATCH(AG36,$P:$P,0)-2,IF(AH36<>\"\",MATCH(AH36,$S:$S,0)-2,\"\"))),\"\")","v":""},{"$f":"_xlfn.IFNA(MATCH(ROW()-2,AB:AB,0)-2,\"\")","v":""},"00:42:00",34,{"$f":"IFERROR(IF(AND(G36<>\"\",I36=\"\",G36<=MAX(I37:I$73)),IF(SMALL(I37:I$73,1)-G36>0,SMALL(I37:I$73,1),SMALL(I37:I$73,2)),\"\"),\"\")","v":"14:24:00"},{"$f":"IFERROR(IF(AND(N36<>\"\",P36=\"\",N36<=MAX(P37:P$73)),IF(SMALL(P37:P$73,1)-N36>0,SMALL(P37:P$73,1),IF(SMALL(P37:P$73,2)-N36>0,SMALL(P37:P$73,2),SMALL(P37:P$73,3))),\"\"),\"\")","v":""},{"$f":"IFERROR(IF(AND(Q36<>\"\",S36=\"\",Q36<=MAX(S37:S$73)),IF(SMALL(S37:S$73,1)-Q36>0,SMALL(S37:S$73,1),IF(SMALL(S37:S$73,2)>0,SMALL(S37:S$73,2),SMALL(S37:S$73,3))),\"\"),\"\")","v":""}]
["1009M","13:34:00","13:48:00","13:49:00","14:08:00","14:08:00","14:19:00",null,null,null,null,null,null,null,null,null,null,null,null,null,null,"出雲市","特急","やくも9号",null,"出雲市",{"$f":"_xlfn.IFNA(MATCH(V37,設定_主要駅!$B$2:$B$15,0),9)","v":3},{"$f":"IF(AD37<=$AK$2,IF(AF37<>\"\",MATCH(AF37,$I:$I,0)-2,IF(AG37<>\"\",MATCH(AG37,$P:$P,0)-2,IF(AH37<>\"\",MATCH(AH37,$S:$S,0)-2,\"\"))),\"\")","v":36},{"$f":"_xlfn.IFNA(MATCH(ROW()-2,AB:AB,0)-2,\"\")","v":""},"00:05:00",35,{"$f":"IFERROR(IF(AND(G37<>\"\",I37=\"\",G37<=MAX(I38:I$73)),IF(SMALL(I38:I$73,1)-G37>0,SMALL(I38:I$73,1),SMALL(I38:I$73,2)),\"\"),\"\")","v":"14:24:00"},{"$f":"IFERROR(IF(AND(N37<>\"\",P37=\"\",N37<=MAX(P38:P$73)),IF(SMALL(P38:P$73,1)-N37>0,SMALL(P38:P$73,1),IF(SMALL(P38:P$73,2)-N37>0,SMALL(P38:P$73,2),SMALL(P38:P$73,3))),\"\"),\"\")","v":""},{"$f":"IFERROR(IF(AND(Q37<>\"\",S37=\"\",Q37<=MAX(S38:S$73)),IF(SMALL(S38:S$73,1)-Q37>0,SMALL(S38:S$73,1),IF(SMALL(S38:S$73,2)>0,SMALL(S38:S$73,2),SMALL(S38:S$73,3))),\"\"),\"\")","v":""}]
[null,null,null,null,null,null,null,"331D","14:24:00","15:06:00","15:09:00","15:56:00","15:57:00","16:26:00",null,null,null,null,null,null,null,"浜田","普通",null,null,"浜田",{"$f":"_xlfn.IFNA(MATCH(V38,設定_主要駅!$B$2:$B$15,0),9)","v":6},{"$f":"IF(AD38<=$AK$2,IF(AF38<>\"\",MATCH(AF38,$I:$I,0)-2,IF(AG38<>\"\",MATCH(AG38,$P:$P,0)-2,IF(AH38<>\"\",MATCH(AH38,$S:$S,0)-2,\"\"))),\"\")","v":37},{"$f":"_xlfn.IFNA(MATCH(ROW()-2,AB:AB,0)-2,\"\")","v":35},"00:11:00",36,{"$f":"IFERROR(IF(AND(G38<>\"\",I38=\"\",G38<=MAX(I39:I$73)),IF(SMALL(I39:I$73,1)-G38>0,SMALL(I39:I$73,1),SMALL(I39:I$73,2)),\"\"),\"\")","v":""},{"$f":"IFERROR(IF(AND(N38<>\"\",P38=\"\",N38<=MAX(P39:P$73)),IF(SMALL(P39:P$73,1)-N38>0,SMALL(P39:P$73,1),IF(SMALL(P39:P$73,2)-N38>0,SMALL(P39:P$73,2),SMALL(P39:P$73,3))),\"\"),\"\")","v":"16:37:00"},{"$f":"IFERROR(IF(AND(Q38<>\"\",S38=\"\",Q38<=MAX(S39:S$73)),IF(SMALL(S39:S$73,1)-Q38>0,SMALL(S39:S$73,1),IF(SMALL(S39:S$73,2)>0,SMALL(S39:S$73,2),SMALL(S39:S$73,3))),\"\"),\"\")","v":""}]
[null,null,null,null,null,null,null,null,null,null,null,null,null,null,"433D","16:37:00","17:27:00",null,null,null,null,"益田","普通",null,null,"益田",{"$f":"_xlfn.IFNA(MATCH(V39,設定_主要駅!$B$2:$B$15,0),9)","v":7},{"$f":"IF(AD39<=$AK$2,IF(AF39<>\"\",MATCH(AF39,$I:$I,0)-2,IF(AG39<>\"\",MATCH(AG39,$P:$P,0)-2,IF(AH39<>\"\",MATCH(AH39,$S:$S,0)-2,\"\"))),\"\")","v":44},{"$f":"_xlfn.IFNA(MATCH(ROW()-2,AB:AB,0)-2,\"\")","v":36},"00:11:00",37,{"$f":"IFERROR(IF(AND(G39<>\"\",I39=\"\",G39<=MAX(I40:I$73)),IF(SMALL(I40:I$73,1)-G39>0,SMALL(I40:I$73,1),SMALL(I40:I$73,2)),\"\"),\"\")","v":""},{"$f":"IFERROR(IF(AND(N39<>\"\",P39=\"\",N39<=MAX(P40:P$73)),IF(SMALL(P40:P$73,1)-N39>0,SMALL(P40:P$73,1),IF(SMALL(P40:P$73,2)-N39>0,SMALL(P40:P$73,2),SMALL(P40:P$73,3))),\"\"),\"\")","v":""},{"$f":"IFERROR(IF(AND(Q39<>\"\",S39=\"\",Q39<=MAX(S40:S$73)),IF(SMALL(S40:S$73,1)-Q39>0,SMALL(S40:S$73,1),IF(SMALL(S40:S$73,2)>0,SMALL(S40:S$73,2),SMALL(S40:S$73,3))),\"\"),\"\")","v":"17:38:00"}]
["141D","13:41:00","14:05:00","14:11:00","14:45:00","14:48:00","15:11:00",null,null,null,null,null,null,null,null,null,null,null,null,null,null,"出雲市","普通",null,null,"出雲市",{"$f":"_xlfn.IFNA(MATCH(V40,設定_主要駅!$B$2:$B$15,0),9)","v":3},{"$f":"IF(AD40<=$AK$2,IF(AF40<>\"\",MATCH(AF40,$I:$I,0)-2,IF(AG40<>\"\",MATCH(AG40,$P:$P,0)-2,IF(AH40<>\"\",MATCH(AH40,$S:$S,0)-2,\"\"))),\"\")","v":40},{"$f":"_xlfn.IFNA(MATCH(ROW()-2,AB:AB,0)-2,\"\")","v":""},"00:13:00",38,{"$f":"IFERROR(IF(AND(G40<>\"\",I40=\"\",G40<=MAX(I41:I$73)),IF(SMALL(I41:I$73,1)-G40>0,SMALL(I41:I$73,1),SMALL(I41:I$73,2)),\"\"),\"\")","v":"15:24:00"},{"$f":"IFERROR(IF(AND(N40<>\"\",P40=\"\",N40<=MAX(P41:P$73)),IF(SMALL(P41:P$73,1)-N40>0,SMALL(P41:P$73,1),IF(SMALL(P41:P$73,2)-N40>0,SMALL(P41:P$73,2),SMALL(P41:P$73,3))),\"\"),\"\")","v":""},{"$f":"IFERROR(IF(AND(Q40<>\"\",S40=\"\",Q40<=MAX(S41:S$73)),IF(SMALL(S41:S$73,1)-Q40>0,SMALL(S41:S$73,1),IF(SMALL(S41:S$73,2)>0,SMALL(S41:S$73,2),SMALL(S41:S$73,3))),\"\"),\"\")","v":""}]
["1011M","14:35:00","14:54:00","14:55:00","15:09:00","15:09:00","15:20:00",null,null,null,null,null,null,null,null,null,null,null,null,null,null,"出雲市","特急","やくも11号",null,"出雲市",{"$f":"_xlfn.IFNA(MATCH(V41,設定_主要駅!$B$2:$B$15,0),9)","v":3},{"$f":"IF(AD41<=$AK$2,IF(AF41<>\"\",MATCH(AF41,$I:$I,0)-2,IF(AG41<>\"\",MATCH(AG41,$P:$P,0)-2,IF(AH41<>\"\",MATCH(AH41,$S:$S,0)-2,\"\"))),\"\")","v":40},{"$f":"_xlfn.IFNA(MATCH(ROW()-2,AB:AB,0)-2,\"\")","v":""},"00:04:00",39,{"$f":"IFERROR(IF(AND(G41<>\"\",I41=\"\",G41<=MAX(I42:I$73)),IF(SMALL(I42:I$73,1)-G41>0,SMALL(I42:I$73,1),SMALL(I42:I$73,2)),\"\"),\"\")","v":"15:24:00"},{"$f":"IFERROR(IF(AND(N41<>\"\",P41=\"\",N41<=MAX(P42:P$73)),IF(SMALL(P42:P$73,1)-N41>0,SMALL(P42:P$73,1),IF(SMALL(P42:P$73,2)-N41>0,SMALL(P42:P$73,2),SMALL(P42:P$73,3))),\"\"),\"\")","v":""},{"$f":"IFERROR(IF(AND(Q41<>\"\",S41=\"\",Q41<=MAX(S42:S$73)),IF(SMALL(S42:S$73,1)-Q41>0,SMALL(S42:S$73,1),IF(SMALL(S42:S$73,2)>0,SMALL(S42:S$73,2),SMALL(S42:S$73,3))),\"\"),\"\")","v":""}]
[null,null,null,null,null,null,null,"333D","15:24:00","16:06:00","16:24:00","17:26:00","17:27:00","17:52:00",null,null,null,null,null,null,null,"浜田","普通",null,null,"浜田",{"$f":"_xlfn.IFNA(MATCH(V42,設定_主要駅!$B$2:$B$15,0),9)","v":6},{"$f":"IF(AD42<=$AK$2,IF(AF42<>\"\",MATCH(AF42,$I:$I,0)-2,IF(AG42<>\"\",MATCH(AG42,$P:$P,0)-2,IF(AH42<>\"\",MATCH(AH42,$S:$S,0)-2,\"\"))),\"\")","v":41},{"$f":"_xlfn.IFNA(MATCH(ROW()-2,AB:AB,0)-2,\"\")","v":38},"00:02:00",40,{"$f":"IFERROR(IF(AND(G42<>\"\",I42=\"\",G42<=MAX(I43:I$73)),IF(SMALL(I43:I$73,1)-G42>0,SMALL(I43:I$73,1),SMALL(I43:I$73,2)),\"\"),\"\")","v":""},{"$f":"IFERROR(IF(AND(N42<>\"\",P42=\"\",N42<=MAX(P43:P$73)),IF(SMALL(P43:P$73,1)-N42>0,SMALL(P43:P$73,1),IF(SMALL(P43:P$73,2)-N42>0,SMALL(P43:P$73,2),SMALL(P43:P$73,3))),\"\"),\"\")","v":"17:54:00"},{"$f":"IFERROR(IF(AND(Q42<>\"\",S42=\"\",Q42<=MAX(S43:S$73)),IF(SMALL(S43:S$73,1)-Q42>0,SMALL(S43:S$73,1),IF(SMALL(S43:S$73,2)>0,SMALL(S43:S$73,2),SMALL(S43:S$73,3))),\"\"),\"\")","v":""}]
[null,null,null,null,null,null,null,null,null,null,null,null,null,null,"435D","17:54:00","18:46:00",null,null,null,null,"益田","普通",null,null,"益田",{"$f":"_xlfn.IFNA(MATCH(V43,設定_主要駅!$B$2:$B$15,0),9)","v":7},{"$f":"IF(AD43<=$AK$2,IF(AF43<>\"\",MATCH(AF43,$I:$I,0)-2,IF(AG43<>\"\",MATCH(AG43,$P:$P,0)-2,IF(AH43<>\"\",MATCH(AH43,$S:$S,0)-2,\"\"))),\"\")","v":48},{"$f":"_xlfn.IFNA(MATCH(ROW()-2,AB:AB,0)-2,\"\")","v":40},"00:34:00",41,{"$f":"IFERROR(IF(AND(G43<>\"\",I43=\"\",G43<=MAX(I44:I$73)),IF(SMALL(I44:I$73,1)-G43>0,SMALL(I44:I$73,1),SMALL(I44:I$73,2)),\"\"),\"\")","v":""},{"$f":"IFERROR(IF(AND(N43<>\"\",P43=\"\",N43<=MAX(P44:P$73)),IF(SMALL(P44:P$73,1)-N43>0,SMALL(P44:P$73,1),IF(SMALL(P44:P$73,2)-N43>0,SMALL(P44:P$73,2),SMALL(P44:P$73,3))),\"\"),\"\")","v":""},{"$f":"IFERROR(IF(AND(Q43<>\"\",S43=\"\",Q43<=MAX(S44:S$73)),IF(SMALL(S44:S$73,1)-Q43>0,SMALL(S44:S$73,1),IF(SMALL(S44:S$73,2)>0,SMALL(S44:S$73,2),SMALL(S44:S$73,3))),\"\"),\"\")","v":"19:20:00"}]
["143D","14:46:00","15:12:00","15:29:00","15:49:00","15:49:00","16:06:00","335D","16:23:00","17:05:00","17:19:00","18:10:00","18:25:00","19:01:00",null,null,null,null,null,null,null,"浜田","普通",null,null,"浜田",{"$f":"_xlfn.IFNA(MATCH(V44,設定_主要駅!$B$2:$B$15,0),9)","v":6},{"$f":"IF(AD44<=$AK$2,IF(AF44<>\"\",MATCH(AF44,$I:$I,0)-2,IF(AG44<>\"\",MATCH(AG44,$P:$P,0)-2,IF(AH44<>\"\",MATCH(AH44,$S:$S,0)-2,\"\"))),\"\")","v":43},{"$f":"_xlfn.IFNA(MATCH(ROW()-2,AB:AB,0)-2,\"\")","v":""},"00:10:00",42,{"$f":"IFERROR(IF(AND(G44<>\"\",I44=\"\",G44<=MAX(I45:I$73)),IF(SMALL(I45:I$73,1)-G44>0,SMALL(I45:I$73,1),SMALL(I45:I$73,2)),\"\"),\"\")","v":""},{"$f":"IFERROR(IF(AND(N44<>\"\",P44=\"\",N44<=MAX(P45:P$73)),IF(SMALL(P45:P$73,1)-N44>0,SMALL(P45:P$73,1),IF(SMALL(P45:P$73,2)-N44>0,SMALL(P45:P$73,2),SMALL(P45:P$73,3))),\"\"),\"\")","v":"19:11:00"},{"$f":"IFERROR(IF(AND(Q44<>\"\",S44=\"\",Q44<=MAX(S45:S$73)),IF(SMALL(S45:S$73,1)-Q44>0,SMALL(S45:S$73,1),IF(SMALL(S45:S$73,2)>0,SMALL(S45:S$73,2),SMALL(S45:S$73,3))),\"\"),\"\")","v":""}]
[null,null,null,null,null,null,null,null,null,null,null,null,null,null,"437D","19:11:00","20:01:00",null,null,null,null,"益田","普通",null,null,"",{"$f":"_xlfn.IFNA(MATCH(V45,設定_主要駅!$B$2:$B$15,0),9)","v":7},{"$f":"IF(AD45<=$AK$2,IF(AF45<>\"\",MATCH(AF45,$I:$I,0)-2,IF(AG45<>\"\",MATCH(AG45,$P:$P,0)-2,IF(AH45<>\"\",MATCH(AH45,$S:$S,0)-2,\"\"))),\"\")","v":""},{"$f":"_xlfn.IFNA(MATCH(ROW()-2,AB:AB,0)-2,\"\")","v":42},"",43,{"$f":"IFERROR(IF(AND(G45<>\"\",I45=\"\",G45<=MAX(I46:I$73)),IF(SMALL(I46:I$73,1)-G45>0,SMALL(I46:I$73,1),SMALL(I46:I$73,2)),\"\"),\"\")","v":""},{"$f":"IFERROR(IF(AND(N45<>\"\",P45=\"\",N45<=MAX(P46:P$73)),IF(SMALL(P46:P$73,1)-N45>0,SMALL(P46:P$73,1),IF(SMALL(P46:P$73,2)-N45>0,SMALL(P46:P$73,2),SMALL(P46:P$73,3))),\"\"),\"\")","v":""},{"$f":"IFERROR(IF(AND(Q45<>\"\",S45=\"\",Q45<=MAX(S46:S$73)),IF(SMALL(S46:S$73,1)-Q45>0,SMALL(S46:S$73,1),IF(SMALL(S46:S$73,2)>0,SMALL(S46:S$73,2),SMALL(S46:S$73,3))),\"\"),\"\")","v":""}]
["3005D","15:05:00","15:19:00","15:20:00","-","-","15:46:00",null,"15:48:00","16:13:00","16:14:00","16:42:00","16:43:00","17:00:00",null,"17:01:00","17:36:00",null,"17:38:00","18:01:00","18:10:00","新山口","特急","スーパーおき5号",null,"",{"$f":"_xlfn.IFNA(MATCH(V46,設定_主要駅!$B$2:$B$15,0),9)","v":9},{"$f":"IF(AD46<=$AK$2,IF(AF46<>\"\",MATCH(AF46,$I:$I,0)-2,IF(AG46<>\"\",MATCH(AG46,$P:$P,0)-2,IF(AH46<>\"\",MATCH(AH46,$S:$S,0)-2,\"\"))),\"\")","v":""},{"$f":"_xlfn.IFNA(MATCH(ROW()-2,AB:AB,0)-2,\"\")","v":37},"",44,{"$f":"IFERROR(IF(AND(G46<>\"\",I46=\"\",G46<=MAX(I47:I$73)),IF(SMALL(I47:I$73,1)-G46>0,SMALL(I47:I$73,1),SMALL(I47:I$73,2)),\"\"),\"\")","v":""},{"$f":"IFERROR(IF(AND(N46<>\"\",P46=\"\",N46<=MAX(P47:P$73)),IF(SMALL(P47:P$73,1)-N46>0,SMALL(P47:P$73,1),IF(SMALL(P47:P$73,2)-N46>0,SMALL(P47:P$73,2),SMALL(P47:P$73,3))),\"\"),\"\")","v":""},{"$f":"IFERROR(IF(AND(Q46<>\"\",S46=\"\",Q46<=MAX(S47:S$73)),IF(SMALL(S47:S$73,1)-Q46>0,SMALL(S47:S$73,1),IF(SMALL(S47:S$73,2)>0,SMALL(S47:S$73,2),SMALL(S47:S$73,3))),\"\"),\"\")","v":""}]
["1013M","15:36:00","15:51:00","15:52:00","-","-","16:19:00",null,null,null,null,null,null,null,null,null,null,null,null,null,null,"出雲市","特急","やくも13号",null,"",{"$f":"_xlfn.IFNA(MATCH(V47,設定_主要駅!$B$2:$B$15,0),9)","v":3},{"$f":"IF(AD47<=$AK$2,IF(AF47<>\"\",MATCH(AF47,$I:$I,0)-2,IF(AG47<>\"\",MATCH(AG47,$P:$P,0)-2,IF(AH47<>\"\",MATCH(AH47,$S:$S,0)-2,\"\"))),\"\")","v":""},{"$f":"_xlfn.IFNA(MATCH(ROW()-2,AB:AB,0)-2,\"\")","v":""},"00:57:00",45,{"$f":"IFERROR(IF(AND(G47<>\"\",I47=\"\",G47<=MAX(I48:I$73)),IF(SMALL(I48:I$73,1)-G47>0,SMALL(I48:I$73,1),SMALL(I48:I$73,2)),\"\"),\"\")","v":"17:16:00"},{"$f":"IFERROR(IF(AND(N47<>\"\",P47=\"\",N47<=MAX(P48:P$73)),IF(SMALL(P48:P$73,1)-N47>0,SMALL(P48:P$73,1),IF(SMALL(P48:P$73,2)-N47>0,SMALL(P48:P$73,2),SMALL(P48:P$73,3))),\"\"),\"\")","v":""},{"$f":"IFERROR(IF(AND(Q47<>\"\",S47=\"\",Q47<=MAX(S48:S$73)),IF(SMALL(S48:S$73,1)-Q47>0,SMALL(S48:S$73,1),IF(SMALL(S48:S$73,2)>0,SMALL(S48:S$73,2),SMALL(S48:S$73,3))),\"\"),\"\")","v":""}]
["145D","15:45:00","16:10:00","16:12:00","16:39:00","16:40:00","17:02:00",null,null,null,null,null,null,null,null,null,null,null,null,null,null,"出雲市","普通",null,null,"出雲市",{"$f":"_xlfn.IFNA(MATCH(V48,設定_主要駅!$B$2:$B$15,0),9)","v":3},{"$f":"IF(AD48<=$AK$2,IF(AF48<>\"\",MATCH(AF48,$I:$I,0)-2,IF(AG48<>\"\",MATCH(AG48,$P:$P,0)-2,IF(AH48<>\"\",MATCH(AH48,$S:$S,0)-2,\"\"))),\"\")","v":47},{"$f":"_xlfn.IFNA(MATCH(ROW()-2,AB:AB,0)-2,\"\")","v":""},"00:14:00",46,{"$f":"IFERROR(IF(AND(G48<>\"\",I48=\"\",G48<=MAX(I49:I$73)),IF(SMALL(I49:I$73,1)-G48>0,SMALL(I49:I$73,1),SMALL(I49:I$73,2)),\"\"),\"\")","v":"17:16:00"},{"$f":"IFERROR(IF(AND(N48<>\"\",P48=\"\",N48<=MAX(P49:P$73)),IF(SMALL(P49:P$73,1)-N48>0,SMALL(P49:P$73,1),IF(SMALL(P49:P$73,2)-N48>0,SMALL(P49:P$73,2),SMALL(P49:P$73,3))),\"\"),\"\")","v":""},{"$f":"IFERROR(IF(AND(Q48<>\"\",S48=\"\",Q48<=MAX(S49:S$73)),IF(SMALL(S49:S$73,1)-Q48>0,SMALL(S49:S$73,1),IF(SMALL(S49:S$73,2)>0,SMALL(S49:S$73,2),SMALL(S49:S$73,3))),\"\"),\"\")","v":""}]
["2007D","16:29:00","16:44:00","16:45:00","17:00:00","17:01:00","17:12:00",null,"17:16:00","17:44:00","17:47:00","18:19:00","18:20:00","18:35:00",null,"18:37:00","19:11:00",null,null,null,null,"益田","特急","スーパーまつかぜ7号",null,"益田",{"$f":"_xlfn.IFNA(MATCH(V49,設定_主要駅!$B$2:$B$15,0),9)","v":7},{"$f":"IF(AD49<=$AK$2,IF(AF49<>\"\",MATCH(AF49,$I:$I,0)-2,IF(AG49<>\"\",MATCH(AG49,$P:$P,0)-2,IF(AH49<>\"\",MATCH(AH49,$S:$S,0)-2,\"\"))),\"\")","v":48},{"$f":"_xlfn.IFNA(MATCH(ROW()-2,AB:AB,0)-2,\"\")","v":46},"00:09:00",47,{"$f":"IFERROR(IF(AND(G49<>\"\",I49=\"\",G49<=MAX(I50:I$73)),IF(SMALL(I50:I$73,1)-G49>0,SMALL(I50:I$73,1),SMALL(I50:I$73,2)),\"\"),\"\")","v":""},{"$f":"IFERROR(IF(AND(N49<>\"\",P49=\"\",N49<=MAX(P50:P$73)),IF(SMALL(P50:P$73,1)-N49>0,SMALL(P50:P$73,1),IF(SMALL(P50:P$73,2)-N49>0,SMALL(P50:P$73,2),SMALL(P50:P$73,3))),\"\"),\"\")","v":""},{"$f":"IFERROR(IF(AND(Q49<>\"\",S49=\"\",Q49<=MAX(S50:S$73)),IF(SMALL(S50:S$73,1)-Q49>0,SMALL(S50:S$73,1),IF(SMALL(S50:S$73,2)>0,SMALL(S50:S$73,2),SMALL(S50:S$73,3))),\"\"),\"\")","v":"19:20:00"}]
[null,null,null,null,null,null,null,null,null,null,null,null,null,null,null,null,null,"2552D","19:20:00","19:48:00","20:00:00","山口","普通",null,null,{"$f":"IF(AD50<=$AK$2,IF(AF50<>\"\",AF$2,IF(AG50<>\"\",AG$2,IF(AH50<>\"\",AH$2,\"\"))),\"\")","v":""},{"$f":"_xlfn.IFNA(MATCH(V50,設定_主要駅!$B$2:$B$15,0),9)","v":9},{"$f":"IF(AD50<=$AK$2,IF(AF50<>\"\",MATCH(AF50,$I:$I,0)-2,IF(AG50<>\"\",MATCH(AG50,$P:$P,0)-2,IF(AH50<>\"\",MATCH(AH50,$S:$S,0)-2,\"\"))),\"\")","v":""},{"$f":"_xlfn.IFNA(MATCH(ROW()-2,AB:AB,0)-2,\"\")","v":41},{"$f":"IF(AF50<>\"\",AF50-G50,IF(AG50<>\"\",AG50-N50,IF(AH50<>\"\",AH50-Q50,\"\")))","v":""},48,{"$f":"IFERROR(IF(AND(G50<>\"\",I50=\"\",G50<=MAX(I51:I$73)),IF(SMALL(I51:I$73,1)-G50>0,SMALL(I51:I$73,1),SMALL(I51:I$73,2)),\"\"),\"\")","v":""},{"$f":"IFERROR(IF(AND(N50<>\"\",P50=\"\",N50<=MAX(P51:P$73)),IF(SMALL(P51:P$73,1)-N50>0,SMALL(P51:P$73,1),IF(SMALL(P51:P$73,2)-N50>0,SMALL(P51:P$73,2),SMALL(P51:P$73,3))),\"\"),\"\")","v":""},{"$f":"IFERROR(IF(AND(Q50<>\"\",S50=\"\",Q50<=MAX(S51:S$73)),IF(SMALL(S51:S$73,1)-Q50>0,SMALL(S51:S$73,1),IF(SMALL(S51:S$73,2)>0,SMALL(S51:S$73,2),SMALL(S51:S$73,3))),\"\"),\"\")","v":""}]
["1015M","16:35:00","16:51:00","16:54:00","17:10:00","17:10:00","17:23:00",null,null,null,null,null,null,null,null,null,null,null,null,null,null,"出雲市","特急","やくも15号",null,"",{"$f":"_xlfn.IFNA(MATCH(V51,設定_主要駅!$B$2:$B$15,0),9)","v":3},"","","00:44:00",49,{"$f":"IFERROR(IF(AND(G51<>\"\",I51=\"\",G51<=MAX(I52:I$73)),IF(SMALL(I52:I$73,1)-G51>0,SMALL(I52:I$73,1),SMALL(I52:I$73,2)),\"\"),\"\")","v":"18:07:00"},{"$f":"IFERROR(IF(AND(N51<>\"\",P51=\"\",N51<=MAX(P52:P$73)),IF(SMALL(P52:P$73,1)-N51>0,SMALL(P52:P$73,1),IF(SMALL(P52:P$73,2)-N51>0,SMALL(P52:P$73,2),SMALL(P52:P$73,3))),\"\"),\"\")","v":""},{"$f":"IFERROR(IF(AND(Q51<>\"\",S51=\"\",Q51<=MAX(S52:S$73)),IF(SMALL(S52:S$73,1)-Q51>0,SMALL(S52:S$73,1),IF(SMALL(S52:S$73,2)>0,SMALL(S52:S$73,2),SMALL(S52:S$73,3))),\"\"),\"\")","v":""}]
["285M","16:41:00","17:09:00","17:10:00","17:29:00","17:30:00","17:54:00",null,null,null,null,null,null,null,null,null,null,null,null,null,null,"出雲市","普通",null,null,"出雲市",{"$f":"_xlfn.IFNA(MATCH(V52,設定_主要駅!$B$2:$B$15,0),9)","v":3},51,"","00:13:00",50,{"$f":"IFERROR(IF(AND(G52<>\"\",I52=\"\",G52<=MAX(I53:I$73)),IF(SMALL(I53:I$73,1)-G52>0,SMALL(I53:I$73,1),SMALL(I53:I$73,2)),\"\"),\"\")","v":"18:07:00"},{"$f":"IFERROR(IF(AND(N52<>\"\",P52=\"\",N52<=MAX(P53:P$73)),IF(SMALL(P53:P$73,1)-N52>0,SMALL(P53:P$73,1),IF(SMALL(P53:P$73,2)-N52>0,SMALL(P53:P$73,2),SMALL(P53:P$73,3))),\"\"),\"\")","v":""},{"$f":"IFERROR(IF(AND(Q52<>\"\",S52=\"\",Q52<=MAX(S53:S$73)),IF(SMALL(S53:S$73,1)-Q52>0,SMALL(S53:S$73,1),IF(SMALL(S53:S$73,2)>0,SMALL(S53:S$73,2),SMALL(S53:S$73,3))),\"\"),\"\")","v":""}]
[null,null,null,null,null,null,null,"337D","18:07:00","18:48:00","18:49:00","19:40:00","19:41:00","20:07:00",null,null,null,null,null,null,null,"浜田","普通",null,null,"浜田",{"$f":"_xlfn.IFNA(MATCH(V53,設定_主要駅!$B$2:$B$15,0),9)","v":6},52,50,"00:16:00",51,{"$f":"IFERROR(IF(AND(G53<>\"\",I53=\"\",G53<=MAX(I54:I$73)),IF(SMALL(I54:I$73,1)-G53>0,SMALL(I54:I$73,1),SMALL(I54:I$73,2)),\"\"),\"\")","v":""},{"$f":"IFERROR(IF(AND(N53<>\"\",P53=\"\",N53<=MAX(P54:P$73)),IF(SMALL(P54:P$73,1)-N53>0,SMALL(P54:P$73,1),IF(SMALL(P54:P$73,2)-N53>0,SMALL(P54:P$73,2),SMALL(P54:P$73,3))),\"\"),\"\")","v":"20:23:00"},{"$f":"IFERROR(IF(AND(Q53<>\"\",S53=\"\",Q53<=MAX(S54:S$73)),IF(SMALL(S54:S$73,1)-Q53>0,SMALL(S54:S$73,1),IF(SMALL(S54:S$73,2)>0,SMALL(S54:S$73,2),SMALL(S54:S$73,3))),\"\"),\"\")","v":""}]
[null,null,null,null,null,null,null,null,null,null,null,null,null,null,"439D","20:23:00","21:14:00",null,null,null,null,"益田","普通",null,null,"",{"$f":"_xlfn.IFNA(MATCH(V54,設定_主要駅!$B$2:$B$15,0),9)","v":7},"",51,"",52,{"$f":"IFERROR(IF(AND(G54<>\"\",I54=\"\",G54<=MAX(I55:I$73)),IF(SMALL(I55:I$73,1)-G54>0,SMALL(I55:I$73,1),SMALL(I55:I$73,2)),\"\"),\"\")","v":""},{"$f":"IFERROR(IF(AND(N54<>\"\",P54=\"\",N54<=MAX(P55:P$73)),IF(SMALL(P55:P$73,1)-N54>0,SMALL(P55:P$73,1),IF(SMALL(P55:P$73,2)-N54>0,SMALL(P55:P$73,2),SMALL(P55:P$73,3))),\"\"),\"\")","v":""},{"$f":"IFERROR(IF(AND(Q54<>\"\",S54=\"\",Q54<=MAX(S55:S$73)),IF(SMALL(S55:S$73,1)-Q54>0,SMALL(S55:S$73,1),IF(SMALL(S55:S$73,2)>0,SMALL(S55:S$73,2),SMALL(S55:S$73,3))),\"\"),\"\")","v":""}]
["147D","17:15:00","17:39:00","17:41:00","18:08:00","18:10:00","18:27:00",null,null,null,null,null,null,null,null,null,null,null,null,null,null,"出雲市","普通",null,null,"",{"$f":"_xlfn.IFNA(MATCH(V55,設定_主要駅!$B$2:$B$15,0),9)","v":3},"","","00:47:00",53,{"$f":"IFERROR(IF(AND(G55<>\"\",I55=\"\",G55<=MAX(I56:I$73)),IF(SMALL(I56:I$73,1)-G55>0,SMALL(I56:I$73,1),SMALL(I56:I$73,2)),\"\"),\"\")","v":"19:14:00"},{"$f":"IFERROR(IF(AND(N55<>\"\",P55=\"\",N55<=MAX(P56:P$73)),IF(SMALL(P56:P$73,1)-N55>0,SMALL(P56:P$73,1),IF(SMALL(P56:P$73,2)-N55>0,SMALL(P56:P$73,2),SMALL(P56:P$73,3))),\"\"),\"\")","v":""},{"$f":"IFERROR(IF(AND(Q55<>\"\",S55=\"\",Q55<=MAX(S56:S$73)),IF(SMALL(S56:S$73,1)-Q55>0,SMALL(S56:S$73,1),IF(SMALL(S56:S$73,2)>0,SMALL(S56:S$73,2),SMALL(S56:S$73,3))),\"\"),\"\")","v":""}]
["1017M","17:41:00","17:57:00","18:01:00","18:19:00","18:20:00","18:31:00",null,null,null,null,null,null,null,null,null,null,null,null,null,null,"出雲市","特急","やくも17号",null,"",{"$f":"_xlfn.IFNA(MATCH(V56,設定_主要駅!$B$2:$B$15,0),9)","v":3},"","","00:43:00",54,{"$f":"IFERROR(IF(AND(G56<>\"\",I56=\"\",G56<=MAX(I57:I$73)),IF(SMALL(I57:I$73,1)-G56>0,SMALL(I57:I$73,1),SMALL(I57:I$73,2)),\"\"),\"\")","v":"19:14:00"},{"$f":"IFERROR(IF(AND(N56<>\"\",P56=\"\",N56<=MAX(P57:P$73)),IF(SMALL(P57:P$73,1)-N56>0,SMALL(P57:P$73,1),IF(SMALL(P57:P$73,2)-N56>0,SMALL(P57:P$73,2),SMALL(P57:P$73,3))),\"\"),\"\")","v":""},{"$f":"IFERROR(IF(AND(Q56<>\"\",S56=\"\",Q56<=MAX(S57:S$73)),IF(SMALL(S57:S$73,1)-Q56>0,SMALL(S57:S$73,1),IF(SMALL(S57:S$73,2)>0,SMALL(S57:S$73,2),SMALL(S57:S$73,3))),\"\"),\"\")","v":""}]
["149D","17:50:00","18:16:00","18:19:00","18:44:00","18:46:00","19:12:00",null,null,null,null,null,null,null,null,null,null,null,null,null,null,"出雲市","普通",null,null,"出雲市",{"$f":"_xlfn.IFNA(MATCH(V57,設定_主要駅!$B$2:$B$15,0),9)","v":3},56,"","00:02:00",55,{"$f":"IFERROR(IF(AND(G57<>\"\",I57=\"\",G57<=MAX(I58:I$73)),IF(SMALL(I58:I$73,1)-G57>0,SMALL(I58:I$73,1),SMALL(I58:I$73,2)),\"\"),\"\")","v":"19:14:00"},{"$f":"IFERROR(IF(AND(N57<>\"\",P57=\"\",N57<=MAX(P58:P$73)),IF(SMALL(P58:P$73,1)-N57>0,SMALL(P58:P$73,1),IF(SMALL(P58:P$73,2)-N57>0,SMALL(P58:P$73,2),SMALL(P58:P$73,3))),\"\"),\"\")","v":""},{"$f":"IFERROR(IF(AND(Q57<>\"\",S57=\"\",Q57<=MAX(S58:S$73)),IF(SMALL(S58:S$73,1)-Q57>0,SMALL(S58:S$73,1),IF(SMALL(S58:S$73,2)>0,SMALL(S58:S$73,2),SMALL(S58:S$73,3))),\"\"),\"\")","v":""}]
[null,null,null,null,null,null,null,"339D","19:14:00","20:02:00","20:03:00","21:10:00","21:11:00","21:37:00",null,null,null,null,null,null,null,"浜田","普通",null,null,"浜田",{"$f":"_xlfn.IFNA(MATCH(V58,設定_主要駅!$B$2:$B$15,0),9)","v":6},57,55,"00:08:00",56,{"$f":"IFERROR(IF(AND(G58<>\"\",I58=\"\",G58<=MAX(I59:I$73)),IF(SMALL(I59:I$73,1)-G58>0,SMALL(I59:I$73,1),SMALL(I59:I$73,2)),\"\"),\"\")","v":""},{"$f":"IFERROR(IF(AND(N58<>\"\",P58=\"\",N58<=MAX(P59:P$73)),IF(SMALL(P59:P$73,1)-N58>0,SMALL(P59:P$73,1),IF(SMALL(P59:P$73,2)-N58>0,SMALL(P59:P$73,2),SMALL(P59:P$73,3))),\"\"),\"\")","v":"21:45:00"},{"$f":"IFERROR(IF(AND(Q58<>\"\",S58=\"\",Q58<=MAX(S59:S$73)),IF(SMALL(S59:S$73,1)-Q58>0,SMALL(S59:S$73,1),IF(SMALL(S59:S$73,2)>0,SMALL(S59:S$73,2),SMALL(S59:S$73,3))),\"\"),\"\")","v":""}]
[null,null,null,null,null,null,null,null,null,null,null,null,null,null,"441D","21:45:00","22:35:00",null,null,null,null,"益田","普通",null,null,"",{"$f":"_xlfn.IFNA(MATCH(V59,設定_主要駅!$B$2:$B$15,0),9)","v":7},"",56,"",57,{"$f":"IFERROR(IF(AND(G59<>\"\",I59=\"\",G59<=MAX(I60:I$73)),IF(SMALL(I60:I$73,1)-G59>0,SMALL(I60:I$73,1),SMALL(I60:I$73,2)),\"\"),\"\")","v":""},{"$f":"IFERROR(IF(AND(N59<>\"\",P59=\"\",N59<=MAX(P60:P$73)),IF(SMALL(P60:P$73,1)-N59>0,SMALL(P60:P$73,1),IF(SMALL(P60:P$73,2)-N59>0,SMALL(P60:P$73,2),SMALL(P60:P$73,3))),\"\"),\"\")","v":""},{"$f":"IFERROR(IF(AND(Q59<>\"\",S59=\"\",Q59<=MAX(S60:S$73)),IF(SMALL(S60:S$73,1)-Q59>0,SMALL(S60:S$73,1),IF(SMALL(S60:S$73,2)>0,SMALL(S60:S$73,2),SMALL(S60:S$73,3))),\"\"),\"\")","v":""}]
["1019M","18:40:00","18:55:00","18:59:00","19:19:00","19:20:00","19:31:00",null,null,null,null,null,null,null,null,null,null,null,null,null,null,"出雲市","特急","やくも19号",null,"出雲市",{"$f":"_xlfn.IFNA(MATCH(V60,設定_主要駅!$B$2:$B$15,0),9)","v":3},60,"","00:24:00",58,{"$f":"IFERROR(IF(AND(G60<>\"\",I60=\"\",G60<=MAX(I61:I$73)),IF(SMALL(I61:I$73,1)-G60>0,SMALL(I61:I$73,1),SMALL(I61:I$73,2)),\"\"),\"\")","v":"19:55:00"},{"$f":"IFERROR(IF(AND(N60<>\"\",P60=\"\",N60<=MAX(P61:P$73)),IF(SMALL(P61:P$73,1)-N60>0,SMALL(P61:P$73,1),IF(SMALL(P61:P$73,2)-N60>0,SMALL(P61:P$73,2),SMALL(P61:P$73,3))),\"\"),\"\")","v":""},{"$f":"IFERROR(IF(AND(Q60<>\"\",S60=\"\",Q60<=MAX(S61:S$73)),IF(SMALL(S61:S$73,1)-Q60>0,SMALL(S61:S$73,1),IF(SMALL(S61:S$73,2)>0,SMALL(S61:S$73,2),SMALL(S61:S$73,3))),\"\"),\"\")","v":""}]
["151D","18:46:00","19:06:00","19:27:00","19:53:00","19:54:00","20:14:00",null,null,null,null,null,null,null,null,null,null,null,null,null,null,"出雲市","普通",null,null,"出雲市",{"$f":"_xlfn.IFNA(MATCH(V61,設定_主要駅!$B$2:$B$15,0),9)","v":3},63,"","00:29:00",59,{"$f":"IFERROR(IF(AND(G61<>\"\",I61=\"\",G61<=MAX(I62:I$73)),IF(SMALL(I62:I$73,1)-G61>0,SMALL(I62:I$73,1),SMALL(I62:I$73,2)),\"\"),\"\")","v":"20:43:00"},{"$f":"IFERROR(IF(AND(N61<>\"\",P61=\"\",N61<=MAX(P62:P$73)),IF(SMALL(P62:P$73,1)-N61>0,SMALL(P62:P$73,1),IF(SMALL(P62:P$73,2)-N61>0,SMALL(P62:P$73,2),SMALL(P62:P$73,3))),\"\"),\"\")","v":""},{"$f":"IFERROR(IF(AND(Q61<>\"\",S61=\"\",Q61<=MAX(S62:S$73)),IF(SMALL(S62:S$73,1)-Q61>0,SMALL(S62:S$73,1),IF(SMALL(S62:S$73,2)>0,SMALL(S62:S$73,2),SMALL(S62:S$73,3))),\"\"),\"\")","v":""}]
["2009D","19:01:00","19:16:00","19:18:00","19:39:00","19:42:00","19:53:00",null,"19:55:00","20:19:00","20:20:00","20:47:00","20:48:00","21:03:00",null,"21:05:00","21:38:00",null,null,null,null,"益田","特急","スーパーまつかぜ9号",null,"",{"$f":"_xlfn.IFNA(MATCH(V62,設定_主要駅!$B$2:$B$15,0),9)","v":7},"",58,"",60,{"$f":"IFERROR(IF(AND(G62<>\"\",I62=\"\",G62<=MAX(I63:I$73)),IF(SMALL(I63:I$73,1)-G62>0,SMALL(I63:I$73,1),SMALL(I63:I$73,2)),\"\"),\"\")","v":""},{"$f":"IFERROR(IF(AND(N62<>\"\",P62=\"\",N62<=MAX(P63:P$73)),IF(SMALL(P63:P$73,1)-N62>0,SMALL(P63:P$73,1),IF(SMALL(P63:P$73,2)-N62>0,SMALL(P63:P$73,2),SMALL(P63:P$73,3))),\"\"),\"\")","v":""},{"$f":"IFERROR(IF(AND(Q62<>\"\",S62=\"\",Q62<=MAX(S63:S$73)),IF(SMALL(S63:S$73,1)-Q62>0,SMALL(S63:S$73,1),IF(SMALL(S63:S$73,2)>0,SMALL(S63:S$73,2),SMALL(S63:S$73,3))),\"\"),\"\")","v":""}]
["153D","19:21:00","19:47:00","20:04:00","20:34:00","20:35:00","20:52:00",null,null,null,null,null,null,null,null,null,null,null,null,null,null,"出雲市","普通",null,null,"",{"$f":"_xlfn.IFNA(MATCH(V63,設定_主要駅!$B$2:$B$15,0),9)","v":3},"","","00:53:00",61,{"$f":"IFERROR(IF(AND(G63<>\"\",I63=\"\",G63<=MAX(I64:I$73)),IF(SMALL(I64:I$73,1)-G63>0,SMALL(I64:I$73,1),SMALL(I64:I$73,2)),\"\"),\"\")","v":"21:45:00"},{"$f":"IFERROR(IF(AND(N63<>\"\",P63=\"\",N63<=MAX(P64:P$73)),IF(SMALL(P64:P$73,1)-N63>0,SMALL(P64:P$73,1),IF(SMALL(P64:P$73,2)-N63>0,SMALL(P64:P$73,2),SMALL(P64:P$73,3))),\"\"),\"\")","v":""},{"$f":"IFERROR(IF(AND(Q63<>\"\",S63=\"\",Q63<=MAX(S64:S$73)),IF(SMALL(S64:S$73,1)-Q63>0,SMALL(S64:S$73,1),IF(SMALL(S64:S$73,2)>0,SMALL(S64:S$73,2),SMALL(S64:S$73,3))),\"\"),\"\")","v":""}]
["1021M","19:45:00","20:00:00","20:01:00","20:14:00","20:15:00","20:26:00",null,null,null,null,null,null,null,null,null,null,null,null,null,null,"出雲市","特急","やくも21号",null,"出雲市",{"$f":"_xlfn.IFNA(MATCH(V64,設定_主要駅!$B$2:$B$15,0),9)","v":3},63,"","00:17:00",62,{"$f":"IFERROR(IF(AND(G64<>\"\",I64=\"\",G64<=MAX(I65:I$73)),IF(SMALL(I65:I$73,1)-G64>0,SMALL(I65:I$73,1),SMALL(I65:I$73,2)),\"\"),\"\")","v":"20:43:00"},{"$f":"IFERROR(IF(AND(N64<>\"\",P64=\"\",N64<=MAX(P65:P$73)),IF(SMALL(P65:P$73,1)-N64>0,SMALL(P65:P$73,1),IF(SMALL(P65:P$73,2)-N64>0,SMALL(P65:P$73,2),SMALL(P65:P$73,3))),\"\"),\"\")","v":""},{"$f":"IFERROR(IF(AND(Q64<>\"\",S64=\"\",Q64<=MAX(S65:S$73)),IF(SMALL(S65:S$73,1)-Q64>0,SMALL(S65:S$73,1),IF(SMALL(S65:S$73,2)>0,SMALL(S65:S$73,2),SMALL(S65:S$73,3))),\"\"),\"\")","v":""}]
[null,null,null,null,null,null,null,"341D","20:43:00","21:21:00","21:22:00","22:09:00","22:10:00","22:36:00",null,null,null,null,null,null,null,"浜田","普通",null,null,"",{"$f":"_xlfn.IFNA(MATCH(V65,設定_主要駅!$B$2:$B$15,0),9)","v":6},"",59,"",63,{"$f":"IFERROR(IF(AND(G65<>\"\",I65=\"\",G65<=MAX(I66:I$73)),IF(SMALL(I66:I$73,1)-G65>0,SMALL(I66:I$73,1),SMALL(I66:I$73,2)),\"\"),\"\")","v":""},{"$f":"IFERROR(IF(AND(N65<>\"\",P65=\"\",N65<=MAX(P66:P$73)),IF(SMALL(P66:P$73,1)-N65>0,SMALL(P66:P$73,1),IF(SMALL(P66:P$73,2)-N65>0,SMALL(P66:P$73,2),SMALL(P66:P$73,3))),\"\"),\"\")","v":""},{"$f":"IFERROR(IF(AND(Q65<>\"\",S65=\"\",Q65<=MAX(S66:S$73)),IF(SMALL(S66:S$73,1)-Q65>0,SMALL(S66:S$73,1),IF(SMALL(S66:S$73,2)>0,SMALL(S66:S$73,2),SMALL(S66:S$73,3))),\"\"),\"\")","v":""}]
["155D","20:23:00","20:48:00","21:07:00","21:25:00","21:26:00","21:43:00",null,null,null,null,null,null,null,null,null,null,null,null,null,null,"出雲市","普通",null,null,"出雲市",{"$f":"_xlfn.IFNA(MATCH(V66,設定_主要駅!$B$2:$B$15,0),9)","v":3},66,"","00:02:00",64,{"$f":"IFERROR(IF(AND(G66<>\"\",I66=\"\",G66<=MAX(I67:I$73)),IF(SMALL(I67:I$73,1)-G66>0,SMALL(I67:I$73,1),SMALL(I67:I$73,2)),\"\"),\"\")","v":"21:45:00"},{"$f":"IFERROR(IF(AND(N66<>\"\",P66=\"\",N66<=MAX(P67:P$73)),IF(SMALL(P67:P$73,1)-N66>0,SMALL(P67:P$73,1),IF(SMALL(P67:P$73,2)-N66>0,SMALL(P67:P$73,2),SMALL(P67:P$73,3))),\"\"),\"\")","v":""},{"$f":"IFERROR(IF(AND(Q66<>\"\",S66=\"\",Q66<=MAX(S67:S$73)),IF(SMALL(S67:S$73,1)-Q66>0,SMALL(S67:S$73,1),IF(SMALL(S67:S$73,2)>0,SMALL(S67:S$73,2),SMALL(S67:S$73,3))),\"\"),\"\")","v":""}]
["1023M","20:44:00","20:59:00","21:00:00","21:12:00","21:13:00","21:24:00",null,null,null,null,null,null,null,null,null,null,null,null,null,null,"出雲市","特急","やくも23号",null,"出雲市",{"$f":"_xlfn.IFNA(MATCH(V67,設定_主要駅!$B$2:$B$15,0),9)","v":3},66,"","00:21:00",65,{"$f":"IFERROR(IF(AND(G67<>\"\",I67=\"\",G67<=MAX(I68:I$73)),IF(SMALL(I68:I$73,1)-G67>0,SMALL(I68:I$73,1),SMALL(I68:I$73,2)),\"\"),\"\")","v":"21:45:00"},{"$f":"IFERROR(IF(AND(N67<>\"\",P67=\"\",N67<=MAX(P68:P$73)),IF(SMALL(P68:P$73,1)-N67>0,SMALL(P68:P$73,1),IF(SMALL(P68:P$73,2)-N67>0,SMALL(P68:P$73,2),SMALL(P68:P$73,3))),\"\"),\"\")","v":""},{"$f":"IFERROR(IF(AND(Q67<>\"\",S67=\"\",Q67<=MAX(S68:S$73)),IF(SMALL(S68:S$73,1)-Q67>0,SMALL(S68:S$73,1),IF(SMALL(S68:S$73,2)>0,SMALL(S68:S$73,2),SMALL(S68:S$73,3))),\"\"),\"\")","v":""}]
[null,null,null,null,null,null,null,"363D","21:45:00","22:25:00",null,null,null,null,null,null,null,null,null,null,null,"大田市","普通",null,null,"",{"$f":"_xlfn.IFNA(MATCH(V68,設定_主要駅!$B$2:$B$15,0),9)","v":4},"",64,"",66,{"$f":"IFERROR(IF(AND(G68<>\"\",I68=\"\",G68<=MAX(I69:I$73)),IF(SMALL(I69:I$73,1)-G68>0,SMALL(I69:I$73,1),SMALL(I69:I$73,2)),\"\"),\"\")","v":""},{"$f":"IFERROR(IF(AND(N68<>\"\",P68=\"\",N68<=MAX(P69:P$73)),IF(SMALL(P69:P$73,1)-N68>0,SMALL(P69:P$73,1),IF(SMALL(P69:P$73,2)-N68>0,SMALL(P69:P$73,2),SMALL(P69:P$73,3))),\"\"),\"\")","v":""},{"$f":"IFERROR(IF(AND(Q68<>\"\",S68=\"\",Q68<=MAX(S69:S$73)),IF(SMALL(S69:S$73,1)-Q68>0,SMALL(S69:S$73,1),IF(SMALL(S69:S$73,2)>0,SMALL(S69:S$73,2),SMALL(S69:S$73,3))),\"\"),\"\")","v":""}]
["157D","21:30:00","21:52:00","22:05:00","22:25:00","22:27:00","22:46:00",null,null,null,null,null,null,null,null,null,null,null,null,null,null,"西出雲","普通",null,null,"",{"$f":"_xlfn.IFNA(MATCH(V69,設定_主要駅!$B$2:$B$15,0),9)","v":9},"","","",67,{"$f":"IFERROR(IF(AND(G69<>\"\",I69=\"\",G69<=MAX(I70:I$73)),IF(SMALL(I70:I$73,1)-G69>0,SMALL(I70:I$73,1),SMALL(I70:I$73,2)),\"\"),\"\")","v":""},{"$f":"IFERROR(IF(AND(N69<>\"\",P69=\"\",N69<=MAX(P70:P$73)),IF(SMALL(P70:P$73,1)-N69>0,SMALL(P70:P$73,1),IF(SMALL(P70:P$73,2)-N69>0,SMALL(P70:P$73,2),SMALL(P70:P$73,3))),\"\"),\"\")","v":""},{"$f":"IFERROR(IF(AND(Q69<>\"\",S69=\"\",Q69<=MAX(S70:S$73)),IF(SMALL(S70:S$73,1)-Q69>0,SMALL(S70:S$73,1),IF(SMALL(S70:S$73,2)>0,SMALL(S70:S$73,2),SMALL(S70:S$73,3))),\"\"),\"\")","v":""}]
["1025M","21:44:00","21:59:00","22:00:00","22:13:00","22:13:00","22:24:00",null,null,null,null,null,null,null,null,null,null,null,null,null,null,"出雲市","特急","やくも25号",null,"",{"$f":"_xlfn.IFNA(MATCH(V70,設定_主要駅!$B$2:$B$15,0),9)","v":3},"","","",68,{"$f":"IFERROR(IF(AND(G70<>\"\",I70=\"\",G70<=MAX(I71:I$73)),IF(SMALL(I71:I$73,1)-G70>0,SMALL(I71:I$73,1),SMALL(I71:I$73,2)),\"\"),\"\")","v":""},{"$f":"IFERROR(IF(AND(N70<>\"\",P70=\"\",N70<=MAX(P71:P$73)),IF(SMALL(P71:P$73,1)-N70>0,SMALL(P71:P$73,1),IF(SMALL(P71:P$73,2)-N70>0,SMALL(P71:P$73,2),SMALL(P71:P$73,3))),\"\"),\"\")","v":""},{"$f":"IFERROR(IF(AND(Q70<>\"\",S70=\"\",Q70<=MAX(S71:S$73)),IF(SMALL(S71:S$73,1)-Q70>0,SMALL(S71:S$73,1),IF(SMALL(S71:S$73,2)>0,SMALL(S71:S$73,2),SMALL(S71:S$73,3))),\"\"),\"\")","v":""}]
["1027M","22:33:00","22:48:00","22:49:00","23:01:00","23:02:00","23:13:00",null,null,null,null,null,null,null,null,null,null,null,null,null,null,"出雲市","特急","やくも27号",null,"",{"$f":"_xlfn.IFNA(MATCH(V71,設定_主要駅!$B$2:$B$15,0),9)","v":3},"","","",69,{"$f":"IFERROR(IF(AND(G71<>\"\",I71=\"\",G71<=MAX(I72:I$73)),IF(SMALL(I72:I$73,1)-G71>0,SMALL(I72:I$73,1),SMALL(I72:I$73,2)),\"\"),\"\")","v":""},{"$f":"IFERROR(IF(AND(N71<>\"\",P71=\"\",N71<=MAX(P72:P$73)),IF(SMALL(P72:P$73,1)-N71>0,SMALL(P72:P$73,1),IF(SMALL(P72:P$73,2)-N71>0,SMALL(P72:P$73,2),SMALL(P72:P$73,3))),\"\"),\"\")","v":""},{"$f":"IFERROR(IF(AND(Q71<>\"\",S71=\"\",Q71<=MAX(S72:S$73)),IF(SMALL(S72:S$73,1)-Q71>0,SMALL(S72:S$73,1),IF(SMALL(S72:S$73,2)>0,SMALL(S72:S$73,2),SMALL(S72:S$73,3))),\"\"),\"\")","v":""}]
["159D","22:48:00","23:09:00","23:11:00","23:30:00","23:31:00","23:46:00",null,null,null,null,null,null,null,null,null,null,null,null,null,null,"西出雲","普通",null,null,"",{"$f":"_xlfn.IFNA(MATCH(V72,設定_主要駅!$B$2:$B$15,0),9)","v":9},"","","",70,{"$f":"IFERROR(IF(AND(G72<>\"\",I72=\"\",G72<=MAX(I73:I$73)),IF(SMALL(I73:I$73,1)-G72>0,SMALL(I73:I$73,1),SMALL(I73:I$73,2)),\"\"),\"\")","v":""},{"$f":"IFERROR(IF(AND(N72<>\"\",P72=\"\",N72<=MAX(P73:P$73)),IF(SMALL(P73:P$73,1)-N72>0,SMALL(P73:P$73,1),IF(SMALL(P73:P$73,2)-N72>0,SMALL(P73:P$73,2),SMALL(P73:P$73,3))),\"\"),\"\")","v":""},{"$f":"IFERROR(IF(AND(Q72<>\"\",S72=\"\",Q72<=MAX(S73:S$73)),IF(SMALL(S73:S$73,1)-Q72>0,SMALL(S73:S$73,1),IF(SMALL(S73:S$73,2)>0,SMALL(S73:S$73,2),SMALL(S73:S$73,3))),\"\"),\"\")","v":""}]
["1029M","23:38:00","23:52:00","23:53:00","00:06:00","00:06:00","00:17:00",null,null,null,null,null,null,null,null,null,null,null,null,null,null,"出雲市","特急","やくも29号",null,"",{"$f":"_xlfn.IFNA(MATCH(V73,設定_主要駅!$B$2:$B$15,0),9)","v":3},"","","",71,{"$f":"IFERROR(IF(AND(G73<>\"\",I73=\"\",G73<=MAX(I$73:I74)),IF(SMALL(I$73:I74,1)-G73>0,SMALL(I$73:I74,1),SMALL(I$73:I74,2)),\"\"),\"\")","v":""},{"$f":"IFERROR(IF(AND(N73<>\"\",P73=\"\",N73<=MAX(P$73:P74)),IF(SMALL(P$73:P74,1)-N73>0,SMALL(P$73:P74,1),IF(SMALL(P$73:P74,2)-N73>0,SMALL(P$73:P74,2),SMALL(P$73:P74,3))),\"\"),\"\")","v":""},{"$f":"IFERROR(IF(AND(Q73<>\"\",S73=\"\",Q73<=MAX(S$73:S74)),IF(SMALL(S$73:S74,1)-Q73>0,SMALL(S$73:S74,1),IF(SMALL(S$73:S74,2)>0,SMALL(S$73:S74,2),SMALL(S$73:S74,3))),\"\"),\"\")","v":""}]

{"sheet":"木次線_上り→松江・安来","index":9,"n_rows":50,"n_cols":28,"rows_kept":50,"cut":false,"hidden":true,"merged":[]}
[null,"奥出雲町",null,null,null,null,"雲南市",null,null,null,"松江市",null,"安来市",null,null,null,null,null,null,"行きで参照","帰りで参照"]
["列車番号","出雲横田発","出雲三成発","木次着","列車番号","木次発","出雲大東発","宍道着","列車番号","宍道発","松江着","松江発","安来着","行先","種別","列車名","備考","接続","行先駅","接続行①","接続行②","接続時間","番号","木次","宍道",null,"接続時間","00:35:01"]
["5440D","05:23:00","05:44:00","06:19:00","1442D","06:21:00","06:32:00","06:55:00",null,null,null,null,null,"宍道","普通",null,"木次線から直通、日曜は出雲横田～木次間運休",{"$f":"IF(V3<=$AB$2,IF(X3<>\"\",X$2,IF(Y3<>\"\",Y$2,\"\")),\"\")","v":"宍道"},{"$f":"_xlfn.IFNA(MATCH(N3,設定_主要駅!$B$2:$B$15,0),1)","v":10},{"$f":"IF(V3<=$AB$2,IF(X3<>\"\",MATCH(X3,$F:$F,0)-2,IF(Y3<>\"\",MATCH(Y3,$J:$J,0)-2,\"\")),\"\")","v":2},{"$f":"_xlfn.IFNA(MATCH(ROW()-2,T:T,0)-2,\"\")","v":""},{"$f":"IF(X3<>\"\",X3-D3,IF(Y3<>\"\",Y3-H3,\"\"))","v":"00:05:00"},1,{"$f":"IFERROR(IF(AND(D3<>\"\",F3=\"\",D3<=MAX(F4:F$72)),IF(SMALL(F4:F$72,1)-D3>0,SMALL(F4:F$72,1),SMALL(F4:F$72,2)),\"\"),\"\")","v":""},{"$f":"IFERROR(IF(AND(H3<>\"\",J3=\"\",H3<=MAX(J4:J$72)),IF(SMALL(J4:J$72,1)-H3>0,SMALL(J4:J$72,1),SMALL(J4:J$72,2)),\"\"),\"\")","v":"07:00:00"}]
[null,null,null,null,null,null,null,null,"124D","07:00:00","07:22:00","07:24:00","07:52:00","米子","普通",null,null,{"$f":"IF(V4<=$AB$2,IF(X4<>\"\",X$2,IF(Y4<>\"\",Y$2,\"\")),\"\")","v":""},{"$f":"_xlfn.IFNA(MATCH(N4,設定_主要駅!$B$2:$B$15,0),1)","v":1},{"$f":"IF(V4<=$AB$2,IF(X4<>\"\",MATCH(X4,$F:$F,0)-2,IF(Y4<>\"\",MATCH(Y4,$J:$J,0)-2,\"\")),\"\")","v":""},{"$f":"_xlfn.IFNA(MATCH(ROW()-2,T:T,0)-2,\"\")","v":1},{"$f":"IF(X4<>\"\",X4-D4,IF(Y4<>\"\",Y4-H4,\"\"))","v":""},2,{"$f":"IFERROR(IF(AND(D4<>\"\",F4=\"\",D4<=MAX(F5:F$72)),IF(SMALL(F5:F$72,1)-D4>0,SMALL(F5:F$72,1),SMALL(F5:F$72,2)),\"\"),\"\")","v":""},{"$f":"IFERROR(IF(AND(H4<>\"\",J4=\"\",H4<=MAX(J5:J$72)),IF(SMALL(J5:J$72,1)-H4>0,SMALL(J5:J$72,1),SMALL(J5:J$72,2)),\"\"),\"\")","v":""}]
[null,null,null,null,"1444D","06:41:00","06:53:00","07:17:00","3444D","07:19:00","07:36:00",null,null,"松江","普通",null,null,"",{"$f":"_xlfn.IFNA(MATCH(N5,設定_主要駅!$B$2:$B$15,0),1)","v":2},{"$f":"IF(V5<=$AB$2,IF(X5<>\"\",MATCH(X5,$F:$F,0)-2,IF(Y5<>\"\",MATCH(Y5,$J:$J,0)-2,\"\")),\"\")","v":""},{"$f":"_xlfn.IFNA(MATCH(ROW()-2,T:T,0)-2,\"\")","v":""},"",3,{"$f":"IFERROR(IF(AND(D5<>\"\",F5=\"\",D5<=MAX(F6:F$72)),IF(SMALL(F6:F$72,1)-D5>0,SMALL(F6:F$72,1),SMALL(F6:F$72,2)),\"\"),\"\")","v":""},{"$f":"IFERROR(IF(AND(H5<>\"\",J5=\"\",H5<=MAX(J6:J$72)),IF(SMALL(J6:J$72,1)-H5>0,SMALL(J6:J$72,1),SMALL(J6:J$72,2)),\"\"),\"\")","v":""}]
[null,null,null,null,null,null,null,null,"126D","07:25:00","07:45:00","08:01:00","08:28:00","米子","普通",null,null,"",{"$f":"_xlfn.IFNA(MATCH(N6,設定_主要駅!$B$2:$B$15,0),1)","v":1},{"$f":"IF(V6<=$AB$2,IF(X6<>\"\",MATCH(X6,$F:$F,0)-2,IF(Y6<>\"\",MATCH(Y6,$J:$J,0)-2,\"\")),\"\")","v":""},{"$f":"_xlfn.IFNA(MATCH(ROW()-2,T:T,0)-2,\"\")","v":""},"",4,{"$f":"IFERROR(IF(AND(D6<>\"\",F6=\"\",D6<=MAX(F7:F$72)),IF(SMALL(F7:F$72,1)-D6>0,SMALL(F7:F$72,1),SMALL(F7:F$72,2)),\"\"),\"\")","v":""},{"$f":"IFERROR(IF(AND(H6<>\"\",J6=\"\",H6<=MAX(J7:J$72)),IF(SMALL(J7:J$72,1)-H6>0,SMALL(J7:J$72,1),SMALL(J7:J$72,2)),\"\"),\"\")","v":""}]
[null,null,null,null,null,null,null,null,"1008M","07:42:00","07:56:00","07:57:00","08:17:00","岡山","特急","やくも8号",null,"",{"$f":"_xlfn.IFNA(MATCH(N7,設定_主要駅!$B$2:$B$15,0),1)","v":1},{"$f":"IF(V7<=$AB$2,IF(X7<>\"\",MATCH(X7,$F:$F,0)-2,IF(Y7<>\"\",MATCH(Y7,$J:$J,0)-2,\"\")),\"\")","v":""},{"$f":"_xlfn.IFNA(MATCH(ROW()-2,T:T,0)-2,\"\")","v":""},"",5,{"$f":"IFERROR(IF(AND(D7<>\"\",F7=\"\",D7<=MAX(F8:F$72)),IF(SMALL(F8:F$72,1)-D7>0,SMALL(F8:F$72,1),SMALL(F8:F$72,2)),\"\"),\"\")","v":""},{"$f":"IFERROR(IF(AND(H7<>\"\",J7=\"\",H7<=MAX(J8:J$72)),IF(SMALL(J8:J$72,1)-H7>0,SMALL(J8:J$72,1),SMALL(J8:J$72,2)),\"\"),\"\")","v":""}]
[null,null,null,null,null,null,null,null,"128D","08:12:00","08:33:00","08:34:00","08:59:00","米子","普通",null,null,"",{"$f":"_xlfn.IFNA(MATCH(N8,設定_主要駅!$B$2:$B$15,0),1)","v":1},{"$f":"IF(V8<=$AB$2,IF(X8<>\"\",MATCH(X8,$F:$F,0)-2,IF(Y8<>\"\",MATCH(Y8,$J:$J,0)-2,\"\")),\"\")","v":""},{"$f":"_xlfn.IFNA(MATCH(ROW()-2,T:T,0)-2,\"\")","v":""},"",6,{"$f":"IFERROR(IF(AND(D8<>\"\",F8=\"\",D8<=MAX(F9:F$72)),IF(SMALL(F9:F$72,1)-D8>0,SMALL(F9:F$72,1),SMALL(F9:F$72,2)),\"\"),\"\")","v":""},{"$f":"IFERROR(IF(AND(H8<>\"\",J8=\"\",H8<=MAX(J9:J$72)),IF(SMALL(J9:J$72,1)-H8>0,SMALL(J9:J$72,1),SMALL(J9:J$72,2)),\"\"),\"\")","v":""}]
["1446D","07:00:00","07:24:00","07:59:00",null,"08:05:00","08:17:00","08:40:00",null,null,null,null,null,"宍道","普通",null,null,"宍道",{"$f":"_xlfn.IFNA(MATCH(N9,設定_主要駅!$B$2:$B$15,0),1)","v":10},{"$f":"IF(V9<=$AB$2,IF(X9<>\"\",MATCH(X9,$F:$F,0)-2,IF(Y9<>\"\",MATCH(Y9,$J:$J,0)-2,\"\")),\"\")","v":8},{"$f":"_xlfn.IFNA(MATCH(ROW()-2,T:T,0)-2,\"\")","v":""},"00:08:00",7,{"$f":"IFERROR(IF(AND(D9<>\"\",F9=\"\",D9<=MAX(F10:F$72)),IF(SMALL(F10:F$72,1)-D9>0,SMALL(F10:F$72,1),SMALL(F10:F$72,2)),\"\"),\"\")","v":""},{"$f":"IFERROR(IF(AND(H9<>\"\",J9=\"\",H9<=MAX(J10:J$72)),IF(SMALL(J10:J$72,1)-H9>0,SMALL(J10:J$72,1),SMALL(J10:J$72,2)),\"\"),\"\")","v":"08:48:00"}]
[null,null,null,null,null,null,null,null,"1010M","08:48:00","09:04:00","09:05:00","09:26:00","岡山","特急","やくも10号",null,{"$f":"IF(V10<=$AB$2,IF(X10<>\"\",X$2,IF(Y10<>\"\",Y$2,\"\")),\"\")","v":""},{"$f":"_xlfn.IFNA(MATCH(N10,設定_主要駅!$B$2:$B$15,0),1)","v":1},{"$f":"IF(V10<=$AB$2,IF(X10<>\"\",MATCH(X10,$F:$F,0)-2,IF(Y10<>\"\",MATCH(Y10,$J:$J,0)-2,\"\")),\"\")","v":""},{"$f":"_xlfn.IFNA(MATCH(ROW()-2,T:T,0)-2,\"\")","v":7},{"$f":"IF(X10<>\"\",X10-D10,IF(Y10<>\"\",Y10-H10,\"\"))","v":""},8,{"$f":"IFERROR(IF(AND(D10<>\"\",F10=\"\",D10<=MAX(F11:F$72)),IF(SMALL(F11:F$72,1)-D10>0,SMALL(F11:F$72,1),SMALL(F11:F$72,2)),\"\"),\"\")","v":""},{"$f":"IFERROR(IF(AND(H10<>\"\",J10=\"\",H10<=MAX(J11:J$72)),IF(SMALL(J11:J$72,1)-H10>0,SMALL(J11:J$72,1),SMALL(J11:J$72,2)),\"\"),\"\")","v":""}]
[null,null,null,null,null,null,null,null,"132D","08:58:00","09:22:00","09:37:00","10:05:00","米子","普通",null,null,{"$f":"IF(V11<=$AB$2,IF(X11<>\"\",X$2,IF(Y11<>\"\",Y$2,\"\")),\"\")","v":""},{"$f":"_xlfn.IFNA(MATCH(N11,設定_主要駅!$B$2:$B$15,0),1)","v":1},{"$f":"IF(V11<=$AB$2,IF(X11<>\"\",MATCH(X11,$F:$F,0)-2,IF(Y11<>\"\",MATCH(Y11,$J:$J,0)-2,\"\")),\"\")","v":""},{"$f":"_xlfn.IFNA(MATCH(ROW()-2,T:T,0)-2,\"\")","v":""},{"$f":"IF(X11<>\"\",X11-D11,IF(Y11<>\"\",Y11-H11,\"\"))","v":""},9,{"$f":"IFERROR(IF(AND(D11<>\"\",F11=\"\",D11<=MAX(F12:F$72)),IF(SMALL(F12:F$72,1)-D11>0,SMALL(F12:F$72,1),SMALL(F12:F$72,2)),\"\"),\"\")","v":""},{"$f":"IFERROR(IF(AND(H11<>\"\",J11=\"\",H11<=MAX(J12:J$72)),IF(SMALL(J12:J$72,1)-H11>0,SMALL(J12:J$72,1),SMALL(J12:J$72,2)),\"\"),\"\")","v":""}]
[null,null,null,null,null,null,null,null,"2006D","09:10:00","09:25:00","09:26:00","09:42:00","鳥取","特急","スーパーまつかぜ6号",null,"",{"$f":"_xlfn.IFNA(MATCH(N12,設定_主要駅!$B$2:$B$15,0),1)","v":1},{"$f":"IF(V12<=$AB$2,IF(X12<>\"\",MATCH(X12,$F:$F,0)-2,IF(Y12<>\"\",MATCH(Y12,$J:$J,0)-2,\"\")),\"\")","v":""},{"$f":"_xlfn.IFNA(MATCH(ROW()-2,T:T,0)-2,\"\")","v":""},"",10,{"$f":"IFERROR(IF(AND(D12<>\"\",F12=\"\",D12<=MAX(F13:F$72)),IF(SMALL(F13:F$72,1)-D12>0,SMALL(F13:F$72,1),SMALL(F13:F$72,2)),\"\"),\"\")","v":""},{"$f":"IFERROR(IF(AND(H12<>\"\",J12=\"\",H12<=MAX(J13:J$72)),IF(SMALL(J13:J$72,1)-H12>0,SMALL(J13:J$72,1),SMALL(J13:J$72,2)),\"\"),\"\")","v":""}]
[null,null,null,null,null,null,null,null,"1012M","09:56:00","10:10:00","10:11:00","10:27:00","岡山","特急","やくも12号",null,"",{"$f":"_xlfn.IFNA(MATCH(N13,設定_主要駅!$B$2:$B$15,0),1)","v":1},{"$f":"IF(V13<=$AB$2,IF(X13<>\"\",MATCH(X13,$F:$F,0)-2,IF(Y13<>\"\",MATCH(Y13,$J:$J,0)-2,\"\")),\"\")","v":""},{"$f":"_xlfn.IFNA(MATCH(ROW()-2,T:T,0)-2,\"\")","v":""},"",11,{"$f":"IFERROR(IF(AND(D13<>\"\",F13=\"\",D13<=MAX(F14:F$72)),IF(SMALL(F14:F$72,1)-D13>0,SMALL(F14:F$72,1),SMALL(F14:F$72,2)),\"\"),\"\")","v":""},{"$f":"IFERROR(IF(AND(H13<>\"\",J13=\"\",H13<=MAX(J14:J$72)),IF(SMALL(J14:J$72,1)-H13>0,SMALL(J14:J$72,1),SMALL(J14:J$72,2)),\"\"),\"\")","v":""}]
[null,null,null,null,null,null,null,null,"282M","10:24:00","10:43:00","10:44:00","11:09:00","米子","普通",null,null,"",{"$f":"_xlfn.IFNA(MATCH(N14,設定_主要駅!$B$2:$B$15,0),1)","v":1},{"$f":"IF(V14<=$AB$2,IF(X14<>\"\",MATCH(X14,$F:$F,0)-2,IF(Y14<>\"\",MATCH(Y14,$J:$J,0)-2,\"\")),\"\")","v":""},{"$f":"_xlfn.IFNA(MATCH(ROW()-2,T:T,0)-2,\"\")","v":""},"",12,{"$f":"IFERROR(IF(AND(D14<>\"\",F14=\"\",D14<=MAX(F15:F$72)),IF(SMALL(F15:F$72,1)-D14>0,SMALL(F15:F$72,1),SMALL(F15:F$72,2)),\"\"),\"\")","v":""},{"$f":"IFERROR(IF(AND(H14<>\"\",J14=\"\",H14<=MAX(J15:J$72)),IF(SMALL(J15:J$72,1)-H14>0,SMALL(J15:J$72,1),SMALL(J15:J$72,2)),\"\"),\"\")","v":""}]
["1448D","09:06:00","09:27:00","10:02:00",null,"10:13:00","10:25:00","10:47:00",null,null,null,null,null,"宍道","普通",null,null,"宍道",{"$f":"_xlfn.IFNA(MATCH(N15,設定_主要駅!$B$2:$B$15,0),1)","v":10},{"$f":"IF(V15<=$AB$2,IF(X15<>\"\",MATCH(X15,$F:$F,0)-2,IF(Y15<>\"\",MATCH(Y15,$J:$J,0)-2,\"\")),\"\")","v":14},{"$f":"_xlfn.IFNA(MATCH(ROW()-2,T:T,0)-2,\"\")","v":""},"00:15:00",13,{"$f":"IFERROR(IF(AND(D15<>\"\",F15=\"\",D15<=MAX(F16:F$72)),IF(SMALL(F16:F$72,1)-D15>0,SMALL(F16:F$72,1),SMALL(F16:F$72,2)),\"\"),\"\")","v":""},{"$f":"IFERROR(IF(AND(H15<>\"\",J15=\"\",H15<=MAX(J16:J$72)),IF(SMALL(J16:J$72,1)-H15>0,SMALL(J16:J$72,1),SMALL(J16:J$72,2)),\"\"),\"\")","v":"11:02:00"}]
[null,null,null,null,null,null,null,null,"134D","11:02:00","11:32:00","11:36:00","12:01:00","岡山","普通",null,null,"",{"$f":"_xlfn.IFNA(MATCH(N16,設定_主要駅!$B$2:$B$15,0),1)","v":1},{"$f":"IF(V16<=$AB$2,IF(X16<>\"\",MATCH(X16,$F:$F,0)-2,IF(Y16<>\"\",MATCH(Y16,$J:$J,0)-2,\"\")),\"\")","v":""},{"$f":"_xlfn.IFNA(MATCH(ROW()-2,T:T,0)-2,\"\")","v":13},"",14,{"$f":"IFERROR(IF(AND(D16<>\"\",F16=\"\",D16<=MAX(F17:F$72)),IF(SMALL(F17:F$72,1)-D16>0,SMALL(F17:F$72,1),SMALL(F17:F$72,2)),\"\"),\"\")","v":""},{"$f":"IFERROR(IF(AND(H16<>\"\",J16=\"\",H16<=MAX(J17:J$72)),IF(SMALL(J17:J$72,1)-H16>0,SMALL(J17:J$72,1),SMALL(J17:J$72,2)),\"\"),\"\")","v":""}]
[null,null,null,null,null,null,null,null,"1016M","11:55:00","12:10:00","12:11:00","12:27:00","岡山","特急","やくも16号",null,"",{"$f":"_xlfn.IFNA(MATCH(N17,設定_主要駅!$B$2:$B$15,0),1)","v":1},{"$f":"IF(V17<=$AB$2,IF(X17<>\"\",MATCH(X17,$F:$F,0)-2,IF(Y17<>\"\",MATCH(Y17,$J:$J,0)-2,\"\")),\"\")","v":""},{"$f":"_xlfn.IFNA(MATCH(ROW()-2,T:T,0)-2,\"\")","v":""},"",15,{"$f":"IFERROR(IF(AND(D17<>\"\",F17=\"\",D17<=MAX(F18:F$72)),IF(SMALL(F18:F$72,1)-D17>0,SMALL(F18:F$72,1),SMALL(F18:F$72,2)),\"\"),\"\")","v":""},{"$f":"IFERROR(IF(AND(H17<>\"\",J17=\"\",H17<=MAX(J18:J$72)),IF(SMALL(J18:J$72,1)-H17>0,SMALL(J18:J$72,1),SMALL(J18:J$72,2)),\"\"),\"\")","v":""}]
[null,null,null,null,null,null,null,null,"136D","11:37:00","12:03:00","12:17:00","12:44:00","米子","普通",null,null,{"$f":"IF(V18<=$AB$2,IF(X18<>\"\",X$2,IF(Y18<>\"\",Y$2,\"\")),\"\")","v":""},{"$f":"_xlfn.IFNA(MATCH(N18,設定_主要駅!$B$2:$B$15,0),1)","v":1},{"$f":"IF(V18<=$AB$2,IF(X18<>\"\",MATCH(X18,$F:$F,0)-2,IF(Y18<>\"\",MATCH(Y18,$J:$J,0)-2,\"\")),\"\")","v":""},{"$f":"_xlfn.IFNA(MATCH(ROW()-2,T:T,0)-2,\"\")","v":""},{"$f":"IF(X18<>\"\",X18-D18,IF(Y18<>\"\",Y18-H18,\"\"))","v":""},16,{"$f":"IFERROR(IF(AND(D18<>\"\",F18=\"\",D18<=MAX(F19:F$72)),IF(SMALL(F19:F$72,1)-D18>0,SMALL(F19:F$72,1),SMALL(F19:F$72,2)),\"\"),\"\")","v":""},{"$f":"IFERROR(IF(AND(H18<>\"\",J18=\"\",H18<=MAX(J19:J$72)),IF(SMALL(J19:J$72,1)-H18>0,SMALL(J19:J$72,1),SMALL(J19:J$72,2)),\"\"),\"\")","v":""}]
["1450D","10:33:00","10:58:00","11:34:00",null,null,null,null,null,null,null,null,null,"木次","普通",null,"◆第２木曜は運休、同区間代行輸送","木次",{"$f":"_xlfn.IFNA(MATCH(N19,設定_主要駅!$B$2:$B$15,0),1)","v":12},{"$f":"IF(V19<=$AB$2,IF(X19<>\"\",MATCH(X19,$F:$F,0)-2,IF(Y19<>\"\",MATCH(Y19,$J:$J,0)-2,\"\")),\"\")","v":18},{"$f":"_xlfn.IFNA(MATCH(ROW()-2,T:T,0)-2,\"\")","v":""},"00:18:00",17,{"$f":"IFERROR(IF(AND(D19<>\"\",F19=\"\",D19<=MAX(F20:F$72)),IF(SMALL(F20:F$72,1)-D19>0,SMALL(F20:F$72,1),SMALL(F20:F$72,2)),\"\"),\"\")","v":"11:52:00"},{"$f":"IFERROR(IF(AND(H19<>\"\",J19=\"\",H19<=MAX(J20:J$72)),IF(SMALL(J20:J$72,1)-H19>0,SMALL(J20:J$72,1),SMALL(J20:J$72,2)),\"\"),\"\")","v":""}]
[null,null,null,null,"1450D","11:52:00","12:04:00","12:26:00",null,null,null,null,null,"宍道","普通",null,"◆第３日曜は運休、代行輸送","宍道",{"$f":"_xlfn.IFNA(MATCH(N20,設定_主要駅!$B$2:$B$15,0),1)","v":10},{"$f":"IF(V20<=$AB$2,IF(X20<>\"\",MATCH(X20,$F:$F,0)-2,IF(Y20<>\"\",MATCH(Y20,$J:$J,0)-2,\"\")),\"\")","v":19},{"$f":"_xlfn.IFNA(MATCH(ROW()-2,T:T,0)-2,\"\")","v":17},"00:09:00",18,{"$f":"IFERROR(IF(AND(D20<>\"\",F20=\"\",D20<=MAX(F21:F$72)),IF(SMALL(F21:F$72,1)-D20>0,SMALL(F21:F$72,1),SMALL(F21:F$72,2)),\"\"),\"\")","v":""},{"$f":"IFERROR(IF(AND(H20<>\"\",J20=\"\",H20<=MAX(J21:J$72)),IF(SMALL(J21:J$72,1)-H20>0,SMALL(J21:J$72,1),SMALL(J21:J$72,2)),\"\"),\"\")","v":"12:35:00"}]
[null,null,null,null,null,null,null,null,"3002D","12:35:00","12:49:00","12:50:00","13:09:00","米子","特急","スーパーおき2号",null,"",{"$f":"_xlfn.IFNA(MATCH(N21,設定_主要駅!$B$2:$B$15,0),1)","v":1},{"$f":"IF(V21<=$AB$2,IF(X21<>\"\",MATCH(X21,$F:$F,0)-2,IF(Y21<>\"\",MATCH(Y21,$J:$J,0)-2,\"\")),\"\")","v":""},{"$f":"_xlfn.IFNA(MATCH(ROW()-2,T:T,0)-2,\"\")","v":18},"",19,{"$f":"IFERROR(IF(AND(D21<>\"\",F21=\"\",D21<=MAX(F22:F$72)),IF(SMALL(F22:F$72,1)-D21>0,SMALL(F22:F$72,1),SMALL(F22:F$72,2)),\"\"),\"\")","v":""},{"$f":"IFERROR(IF(AND(H21<>\"\",J21=\"\",H21<=MAX(J22:J$72)),IF(SMALL(J22:J$72,1)-H21>0,SMALL(J22:J$72,1),SMALL(J22:J$72,2)),\"\"),\"\")","v":""}]
[null,null,null,null,null,null,null,null,"138D","13:15:00","13:36:00","13:40:00","14:05:00","米子","普通",null,null,"",{"$f":"_xlfn.IFNA(MATCH(N22,設定_主要駅!$B$2:$B$15,0),1)","v":1},{"$f":"IF(V22<=$AB$2,IF(X22<>\"\",MATCH(X22,$F:$F,0)-2,IF(Y22<>\"\",MATCH(Y22,$J:$J,0)-2,\"\")),\"\")","v":""},{"$f":"_xlfn.IFNA(MATCH(ROW()-2,T:T,0)-2,\"\")","v":""},"",20,{"$f":"IFERROR(IF(AND(D22<>\"\",F22=\"\",D22<=MAX(F23:F$72)),IF(SMALL(F23:F$72,1)-D22>0,SMALL(F23:F$72,1),SMALL(F23:F$72,2)),\"\"),\"\")","v":""},{"$f":"IFERROR(IF(AND(H22<>\"\",J22=\"\",H22<=MAX(J23:J$72)),IF(SMALL(J23:J$72,1)-H22>0,SMALL(J23:J$72,1),SMALL(J23:J$72,2)),\"\"),\"\")","v":""}]
[null,null,null,null,null,null,null,null,"1020M","13:54:00","14:07:00","14:09:00","14:25:00","岡山","特急","やくも20号",null,{"$f":"IF(V23<=$AB$2,IF(X23<>\"\",X$2,IF(Y23<>\"\",Y$2,\"\")),\"\")","v":""},{"$f":"_xlfn.IFNA(MATCH(N23,設定_主要駅!$B$2:$B$15,0),1)","v":1},{"$f":"IF(V23<=$AB$2,IF(X23<>\"\",MATCH(X23,$F:$F,0)-2,IF(Y23<>\"\",MATCH(Y23,$J:$J,0)-2,\"\")),\"\")","v":""},{"$f":"_xlfn.IFNA(MATCH(ROW()-2,T:T,0)-2,\"\")","v":""},{"$f":"IF(X23<>\"\",X23-D23,IF(Y23<>\"\",Y23-H23,\"\"))","v":""},21,{"$f":"IFERROR(IF(AND(D23<>\"\",F23=\"\",D23<=MAX(F24:F$72)),IF(SMALL(F24:F$72,1)-D23>0,SMALL(F24:F$72,1),SMALL(F24:F$72,2)),\"\"),\"\")","v":""},{"$f":"IFERROR(IF(AND(H23<>\"\",J23=\"\",H23<=MAX(J24:J$72)),IF(SMALL(J24:J$72,1)-H23>0,SMALL(J24:J$72,1),SMALL(J24:J$72,2)),\"\"),\"\")","v":""}]
[null,null,null,null,null,null,null,null,"140D","14:08:00","14:27:00","14:34:00","14:59:00","米子","普通",null,null,"",{"$f":"_xlfn.IFNA(MATCH(N24,設定_主要駅!$B$2:$B$15,0),1)","v":1},{"$f":"IF(V24<=$AB$2,IF(X24<>\"\",MATCH(X24,$F:$F,0)-2,IF(Y24<>\"\",MATCH(Y24,$J:$J,0)-2,\"\")),\"\")","v":""},{"$f":"_xlfn.IFNA(MATCH(ROW()-2,T:T,0)-2,\"\")","v":""},"",22,{"$f":"IFERROR(IF(AND(D24<>\"\",F24=\"\",D24<=MAX(F25:F$72)),IF(SMALL(F25:F$72,1)-D24>0,SMALL(F25:F$72,1),SMALL(F25:F$72,2)),\"\"),\"\")","v":""},{"$f":"IFERROR(IF(AND(H24<>\"\",J24=\"\",H24<=MAX(J25:J$72)),IF(SMALL(J25:J$72,1)-H24>0,SMALL(J25:J$72,1),SMALL(J25:J$72,2)),\"\"),\"\")","v":""}]
["9452D","12:00:00","12:33:00","13:10:00",null,null,null,null,null,null,null,null,null,"木次","普通",null,"◆あめつち運行日は運休","木次",{"$f":"_xlfn.IFNA(MATCH(N25,設定_主要駅!$B$2:$B$15,0),1)","v":12},{"$f":"IF(V25<=$AB$2,IF(X25<>\"\",MATCH(X25,$F:$F,0)-2,IF(Y25<>\"\",MATCH(Y25,$J:$J,0)-2,\"\")),\"\")","v":24},{"$f":"_xlfn.IFNA(MATCH(ROW()-2,T:T,0)-2,\"\")","v":""},"00:22:00",23,{"$f":"IFERROR(IF(AND(D25<>\"\",F25=\"\",D25<=MAX(F26:F$72)),IF(SMALL(F26:F$72,1)-D25>0,SMALL(F26:F$72,1),SMALL(F26:F$72,2)),\"\"),\"\")","v":"13:32:00"},{"$f":"IFERROR(IF(AND(H25<>\"\",J25=\"\",H25<=MAX(J26:J$72)),IF(SMALL(J26:J$72,1)-H25>0,SMALL(J26:J$72,1),SMALL(J26:J$72,2)),\"\"),\"\")","v":""}]
[null,null,null,null,"1454D","13:32:00","13:43:00","14:05:00",null,null,null,null,null,"宍道","普通",null,"◆第３日曜は運休、代行輸送",{"$f":"IF(V26<=$AB$2,IF(X26<>\"\",X$2,IF(Y26<>\"\",Y$2,\"\")),\"\")","v":""},{"$f":"_xlfn.IFNA(MATCH(N26,設定_主要駅!$B$2:$B$15,0),1)","v":10},{"$f":"IF(V26<=$AB$2,IF(X26<>\"\",MATCH(X26,$F:$F,0)-2,IF(Y26<>\"\",MATCH(Y26,$J:$J,0)-2,\"\")),\"\")","v":""},{"$f":"_xlfn.IFNA(MATCH(ROW()-2,T:T,0)-2,\"\")","v":23},{"$f":"IF(X26<>\"\",X26-D26,IF(Y26<>\"\",Y26-H26,\"\"))","v":"01:13:00"},24,{"$f":"IFERROR(IF(AND(D26<>\"\",F26=\"\",D26<=MAX(F27:F$72)),IF(SMALL(F27:F$72,1)-D26>0,SMALL(F27:F$72,1),SMALL(F27:F$72,2)),\"\"),\"\")","v":""},{"$f":"IFERROR(IF(AND(H26<>\"\",J26=\"\",H26<=MAX(J27:J$72)),IF(SMALL(J27:J$72,1)-H26>0,SMALL(J27:J$72,1),SMALL(J27:J$72,2)),\"\"),\"\")","v":"15:18:00"}]
[null,null,null,null,null,null,null,null,"284M","15:18:00","15:37:00","15:39:00","16:07:00","米子","普通",null,null,"",{"$f":"_xlfn.IFNA(MATCH(N27,設定_主要駅!$B$2:$B$15,0),1)","v":1},{"$f":"IF(V27<=$AB$2,IF(X27<>\"\",MATCH(X27,$F:$F,0)-2,IF(Y27<>\"\",MATCH(Y27,$J:$J,0)-2,\"\")),\"\")","v":""},{"$f":"_xlfn.IFNA(MATCH(ROW()-2,T:T,0)-2,\"\")","v":""},"",25,{"$f":"IFERROR(IF(AND(D27<>\"\",F27=\"\",D27<=MAX(F28:F$72)),IF(SMALL(F28:F$72,1)-D27>0,SMALL(F28:F$72,1),SMALL(F28:F$72,2)),\"\"),\"\")","v":""},{"$f":"IFERROR(IF(AND(H27<>\"\",J27=\"\",H27<=MAX(J28:J$72)),IF(SMALL(J28:J$72,1)-H27>0,SMALL(J28:J$72,1),SMALL(J28:J$72,2)),\"\"),\"\")","v":""}]
["1456D","13:25:00","13:46:00","14:21:00",null,null,null,null,null,null,null,null,null,"木次","普通",null,"◆第２木曜は運休、代行輸送","",{"$f":"_xlfn.IFNA(MATCH(N28,設定_主要駅!$B$2:$B$15,0),1)","v":12},{"$f":"IF(V28<=$AB$2,IF(X28<>\"\",MATCH(X28,$F:$F,0)-2,IF(Y28<>\"\",MATCH(Y28,$J:$J,0)-2,\"\")),\"\")","v":""},{"$f":"_xlfn.IFNA(MATCH(ROW()-2,T:T,0)-2,\"\")","v":""},"00:51:00",26,{"$f":"IFERROR(IF(AND(D28<>\"\",F28=\"\",D28<=MAX(F29:F$72)),IF(SMALL(F29:F$72,1)-D28>0,SMALL(F29:F$72,1),SMALL(F29:F$72,2)),\"\"),\"\")","v":"15:12:00"},{"$f":"IFERROR(IF(AND(H28<>\"\",J28=\"\",H28<=MAX(J29:J$72)),IF(SMALL(J29:J$72,1)-H28>0,SMALL(J29:J$72,1),SMALL(J29:J$72,2)),\"\"),\"\")","v":""}]
[null,null,null,null,"1458D","15:12:00","15:23:00","15:46:00",null,null,null,null,null,"宍道","普通",null,null,"宍道",{"$f":"_xlfn.IFNA(MATCH(N29,設定_主要駅!$B$2:$B$15,0),1)","v":10},{"$f":"IF(V29<=$AB$2,IF(X29<>\"\",MATCH(X29,$F:$F,0)-2,IF(Y29<>\"\",MATCH(Y29,$J:$J,0)-2,\"\")),\"\")","v":28},{"$f":"_xlfn.IFNA(MATCH(ROW()-2,T:T,0)-2,\"\")","v":""},"00:03:00",27,{"$f":"IFERROR(IF(AND(D29<>\"\",F29=\"\",D29<=MAX(F30:F$72)),IF(SMALL(F30:F$72,1)-D29>0,SMALL(F30:F$72,1),SMALL(F30:F$72,2)),\"\"),\"\")","v":""},{"$f":"IFERROR(IF(AND(H29<>\"\",J29=\"\",H29<=MAX(J30:J$72)),IF(SMALL(J30:J$72,1)-H29>0,SMALL(J30:J$72,1),SMALL(J30:J$72,2)),\"\"),\"\")","v":"15:49:00"}]
[null,null,null,null,null,null,null,null,"1024M","15:49:00","16:05:00","16:06:00","16:22:00","岡山","特急","やくも24号",null,"",{"$f":"_xlfn.IFNA(MATCH(N30,設定_主要駅!$B$2:$B$15,0),1)","v":1},{"$f":"IF(V30<=$AB$2,IF(X30<>\"\",MATCH(X30,$F:$F,0)-2,IF(Y30<>\"\",MATCH(Y30,$J:$J,0)-2,\"\")),\"\")","v":""},{"$f":"_xlfn.IFNA(MATCH(ROW()-2,T:T,0)-2,\"\")","v":27},"",28,{"$f":"IFERROR(IF(AND(D30<>\"\",F30=\"\",D30<=MAX(F31:F$72)),IF(SMALL(F31:F$72,1)-D30>0,SMALL(F31:F$72,1),SMALL(F31:F$72,2)),\"\"),\"\")","v":""},{"$f":"IFERROR(IF(AND(H30<>\"\",J30=\"\",H30<=MAX(J31:J$72)),IF(SMALL(J31:J$72,1)-H30>0,SMALL(J31:J$72,1),SMALL(J31:J$72,2)),\"\"),\"\")","v":""}]
[null,null,null,null,null,null,null,null,"142D","15:59:00","16:20:00","16:21:00","16:55:00","米子","普通",null,null,{"$f":"IF(V31<=$AB$2,IF(X31<>\"\",X$2,IF(Y31<>\"\",Y$2,\"\")),\"\")","v":""},{"$f":"_xlfn.IFNA(MATCH(N31,設定_主要駅!$B$2:$B$15,0),1)","v":1},{"$f":"IF(V31<=$AB$2,IF(X31<>\"\",MATCH(X31,$F:$F,0)-2,IF(Y31<>\"\",MATCH(Y31,$J:$J,0)-2,\"\")),\"\")","v":""},{"$f":"_xlfn.IFNA(MATCH(ROW()-2,T:T,0)-2,\"\")","v":""},{"$f":"IF(X31<>\"\",X31-D31,IF(Y31<>\"\",Y31-H31,\"\"))","v":""},29,{"$f":"IFERROR(IF(AND(D31<>\"\",F31=\"\",D31<=MAX(F32:F$72)),IF(SMALL(F32:F$72,1)-D31>0,SMALL(F32:F$72,1),SMALL(F32:F$72,2)),\"\"),\"\")","v":""},{"$f":"IFERROR(IF(AND(H31<>\"\",J31=\"\",H31<=MAX(J32:J$72)),IF(SMALL(J32:J$72,1)-H31>0,SMALL(J32:J$72,1),SMALL(J32:J$72,2)),\"\"),\"\")","v":""}]
[null,null,null,null,null,null,null,null,"144D","16:39:00","17:02:00","17:14:00","17:39:00","米子","普通",null,null,"",{"$f":"_xlfn.IFNA(MATCH(N32,設定_主要駅!$B$2:$B$15,0),1)","v":1},{"$f":"IF(V32<=$AB$2,IF(X32<>\"\",MATCH(X32,$F:$F,0)-2,IF(Y32<>\"\",MATCH(Y32,$J:$J,0)-2,\"\")),\"\")","v":""},{"$f":"_xlfn.IFNA(MATCH(ROW()-2,T:T,0)-2,\"\")","v":""},"",30,{"$f":"IFERROR(IF(AND(D32<>\"\",F32=\"\",D32<=MAX(F33:F$72)),IF(SMALL(F33:F$72,1)-D32>0,SMALL(F33:F$72,1),SMALL(F33:F$72,2)),\"\"),\"\")","v":""},{"$f":"IFERROR(IF(AND(H32<>\"\",J32=\"\",H32<=MAX(J33:J$72)),IF(SMALL(J33:J$72,1)-H32>0,SMALL(J33:J$72,1),SMALL(J33:J$72,2)),\"\"),\"\")","v":""}]
[null,null,null,null,null,null,null,null,"3004D","16:30:00","16:44:00","16:46:00","17:03:00","鳥取","特急","スーパーおき4号",null,{"$f":"IF(V33<=$AB$2,IF(X33<>\"\",X$2,IF(Y33<>\"\",Y$2,\"\")),\"\")","v":""},{"$f":"_xlfn.IFNA(MATCH(N33,設定_主要駅!$B$2:$B$15,0),1)","v":1},"","",{"$f":"IF(X33<>\"\",X33-D33,IF(Y33<>\"\",Y33-H33,\"\"))","v":""},31,{"$f":"IFERROR(IF(AND(D33<>\"\",F33=\"\",D33<=MAX(F34:F$72)),IF(SMALL(F34:F$72,1)-D33>0,SMALL(F34:F$72,1),SMALL(F34:F$72,2)),\"\"),\"\")","v":""},{"$f":"IFERROR(IF(AND(H33<>\"\",J33=\"\",H33<=MAX(J34:J$72)),IF(SMALL(J34:J$72,1)-H33>0,SMALL(J34:J$72,1),SMALL(J34:J$72,2)),\"\"),\"\")","v":""}]
[null,null,null,null,"1460D","16:00:00","16:12:00","16:34:00",null,null,null,null,null,"宍道","普通",null,null,"宍道",{"$f":"_xlfn.IFNA(MATCH(N34,設定_主要駅!$B$2:$B$15,0),1)","v":10},33,"","00:18:00",32,{"$f":"IFERROR(IF(AND(D34<>\"\",F34=\"\",D34<=MAX(F35:F$72)),IF(SMALL(F35:F$72,1)-D34>0,SMALL(F35:F$72,1),SMALL(F35:F$72,2)),\"\"),\"\")","v":""},{"$f":"IFERROR(IF(AND(H34<>\"\",J34=\"\",H34<=MAX(J35:J$72)),IF(SMALL(J35:J$72,1)-H34>0,SMALL(J35:J$72,1),SMALL(J35:J$72,2)),\"\"),\"\")","v":"16:52:00"}]
[null,null,null,null,null,null,null,null,"1026M","16:52:00","17:08:00","17:10:00","17:26:00","岡山","特急","やくも26号",null,"",{"$f":"_xlfn.IFNA(MATCH(N35,設定_主要駅!$B$2:$B$15,0),1)","v":1},"",32,"",33,{"$f":"IFERROR(IF(AND(D35<>\"\",F35=\"\",D35<=MAX(F36:F$72)),IF(SMALL(F36:F$72,1)-D35>0,SMALL(F36:F$72,1),SMALL(F36:F$72,2)),\"\"),\"\")","v":""},{"$f":"IFERROR(IF(AND(H35<>\"\",J35=\"\",H35<=MAX(J36:J$72)),IF(SMALL(J36:J$72,1)-H35>0,SMALL(J36:J$72,1),SMALL(J36:J$72,2)),\"\"),\"\")","v":""}]
[null,null,null,null,null,null,null,null,"146D","17:31:00","17:51:00","18:13:00","18:38:00","米子","普通",null,null,"",{"$f":"_xlfn.IFNA(MATCH(N36,設定_主要駅!$B$2:$B$15,0),1)","v":1},"","","",34,{"$f":"IFERROR(IF(AND(D36<>\"\",F36=\"\",D36<=MAX(F37:F$72)),IF(SMALL(F37:F$72,1)-D36>0,SMALL(F37:F$72,1),SMALL(F37:F$72,2)),\"\"),\"\")","v":""},{"$f":"IFERROR(IF(AND(H36<>\"\",J36=\"\",H36<=MAX(J37:J$72)),IF(SMALL(J37:J$72,1)-H36>0,SMALL(J37:J$72,1),SMALL(J37:J$72,2)),\"\"),\"\")","v":""}]
[null,null,null,null,null,null,null,null,"1028M","17:40:00","17:55:00","17:56:00","18:12:00","岡山","特急","やくも28号",null,"",{"$f":"_xlfn.IFNA(MATCH(N37,設定_主要駅!$B$2:$B$15,0),1)","v":1},"","","",35,{"$f":"IFERROR(IF(AND(D37<>\"\",F37=\"\",D37<=MAX(F38:F$72)),IF(SMALL(F38:F$72,1)-D37>0,SMALL(F38:F$72,1),SMALL(F38:F$72,2)),\"\"),\"\")","v":""},{"$f":"IFERROR(IF(AND(H37<>\"\",J37=\"\",H37<=MAX(J38:J$72)),IF(SMALL(J38:J$72,1)-H37>0,SMALL(J38:J$72,1),SMALL(J38:J$72,2)),\"\"),\"\")","v":""}]
["1462D","15:57:00","16:18:00","16:52:00",null,"17:05:00","17:16:00","17:43:00",null,null,null,null,null,"宍道","普通",null,"◆備後落合～出雲横田間、第２木曜は運休、同区間代行輸送","",{"$f":"_xlfn.IFNA(MATCH(N38,設定_主要駅!$B$2:$B$15,0),1)","v":10},"","","00:37:00",36,{"$f":"IFERROR(IF(AND(D38<>\"\",F38=\"\",D38<=MAX(F39:F$72)),IF(SMALL(F39:F$72,1)-D38>0,SMALL(F39:F$72,1),SMALL(F39:F$72,2)),\"\"),\"\")","v":""},{"$f":"IFERROR(IF(AND(H38<>\"\",J38=\"\",H38<=MAX(J39:J$72)),IF(SMALL(J39:J$72,1)-H38>0,SMALL(J39:J$72,1),SMALL(J39:J$72,2)),\"\"),\"\")","v":"18:20:00"}]
[null,null,null,null,null,null,null,null,"286M","18:20:00","18:49:00","19:05:00","19:31:00","新見","普通",null,null,"",{"$f":"_xlfn.IFNA(MATCH(N39,設定_主要駅!$B$2:$B$15,0),1)","v":1},"","","",37,{"$f":"IFERROR(IF(AND(D39<>\"\",F39=\"\",D39<=MAX(F40:F$72)),IF(SMALL(F40:F$72,1)-D39>0,SMALL(F40:F$72,1),SMALL(F40:F$72,2)),\"\"),\"\")","v":""},{"$f":"IFERROR(IF(AND(H39<>\"\",J39=\"\",H39<=MAX(J40:J$72)),IF(SMALL(J40:J$72,1)-H39>0,SMALL(J40:J$72,1),SMALL(J40:J$72,2)),\"\"),\"\")","v":""}]
[null,null,null,null,null,null,null,null,"1030M","18:45:00","18:58:00","18:59:00","19:18:00","岡山","特急","やくも30号",null,"",{"$f":"_xlfn.IFNA(MATCH(N40,設定_主要駅!$B$2:$B$15,0),1)","v":1},"","","",38,{"$f":"IFERROR(IF(AND(D40<>\"\",F40=\"\",D40<=MAX(F41:F$72)),IF(SMALL(F41:F$72,1)-D40>0,SMALL(F41:F$72,1),SMALL(F41:F$72,2)),\"\"),\"\")","v":""},{"$f":"IFERROR(IF(AND(H40<>\"\",J40=\"\",H40<=MAX(J41:J$72)),IF(SMALL(J41:J$72,1)-H40>0,SMALL(J41:J$72,1),SMALL(J41:J$72,2)),\"\"),\"\")","v":""}]
[null,null,null,null,null,null,null,null,"4032M","19:11:00","19:26:00","19:27:00","19:44:00","東京","特急","サンライズ出雲",null,"",{"$f":"_xlfn.IFNA(MATCH(N41,設定_主要駅!$B$2:$B$15,0),1)","v":1},"","","",39,{"$f":"IFERROR(IF(AND(D41<>\"\",F41=\"\",D41<=MAX(F42:F$72)),IF(SMALL(F42:F$72,1)-D41>0,SMALL(F42:F$72,1),SMALL(F42:F$72,2)),\"\"),\"\")","v":""},{"$f":"IFERROR(IF(AND(H41<>\"\",J41=\"\",H41<=MAX(J42:J$72)),IF(SMALL(J42:J$72,1)-H41>0,SMALL(J42:J$72,1),SMALL(J42:J$72,2)),\"\"),\"\")","v":""}]
[null,null,null,null,null,null,null,null,"148D","19:20:00","19:40:00","19:41:00","20:03:00","米子","普通",null,null,"",{"$f":"_xlfn.IFNA(MATCH(N42,設定_主要駅!$B$2:$B$15,0),1)","v":1},"","","",40,{"$f":"IFERROR(IF(AND(D42<>\"\",F42=\"\",D42<=MAX(F43:F$72)),IF(SMALL(F43:F$72,1)-D42>0,SMALL(F43:F$72,1),SMALL(F43:F$72,2)),\"\"),\"\")","v":""},{"$f":"IFERROR(IF(AND(H42<>\"\",J42=\"\",H42<=MAX(J43:J$72)),IF(SMALL(J43:J$72,1)-H42>0,SMALL(J43:J$72,1),SMALL(J43:J$72,2)),\"\"),\"\")","v":""}]
["1464D","18:06:00","18:27:00","19:02:00",null,"19:05:00","19:17:00","19:39:00",null,null,null,null,null,"宍道","普通",null,null,"宍道",{"$f":"_xlfn.IFNA(MATCH(N43,設定_主要駅!$B$2:$B$15,0),1)","v":10},42,"","00:15:00",41,{"$f":"IFERROR(IF(AND(D43<>\"\",F43=\"\",D43<=MAX(F44:F$72)),IF(SMALL(F44:F$72,1)-D43>0,SMALL(F44:F$72,1),SMALL(F44:F$72,2)),\"\"),\"\")","v":""},{"$f":"IFERROR(IF(AND(H43<>\"\",J43=\"\",H43<=MAX(J44:J$72)),IF(SMALL(J44:J$72,1)-H43>0,SMALL(J44:J$72,1),SMALL(J44:J$72,2)),\"\"),\"\")","v":"19:54:00"}]
[null,null,null,null,null,null,null,null,"150D","19:54:00","20:16:00","20:24:00","20:55:00","米子","普通",null,null,"",{"$f":"_xlfn.IFNA(MATCH(N44,設定_主要駅!$B$2:$B$15,0),1)","v":1},"",41,"",42,{"$f":"IFERROR(IF(AND(D44<>\"\",F44=\"\",D44<=MAX(F45:F$72)),IF(SMALL(F45:F$72,1)-D44>0,SMALL(F45:F$72,1),SMALL(F45:F$72,2)),\"\"),\"\")","v":""},{"$f":"IFERROR(IF(AND(H44<>\"\",J44=\"\",H44<=MAX(J45:J$72)),IF(SMALL(J45:J$72,1)-H44>0,SMALL(J45:J$72,1),SMALL(J45:J$72,2)),\"\"),\"\")","v":""}]
[null,null,null,null,null,null,null,null,"3006D","20:04:00","20:19:00","20:20:00","20:35:00","米子","特急","スーパーおき6号",null,"",{"$f":"_xlfn.IFNA(MATCH(N45,設定_主要駅!$B$2:$B$15,0),1)","v":1},"","","",43,{"$f":"IFERROR(IF(AND(D45<>\"\",F45=\"\",D45<=MAX(F46:F$72)),IF(SMALL(F46:F$72,1)-D45>0,SMALL(F46:F$72,1),SMALL(F46:F$72,2)),\"\"),\"\")","v":""},{"$f":"IFERROR(IF(AND(H45<>\"\",J45=\"\",H45<=MAX(J46:J$72)),IF(SMALL(J46:J$72,1)-H45>0,SMALL(J46:J$72,1),SMALL(J46:J$72,2)),\"\"),\"\")","v":""}]
[null,null,null,null,null,null,null,null,"152D","20:45:00","21:06:00","21:08:00","21:29:00","米子","普通",null,null,"",{"$f":"_xlfn.IFNA(MATCH(N46,設定_主要駅!$B$2:$B$15,0),1)","v":1},"","","",44,{"$f":"IFERROR(IF(AND(D46<>\"\",F46=\"\",D46<=MAX(F47:F$72)),IF(SMALL(F47:F$72,1)-D46>0,SMALL(F47:F$72,1),SMALL(F47:F$72,2)),\"\"),\"\")","v":""},{"$f":"IFERROR(IF(AND(H46<>\"\",J46=\"\",H46<=MAX(J47:J$72)),IF(SMALL(J47:J$72,1)-H46>0,SMALL(J47:J$72,1),SMALL(J47:J$72,2)),\"\"),\"\")","v":""}]
["1466D","19:17:00","19:44:00","20:19:00",null,"20:35:00","20:47:00","21:17:00",null,null,null,null,null,"宍道","普通",null,null,"宍道",{"$f":"_xlfn.IFNA(MATCH(N47,設定_主要駅!$B$2:$B$15,0),1)","v":10},46,"","00:19:00",45,{"$f":"IFERROR(IF(AND(D47<>\"\",F47=\"\",D47<=MAX(F48:F$72)),IF(SMALL(F48:F$72,1)-D47>0,SMALL(F48:F$72,1),SMALL(F48:F$72,2)),\"\"),\"\")","v":""},{"$f":"IFERROR(IF(AND(H47<>\"\",J47=\"\",H47<=MAX(J48:J$72)),IF(SMALL(J48:J$72,1)-H47>0,SMALL(J48:J$72,1),SMALL(J48:J$72,2)),\"\"),\"\")","v":"21:36:00"}]
[null,null,null,null,null,null,null,null,"154D","21:36:00","21:56:00","22:00:00","22:21:00","米子","普通",null,null,"",{"$f":"_xlfn.IFNA(MATCH(N48,設定_主要駅!$B$2:$B$15,0),1)","v":1},"",45,"",46,{"$f":"IFERROR(IF(AND(D48<>\"\",F48=\"\",D48<=MAX(F49:F$72)),IF(SMALL(F49:F$72,1)-D48>0,SMALL(F49:F$72,1),SMALL(F49:F$72,2)),\"\"),\"\")","v":""},{"$f":"IFERROR(IF(AND(H48<>\"\",J48=\"\",H48<=MAX(J49:J$72)),IF(SMALL(J49:J$72,1)-H48>0,SMALL(J49:J$72,1),SMALL(J49:J$72,2)),\"\"),\"\")","v":""}]
[null,null,null,null,null,null,null,null,"156D","22:50:00","23:10:00","23:11:00","23:33:00","米子","普通",null,null,"",{"$f":"_xlfn.IFNA(MATCH(N49,設定_主要駅!$B$2:$B$15,0),1)","v":1},"","","",47,{"$f":"IFERROR(IF(AND(D49<>\"\",F49=\"\",D49<=MAX(F50:F$72)),IF(SMALL(F50:F$72,1)-D49>0,SMALL(F50:F$72,1),SMALL(F50:F$72,2)),\"\"),\"\")","v":""},{"$f":"IFERROR(IF(AND(H49<>\"\",J49=\"\",H49<=MAX(J50:J$72)),IF(SMALL(J50:J$72,1)-H49>0,SMALL(J50:J$72,1),SMALL(J50:J$72,2)),\"\"),\"\")","v":""}]
["1468D","20:18:00","20:39:00","21:15:00",null,null,null,null,null,null,null,null,null,"木次","普通",null,null,"",{"$f":"_xlfn.IFNA(MATCH(N50,設定_主要駅!$B$2:$B$15,0),1)","v":12},"","","",48,{"$f":"IFERROR(IF(AND(D50<>\"\",F50=\"\",D50<=MAX(F51:F$72)),IF(SMALL(F51:F$72,1)-D50>0,SMALL(F51:F$72,1),SMALL(F51:F$72,2)),\"\"),\"\")","v":""},{"$f":"IFERROR(IF(AND(H50<>\"\",J50=\"\",H50<=MAX(J51:J$72)),IF(SMALL(J51:J$72,1)-H50>0,SMALL(J51:J$72,1),SMALL(J51:J$72,2)),\"\"),\"\")","v":""}]

{"sheet":"木次線_上り→出雲市・益田","index":10,"n_rows":73,"n_cols":43,"rows_kept":73,"cut":false,"hidden":true,"merged":[]}
[null,"奥出雲町",null,null,null,null,"雲南市",null,null,null,"出雲市",null,null,"大田市",null,"江津市",null,"浜田市",null,null,"益田市",null,null,"津和野町",null,null,null,null,null,null,null,"行きで参照","帰りで参照"]
["列車番号","出雲横田発","出雲三成発","木次着","列車番号","木次発","出雲大東発","宍道着","列車番号","宍道発","出雲市着","列車番号","出雲市発","大田市着","大田市発","江津着","江津発","浜田着","列車番号","浜田発","益田着","列車番号","益田発","日原着","津和野着","行先","種別","列車名","備考","接続","行先駅","接続行①","接続行②","接続時間","番号","木次","宍道","出雲市","浜田","益田",null,"接続時間","00:35:01"]
["5440D","05:23:00","05:44:00","06:19:00","1442D","06:21:00","06:32:00","06:55:00",null,null,null,null,null,null,null,null,null,null,null,null,null,null,null,null,null,"宍道","普通",null,null,{"$f":"IF(AH3<=$AQ$2,IF(AJ3<>\"\",AJ$2,IF(AK3<>\"\",AK$2,IF(AL3<>\"\",AL$2,IF(AM3<>\"\",AM$2,IF(AN3<>\"\",AN$2,\"\"))))),\"\")","v":"宍道"},{"$f":"_xlfn.IFNA(MATCH(Z3,設定_主要駅!$B$2:$B$15,0),9)","v":10},{"$f":"IF(AH3<=$AQ$2,IF(AJ3<>\"\",MATCH(AJ3,$F:$F,0)-2,IF(AK3<>\"\",MATCH(AK3,$J:$J,0)-2,IF(AL3<>\"\",MATCH(AL3,$M:$M,0)-2,IF(AM3<>\"\",MATCH(AM3,$T:$T,0)-2,IF(AN3<>\"\",MATCH(AN3,$W:$W,0)-2,\"\"))))),\"\")","v":2},{"$f":"_xlfn.IFNA(MATCH(ROW()-2,AF:AF,0)-2,\"\")","v":""},{"$f":"IF(AJ3<>\"\",AJ3-D3,IF(AK3<>\"\",AK3-H3,IF(AL3<>\"\",AL3-K3,IF(AM3<>\"\",AM3-R3,IF(AN3<>\"\",AN3-U3,\"\")))))","v":"00:06:00"},1,{"$f":"IFERROR(IF(AND(D3<>\"\",F3=\"\",D3<=MAX(F4:F$72)),IF(SMALL(F4:F$72,1)-D3>0,SMALL(F4:F$72,1),SMALL(F4:F$72,2)),\"\"),\"\")","v":""},{"$f":"IFERROR(IF(AND(H3<>\"\",J3=\"\",H3<=MAX(J4:J$72)),IF(SMALL(J4:J$72,1)-H3>0,SMALL(J4:J$72,1),SMALL(J4:J$72,2)),\"\"),\"\")","v":"07:01:00"},{"$f":"IFERROR(IF(AND(K3<>\"\",M3=\"\",K3<=MAX(M4:M$72)),IF(SMALL(M4:M$72,1)-K3>0,SMALL(M4:M$72,1),SMALL(M4:M$72,2)),\"\"),\"\")","v":""},{"$f":"IFERROR(IF(AND(R3<>\"\",T3=\"\",R3<=MAX(T4:T$72)),IF(SMALL(T4:T$72,1)-R3>0,SMALL(T4:T$72,1),SMALL(T4:T$72,2)),\"\"),\"\")","v":""},{"$f":"IFERROR(IF(AND(U3<>\"\",W3=\"\",U3<=MAX(W4:W$72)),IF(SMALL(W4:W$72,1)-U3>0,SMALL(W4:W$72,1),SMALL(W4:W$72,2)),\"\"),\"\")","v":""}]
[null,null,null,null,null,null,null,null,"125D","07:01:00","07:19:00",null,null,null,null,null,null,null,null,null,null,null,null,null,null,"出雲市","普通",null,null,{"$f":"IF(AH4<=$AQ$2,IF(AJ4<>\"\",AJ$2,IF(AK4<>\"\",AK$2,IF(AL4<>\"\",AL$2,IF(AM4<>\"\",AM$2,IF(AN4<>\"\",AN$2,\"\"))))),\"\")","v":""},{"$f":"_xlfn.IFNA(MATCH(Z4,設定_主要駅!$B$2:$B$15,0),9)","v":3},{"$f":"IF(AH4<=$AQ$2,IF(AJ4<>\"\",MATCH(AJ4,$F:$F,0)-2,IF(AK4<>\"\",MATCH(AK4,$J:$J,0)-2,IF(AL4<>\"\",MATCH(AL4,$M:$M,0)-2,IF(AM4<>\"\",MATCH(AM4,$T:$T,0)-2,IF(AN4<>\"\",MATCH(AN4,$W:$W,0)-2,\"\"))))),\"\")","v":""},{"$f":"_xlfn.IFNA(MATCH(ROW()-2,AF:AF,0)-2,\"\")","v":1},{"$f":"IF(AJ4<>\"\",AJ4-D4,IF(AK4<>\"\",AK4-H4,IF(AL4<>\"\",AL4-K4,IF(AM4<>\"\",AM4-R4,IF(AN4<>\"\",AN4-U4,\"\")))))","v":"00:45:00"},2,{"$f":"IFERROR(IF(AND(D4<>\"\",F4=\"\",D4<=MAX(F5:F$72)),IF(SMALL(F5:F$72,1)-D4>0,SMALL(F5:F$72,1),SMALL(F5:F$72,2)),\"\"),\"\")","v":""},{"$f":"IFERROR(IF(AND(H4<>\"\",J4=\"\",H4<=MAX(J5:J$72)),IF(SMALL(J5:J$72,1)-H4>0,SMALL(J5:J$72,1),SMALL(J5:J$72,2)),\"\"),\"\")","v":""},{"$f":"IFERROR(IF(AND(K4<>\"\",M4=\"\",K4<=MAX(M5:M$72)),IF(SMALL(M5:M$72,1)-K4>0,SMALL(M5:M$72,1),SMALL(M5:M$72,2)),\"\"),\"\")","v":"08:04:00"},{"$f":"IFERROR(IF(AND(R4<>\"\",T4=\"\",R4<=MAX(T5:T$72)),IF(SMALL(T5:T$72,1)-R4>0,SMALL(T5:T$72,1),SMALL(T5:T$72,2)),\"\"),\"\")","v":""},{"$f":"IFERROR(IF(AND(U4<>\"\",W4=\"\",U4<=MAX(W5:W$72)),IF(SMALL(W5:W$72,1)-U4>0,SMALL(W5:W$72,1),SMALL(W5:W$72,2)),\"\"),\"\")","v":""}]
[null,null,null,null,"1444D","06:41:00","06:53:00","07:17:00",null,null,null,null,null,null,null,null,null,null,null,null,null,null,null,null,null,"松江","普通",null,null,"宍道",{"$f":"_xlfn.IFNA(MATCH(Z5,設定_主要駅!$B$2:$B$15,0),9)","v":2},{"$f":"IF(AH5<=$AQ$2,IF(AJ5<>\"\",MATCH(AJ5,$F:$F,0)-2,IF(AK5<>\"\",MATCH(AK5,$J:$J,0)-2,IF(AL5<>\"\",MATCH(AL5,$M:$M,0)-2,IF(AM5<>\"\",MATCH(AM5,$T:$T,0)-2,IF(AN5<>\"\",MATCH(AN5,$W:$W,0)-2,\"\"))))),\"\")","v":4},{"$f":"_xlfn.IFNA(MATCH(ROW()-2,AF:AF,0)-2,\"\")","v":""},"00:25:00",3,{"$f":"IFERROR(IF(AND(D5<>\"\",F5=\"\",D5<=MAX(F6:F$72)),IF(SMALL(F6:F$72,1)-D5>0,SMALL(F6:F$72,1),SMALL(F6:F$72,2)),\"\"),\"\")","v":""},{"$f":"IFERROR(IF(AND(H5<>\"\",J5=\"\",H5<=MAX(J6:J$72)),IF(SMALL(J6:J$72,1)-H5>0,SMALL(J6:J$72,1),SMALL(J6:J$72,2)),\"\"),\"\")","v":"07:42:00"},{"$f":"IFERROR(IF(AND(K5<>\"\",M5=\"\",K5<=MAX(M6:M$72)),IF(SMALL(M6:M$72,1)-K5>0,SMALL(M6:M$72,1),SMALL(M6:M$72,2)),\"\"),\"\")","v":""},{"$f":"IFERROR(IF(AND(R5<>\"\",T5=\"\",R5<=MAX(T6:T$72)),IF(SMALL(T6:T$72,1)-R5>0,SMALL(T6:T$72,1),SMALL(T6:T$72,2)),\"\"),\"\")","v":""},{"$f":"IFERROR(IF(AND(U5<>\"\",W5=\"\",U5<=MAX(W6:W$72)),IF(SMALL(W6:W$72,1)-U5>0,SMALL(W6:W$72,1),SMALL(W6:W$72,2)),\"\"),\"\")","v":""}]
[null,null,null,null,null,null,null,null,"127D","07:42:00","08:02:00",null,null,null,null,null,null,null,null,null,null,null,null,null,null,"出雲市","普通",null,"◆日曜運休",{"$f":"IF(AH6<=$AQ$2,IF(AJ6<>\"\",AJ$2,IF(AK6<>\"\",AK$2,IF(AL6<>\"\",AL$2,IF(AM6<>\"\",AM$2,IF(AN6<>\"\",AN$2,\"\"))))),\"\")","v":"出雲市"},{"$f":"_xlfn.IFNA(MATCH(Z6,設定_主要駅!$B$2:$B$15,0),9)","v":3},{"$f":"IF(AH6<=$AQ$2,IF(AJ6<>\"\",MATCH(AJ6,$F:$F,0)-2,IF(AK6<>\"\",MATCH(AK6,$J:$J,0)-2,IF(AL6<>\"\",MATCH(AL6,$M:$M,0)-2,IF(AM6<>\"\",MATCH(AM6,$T:$T,0)-2,IF(AN6<>\"\",MATCH(AN6,$W:$W,0)-2,\"\"))))),\"\")","v":5},{"$f":"_xlfn.IFNA(MATCH(ROW()-2,AF:AF,0)-2,\"\")","v":3},{"$f":"IF(AJ6<>\"\",AJ6-D6,IF(AK6<>\"\",AK6-H6,IF(AL6<>\"\",AL6-K6,IF(AM6<>\"\",AM6-R6,IF(AN6<>\"\",AN6-U6,\"\")))))","v":"00:02:00"},4,{"$f":"IFERROR(IF(AND(D6<>\"\",F6=\"\",D6<=MAX(F7:F$72)),IF(SMALL(F7:F$72,1)-D6>0,SMALL(F7:F$72,1),SMALL(F7:F$72,2)),\"\"),\"\")","v":""},{"$f":"IFERROR(IF(AND(H6<>\"\",J6=\"\",H6<=MAX(J7:J$72)),IF(SMALL(J7:J$72,1)-H6>0,SMALL(J7:J$72,1),SMALL(J7:J$72,2)),\"\"),\"\")","v":""},{"$f":"IFERROR(IF(AND(K6<>\"\",M6=\"\",K6<=MAX(M7:M$72)),IF(SMALL(M7:M$72,1)-K6>0,SMALL(M7:M$72,1),SMALL(M7:M$72,2)),\"\"),\"\")","v":"08:04:00"},{"$f":"IFERROR(IF(AND(R6<>\"\",T6=\"\",R6<=MAX(T7:T$72)),IF(SMALL(T7:T$72,1)-R6>0,SMALL(T7:T$72,1),SMALL(T7:T$72,2)),\"\"),\"\")","v":""},{"$f":"IFERROR(IF(AND(U6<>\"\",W6=\"\",U6<=MAX(W7:W$72)),IF(SMALL(W7:W$72,1)-U6>0,SMALL(W7:W$72,1),SMALL(W7:W$72,2)),\"\"),\"\")","v":""}]
[null,null,null,null,null,null,null,null,null,null,null,"325D","08:04:00","08:43:00","08:44:00","09:33:00","09:34:00","10:01:00","429D","10:28:00","11:21:00",null,null,null,null,"益田","普通",null,null,{"$f":"IF(AH7<=$AQ$2,IF(AJ7<>\"\",AJ$2,IF(AK7<>\"\",AK$2,IF(AL7<>\"\",AL$2,IF(AM7<>\"\",AM$2,IF(AN7<>\"\",AN$2,\"\"))))),\"\")","v":""},{"$f":"_xlfn.IFNA(MATCH(Z7,設定_主要駅!$B$2:$B$15,0),9)","v":7},{"$f":"IF(AH7<=$AQ$2,IF(AJ7<>\"\",MATCH(AJ7,$F:$F,0)-2,IF(AK7<>\"\",MATCH(AK7,$J:$J,0)-2,IF(AL7<>\"\",MATCH(AL7,$M:$M,0)-2,IF(AM7<>\"\",MATCH(AM7,$T:$T,0)-2,IF(AN7<>\"\",MATCH(AN7,$W:$W,0)-2,\"\"))))),\"\")","v":""},{"$f":"_xlfn.IFNA(MATCH(ROW()-2,AF:AF,0)-2,\"\")","v":4},{"$f":"IF(AJ7<>\"\",AJ7-D7,IF(AK7<>\"\",AK7-H7,IF(AL7<>\"\",AL7-K7,IF(AM7<>\"\",AM7-R7,IF(AN7<>\"\",AN7-U7,\"\")))))","v":"02:06:00"},5,{"$f":"IFERROR(IF(AND(D7<>\"\",F7=\"\",D7<=MAX(F8:F$72)),IF(SMALL(F8:F$72,1)-D7>0,SMALL(F8:F$72,1),SMALL(F8:F$72,2)),\"\"),\"\")","v":""},{"$f":"IFERROR(IF(AND(H7<>\"\",J7=\"\",H7<=MAX(J8:J$72)),IF(SMALL(J8:J$72,1)-H7>0,SMALL(J8:J$72,1),SMALL(J8:J$72,2)),\"\"),\"\")","v":""},{"$f":"IFERROR(IF(AND(K7<>\"\",M7=\"\",K7<=MAX(M8:M$72)),IF(SMALL(M8:M$72,1)-K7>0,SMALL(M8:M$72,1),SMALL(M8:M$72,2)),\"\"),\"\")","v":""},{"$f":"IFERROR(IF(AND(R7<>\"\",T7=\"\",R7<=MAX(T8:T$72)),IF(SMALL(T8:T$72,1)-R7>0,SMALL(T8:T$72,1),SMALL(T8:T$72,2)),\"\"),\"\")","v":""},{"$f":"IFERROR(IF(AND(U7<>\"\",W7=\"\",U7<=MAX(W8:W$72)),IF(SMALL(W8:W$72,1)-U7>0,SMALL(W8:W$72,1),SMALL(W8:W$72,2)),\"\"),\"\")","v":"13:27:00"}]
[null,null,null,null,null,null,null,null,"129D","08:12:00","08:31:00",null,null,null,null,null,null,null,null,null,null,null,null,null,null,"西出雲","普通",null,null,"",{"$f":"_xlfn.IFNA(MATCH(Z8,設定_主要駅!$B$2:$B$15,0),9)","v":9},{"$f":"IF(AH8<=$AQ$2,IF(AJ8<>\"\",MATCH(AJ8,$F:$F,0)-2,IF(AK8<>\"\",MATCH(AK8,$J:$J,0)-2,IF(AL8<>\"\",MATCH(AL8,$M:$M,0)-2,IF(AM8<>\"\",MATCH(AM8,$T:$T,0)-2,IF(AN8<>\"\",MATCH(AN8,$W:$W,0)-2,\"\"))))),\"\")","v":""},{"$f":"_xlfn.IFNA(MATCH(ROW()-2,AF:AF,0)-2,\"\")","v":""},"00:36:00",6,{"$f":"IFERROR(IF(AND(D8<>\"\",F8=\"\",D8<=MAX(F9:F$72)),IF(SMALL(F9:F$72,1)-D8>0,SMALL(F9:F$72,1),SMALL(F9:F$72,2)),\"\"),\"\")","v":""},{"$f":"IFERROR(IF(AND(H8<>\"\",J8=\"\",H8<=MAX(J9:J$72)),IF(SMALL(J9:J$72,1)-H8>0,SMALL(J9:J$72,1),SMALL(J9:J$72,2)),\"\"),\"\")","v":""},{"$f":"IFERROR(IF(AND(K8<>\"\",M8=\"\",K8<=MAX(M9:M$72)),IF(SMALL(M9:M$72,1)-K8>0,SMALL(M9:M$72,1),SMALL(M9:M$72,2)),\"\"),\"\")","v":"09:07:00"},{"$f":"IFERROR(IF(AND(R8<>\"\",T8=\"\",R8<=MAX(T9:T$72)),IF(SMALL(T9:T$72,1)-R8>0,SMALL(T9:T$72,1),SMALL(T9:T$72,2)),\"\"),\"\")","v":""},{"$f":"IFERROR(IF(AND(U8<>\"\",W8=\"\",U8<=MAX(W9:W$72)),IF(SMALL(W9:W$72,1)-U8>0,SMALL(W9:W$72,1),SMALL(W9:W$72,2)),\"\"),\"\")","v":""}]
[null,null,null,null,null,null,null,null,"133D","08:28:00","08:51:00",null,null,null,null,null,null,null,null,null,null,null,null,null,null,"出雲市","普通",null,null,"出雲市",{"$f":"_xlfn.IFNA(MATCH(Z9,設定_主要駅!$B$2:$B$15,0),9)","v":3},{"$f":"IF(AH9<=$AQ$2,IF(AJ9<>\"\",MATCH(AJ9,$F:$F,0)-2,IF(AK9<>\"\",MATCH(AK9,$J:$J,0)-2,IF(AL9<>\"\",MATCH(AL9,$M:$M,0)-2,IF(AM9<>\"\",MATCH(AM9,$T:$T,0)-2,IF(AN9<>\"\",MATCH(AN9,$W:$W,0)-2,\"\"))))),\"\")","v":9},{"$f":"_xlfn.IFNA(MATCH(ROW()-2,AF:AF,0)-2,\"\")","v":""},"00:16:00",7,{"$f":"IFERROR(IF(AND(D9<>\"\",F9=\"\",D9<=MAX(F10:F$72)),IF(SMALL(F10:F$72,1)-D9>0,SMALL(F10:F$72,1),SMALL(F10:F$72,2)),\"\"),\"\")","v":""},{"$f":"IFERROR(IF(AND(H9<>\"\",J9=\"\",H9<=MAX(J10:J$72)),IF(SMALL(J10:J$72,1)-H9>0,SMALL(J10:J$72,1),SMALL(J10:J$72,2)),\"\"),\"\")","v":""},{"$f":"IFERROR(IF(AND(K9<>\"\",M9=\"\",K9<=MAX(M10:M$72)),IF(SMALL(M10:M$72,1)-K9>0,SMALL(M10:M$72,1),SMALL(M10:M$72,2)),\"\"),\"\")","v":"09:07:00"},{"$f":"IFERROR(IF(AND(R9<>\"\",T9=\"\",R9<=MAX(T10:T$72)),IF(SMALL(T10:T$72,1)-R9>0,SMALL(T10:T$72,1),SMALL(T10:T$72,2)),\"\"),\"\")","v":""},{"$f":"IFERROR(IF(AND(U9<>\"\",W9=\"\",U9<=MAX(W10:W$72)),IF(SMALL(W10:W$72,1)-U9>0,SMALL(W10:W$72,1),SMALL(W10:W$72,2)),\"\"),\"\")","v":""}]
["1446D","07:00:00","07:24:00","07:59:00",null,"08:05:00","08:17:00","08:40:00",null,null,null,null,null,null,null,null,null,null,null,null,null,null,null,null,null,"宍道","普通",null,null,"宍道",{"$f":"_xlfn.IFNA(MATCH(Z10,設定_主要駅!$B$2:$B$15,0),9)","v":10},{"$f":"IF(AH10<=$AQ$2,IF(AJ10<>\"\",MATCH(AJ10,$F:$F,0)-2,IF(AK10<>\"\",MATCH(AK10,$J:$J,0)-2,IF(AL10<>\"\",MATCH(AL10,$M:$M,0)-2,IF(AM10<>\"\",MATCH(AM10,$T:$T,0)-2,IF(AN10<>\"\",MATCH(AN10,$W:$W,0)-2,\"\"))))),\"\")","v":9},{"$f":"_xlfn.IFNA(MATCH(ROW()-2,AF:AF,0)-2,\"\")","v":""},"00:10:00",8,{"$f":"IFERROR(IF(AND(D10<>\"\",F10=\"\",D10<=MAX(F11:F$72)),IF(SMALL(F11:F$72,1)-D10>0,SMALL(F11:F$72,1),SMALL(F11:F$72,2)),\"\"),\"\")","v":""},{"$f":"IFERROR(IF(AND(H10<>\"\",J10=\"\",H10<=MAX(J11:J$72)),IF(SMALL(J11:J$72,1)-H10>0,SMALL(J11:J$72,1),SMALL(J11:J$72,2)),\"\"),\"\")","v":"08:50:00"},{"$f":"IFERROR(IF(AND(K10<>\"\",M10=\"\",K10<=MAX(M11:M$72)),IF(SMALL(M11:M$72,1)-K10>0,SMALL(M11:M$72,1),SMALL(M11:M$72,2)),\"\"),\"\")","v":""},{"$f":"IFERROR(IF(AND(R10<>\"\",T10=\"\",R10<=MAX(T11:T$72)),IF(SMALL(T11:T$72,1)-R10>0,SMALL(T11:T$72,1),SMALL(T11:T$72,2)),\"\"),\"\")","v":""},{"$f":"IFERROR(IF(AND(U10<>\"\",W10=\"\",U10<=MAX(W11:W$72)),IF(SMALL(W11:W$72,1)-U10>0,SMALL(W11:W$72,1),SMALL(W11:W$72,2)),\"\"),\"\")","v":""}]
[null,null,null,null,null,null,null,null,"2001D","08:50:00","09:05:00",null,"09:07:00","09:29:00","09:30:00","09:58:00","10:00:00","10:17:00",null,"10:20:00","11:02:00",null,null,null,null,"益田","特急","スーパーまつかぜ1号",null,"",{"$f":"_xlfn.IFNA(MATCH(Z11,設定_主要駅!$B$2:$B$15,0),9)","v":7},{"$f":"IF(AH11<=$AQ$2,IF(AJ11<>\"\",MATCH(AJ11,$F:$F,0)-2,IF(AK11<>\"\",MATCH(AK11,$J:$J,0)-2,IF(AL11<>\"\",MATCH(AL11,$M:$M,0)-2,IF(AM11<>\"\",MATCH(AM11,$T:$T,0)-2,IF(AN11<>\"\",MATCH(AN11,$W:$W,0)-2,\"\"))))),\"\")","v":""},{"$f":"_xlfn.IFNA(MATCH(ROW()-2,AF:AF,0)-2,\"\")","v":7},"02:25:00",9,{"$f":"IFERROR(IF(AND(D11<>\"\",F11=\"\",D11<=MAX(F12:F$72)),IF(SMALL(F12:F$72,1)-D11>0,SMALL(F12:F$72,1),SMALL(F12:F$72,2)),\"\"),\"\")","v":""},{"$f":"IFERROR(IF(AND(H11<>\"\",J11=\"\",H11<=MAX(J12:J$72)),IF(SMALL(J12:J$72,1)-H11>0,SMALL(J12:J$72,1),SMALL(J12:J$72,2)),\"\"),\"\")","v":""},{"$f":"IFERROR(IF(AND(K11<>\"\",M11=\"\",K11<=MAX(M12:M$72)),IF(SMALL(M12:M$72,1)-K11>0,SMALL(M12:M$72,1),SMALL(M12:M$72,2)),\"\"),\"\")","v":""},{"$f":"IFERROR(IF(AND(R11<>\"\",T11=\"\",R11<=MAX(T12:T$72)),IF(SMALL(T12:T$72,1)-R11>0,SMALL(T12:T$72,1),SMALL(T12:T$72,2)),\"\"),\"\")","v":""},{"$f":"IFERROR(IF(AND(U11<>\"\",W11=\"\",U11<=MAX(W12:W$72)),IF(SMALL(W12:W$72,1)-U11>0,SMALL(W12:W$72,1),SMALL(W12:W$72,2)),\"\"),\"\")","v":"13:27:00"}]
[null,null,null,null,null,null,null,null,"281M","09:30:00","09:50:00",null,null,null,null,null,null,null,null,null,null,null,null,null,null,"出雲市","普通",null,null,"出雲市",{"$f":"_xlfn.IFNA(MATCH(Z12,設定_主要駅!$B$2:$B$15,0),9)","v":3},{"$f":"IF(AH12<=$AQ$2,IF(AJ12<>\"\",MATCH(AJ12,$F:$F,0)-2,IF(AK12<>\"\",MATCH(AK12,$J:$J,0)-2,IF(AL12<>\"\",MATCH(AL12,$M:$M,0)-2,IF(AM12<>\"\",MATCH(AM12,$T:$T,0)-2,IF(AN12<>\"\",MATCH(AN12,$W:$W,0)-2,\"\"))))),\"\")","v":13},{"$f":"_xlfn.IFNA(MATCH(ROW()-2,AF:AF,0)-2,\"\")","v":""},"00:34:00",10,{"$f":"IFERROR(IF(AND(D12<>\"\",F12=\"\",D12<=MAX(F13:F$72)),IF(SMALL(F13:F$72,1)-D12>0,SMALL(F13:F$72,1),SMALL(F13:F$72,2)),\"\"),\"\")","v":""},{"$f":"IFERROR(IF(AND(H12<>\"\",J12=\"\",H12<=MAX(J13:J$72)),IF(SMALL(J13:J$72,1)-H12>0,SMALL(J13:J$72,1),SMALL(J13:J$72,2)),\"\"),\"\")","v":""},{"$f":"IFERROR(IF(AND(K12<>\"\",M12=\"\",K12<=MAX(M13:M$72)),IF(SMALL(M13:M$72,1)-K12>0,SMALL(M13:M$72,1),SMALL(M13:M$72,2)),\"\"),\"\")","v":"10:24:00"},{"$f":"IFERROR(IF(AND(R12<>\"\",T12=\"\",R12<=MAX(T13:T$72)),IF(SMALL(T13:T$72,1)-R12>0,SMALL(T13:T$72,1),SMALL(T13:T$72,2)),\"\"),\"\")","v":""},{"$f":"IFERROR(IF(AND(U12<>\"\",W12=\"\",U12<=MAX(W13:W$72)),IF(SMALL(W13:W$72,1)-U12>0,SMALL(W13:W$72,1),SMALL(W13:W$72,2)),\"\"),\"\")","v":""}]
[null,null,null,null,null,null,null,null,"4031M","09:48:00","10:00:00",null,null,null,null,null,null,null,null,null,null,null,null,null,null,"出雲市","特急","サンライズ出雲",null,"出雲市",{"$f":"_xlfn.IFNA(MATCH(Z13,設定_主要駅!$B$2:$B$15,0),9)","v":3},{"$f":"IF(AH13<=$AQ$2,IF(AJ13<>\"\",MATCH(AJ13,$F:$F,0)-2,IF(AK13<>\"\",MATCH(AK13,$J:$J,0)-2,IF(AL13<>\"\",MATCH(AL13,$M:$M,0)-2,IF(AM13<>\"\",MATCH(AM13,$T:$T,0)-2,IF(AN13<>\"\",MATCH(AN13,$W:$W,0)-2,\"\"))))),\"\")","v":13},{"$f":"_xlfn.IFNA(MATCH(ROW()-2,AF:AF,0)-2,\"\")","v":""},"00:24:00",11,{"$f":"IFERROR(IF(AND(D13<>\"\",F13=\"\",D13<=MAX(F14:F$72)),IF(SMALL(F14:F$72,1)-D13>0,SMALL(F14:F$72,1),SMALL(F14:F$72,2)),\"\"),\"\")","v":""},{"$f":"IFERROR(IF(AND(H13<>\"\",J13=\"\",H13<=MAX(J14:J$72)),IF(SMALL(J14:J$72,1)-H13>0,SMALL(J14:J$72,1),SMALL(J14:J$72,2)),\"\"),\"\")","v":""},{"$f":"IFERROR(IF(AND(K13<>\"\",M13=\"\",K13<=MAX(M14:M$72)),IF(SMALL(M14:M$72,1)-K13>0,SMALL(M14:M$72,1),SMALL(M14:M$72,2)),\"\"),\"\")","v":"10:24:00"},{"$f":"IFERROR(IF(AND(R13<>\"\",T13=\"\",R13<=MAX(T14:T$72)),IF(SMALL(T14:T$72,1)-R13>0,SMALL(T14:T$72,1),SMALL(T14:T$72,2)),\"\"),\"\")","v":""},{"$f":"IFERROR(IF(AND(U13<>\"\",W13=\"\",U13<=MAX(W14:W$72)),IF(SMALL(W14:W$72,1)-U13>0,SMALL(W14:W$72,1),SMALL(W14:W$72,2)),\"\"),\"\")","v":""}]
[null,null,null,null,null,null,null,null,"1001M","10:07:00","10:18:00",null,null,null,null,null,null,null,null,null,null,null,null,null,null,"出雲市","特急","やくも1号",null,"出雲市",{"$f":"_xlfn.IFNA(MATCH(Z14,設定_主要駅!$B$2:$B$15,0),9)","v":3},{"$f":"IF(AH14<=$AQ$2,IF(AJ14<>\"\",MATCH(AJ14,$F:$F,0)-2,IF(AK14<>\"\",MATCH(AK14,$J:$J,0)-2,IF(AL14<>\"\",MATCH(AL14,$M:$M,0)-2,IF(AM14<>\"\",MATCH(AM14,$T:$T,0)-2,IF(AN14<>\"\",MATCH(AN14,$W:$W,0)-2,\"\"))))),\"\")","v":13},{"$f":"_xlfn.IFNA(MATCH(ROW()-2,AF:AF,0)-2,\"\")","v":""},"00:06:00",12,{"$f":"IFERROR(IF(AND(D14<>\"\",F14=\"\",D14<=MAX(F15:F$72)),IF(SMALL(F15:F$72,1)-D14>0,SMALL(F15:F$72,1),SMALL(F15:F$72,2)),\"\"),\"\")","v":""},{"$f":"IFERROR(IF(AND(H14<>\"\",J14=\"\",H14<=MAX(J15:J$72)),IF(SMALL(J15:J$72,1)-H14>0,SMALL(J15:J$72,1),SMALL(J15:J$72,2)),\"\"),\"\")","v":""},{"$f":"IFERROR(IF(AND(K14<>\"\",M14=\"\",K14<=MAX(M15:M$72)),IF(SMALL(M15:M$72,1)-K14>0,SMALL(M15:M$72,1),SMALL(M15:M$72,2)),\"\"),\"\")","v":"10:24:00"},{"$f":"IFERROR(IF(AND(R14<>\"\",T14=\"\",R14<=MAX(T15:T$72)),IF(SMALL(T15:T$72,1)-R14>0,SMALL(T15:T$72,1),SMALL(T15:T$72,2)),\"\"),\"\")","v":""},{"$f":"IFERROR(IF(AND(U14<>\"\",W14=\"\",U14<=MAX(W15:W$72)),IF(SMALL(W15:W$72,1)-U14>0,SMALL(W15:W$72,1),SMALL(W15:W$72,2)),\"\"),\"\")","v":""}]
[null,null,null,null,null,null,null,null,null,null,null,"327D","10:24:00","11:05:00","11:09:00","12:00:00","12:01:00","12:28:00",null,null,null,null,null,null,null,"浜田","普通",null,null,"浜田",{"$f":"_xlfn.IFNA(MATCH(Z15,設定_主要駅!$B$2:$B$15,0),9)","v":6},{"$f":"IF(AH15<=$AQ$2,IF(AJ15<>\"\",MATCH(AJ15,$F:$F,0)-2,IF(AK15<>\"\",MATCH(AK15,$J:$J,0)-2,IF(AL15<>\"\",MATCH(AL15,$M:$M,0)-2,IF(AM15<>\"\",MATCH(AM15,$T:$T,0)-2,IF(AN15<>\"\",MATCH(AN15,$W:$W,0)-2,\"\"))))),\"\")","v":17},{"$f":"_xlfn.IFNA(MATCH(ROW()-2,AF:AF,0)-2,\"\")","v":10},"00:21:00",13,{"$f":"IFERROR(IF(AND(D15<>\"\",F15=\"\",D15<=MAX(F16:F$72)),IF(SMALL(F16:F$72,1)-D15>0,SMALL(F16:F$72,1),SMALL(F16:F$72,2)),\"\"),\"\")","v":""},{"$f":"IFERROR(IF(AND(H15<>\"\",J15=\"\",H15<=MAX(J16:J$72)),IF(SMALL(J16:J$72,1)-H15>0,SMALL(J16:J$72,1),SMALL(J16:J$72,2)),\"\"),\"\")","v":""},{"$f":"IFERROR(IF(AND(K15<>\"\",M15=\"\",K15<=MAX(M16:M$72)),IF(SMALL(M16:M$72,1)-K15>0,SMALL(M16:M$72,1),SMALL(M16:M$72,2)),\"\"),\"\")","v":""},{"$f":"IFERROR(IF(AND(R15<>\"\",T15=\"\",R15<=MAX(T16:T$72)),IF(SMALL(T16:T$72,1)-R15>0,SMALL(T16:T$72,1),SMALL(T16:T$72,2)),\"\"),\"\")","v":"12:49:00"},{"$f":"IFERROR(IF(AND(U15<>\"\",W15=\"\",U15<=MAX(W16:W$72)),IF(SMALL(W16:W$72,1)-U15>0,SMALL(W16:W$72,1),SMALL(W16:W$72,2)),\"\"),\"\")","v":""}]
["1448D","09:06:00","09:27:00","10:02:00",null,"10:13:00","10:25:00","10:47:00",null,null,null,null,null,null,null,null,null,null,null,null,null,null,null,null,null,"宍道","普通",null,null,"宍道",{"$f":"_xlfn.IFNA(MATCH(Z16,設定_主要駅!$B$2:$B$15,0),9)","v":10},{"$f":"IF(AH16<=$AQ$2,IF(AJ16<>\"\",MATCH(AJ16,$F:$F,0)-2,IF(AK16<>\"\",MATCH(AK16,$J:$J,0)-2,IF(AL16<>\"\",MATCH(AL16,$M:$M,0)-2,IF(AM16<>\"\",MATCH(AM16,$T:$T,0)-2,IF(AN16<>\"\",MATCH(AN16,$W:$W,0)-2,\"\"))))),\"\")","v":15},{"$f":"_xlfn.IFNA(MATCH(ROW()-2,AF:AF,0)-2,\"\")","v":""},"00:04:00",14,{"$f":"IFERROR(IF(AND(D16<>\"\",F16=\"\",D16<=MAX(F17:F$72)),IF(SMALL(F17:F$72,1)-D16>0,SMALL(F17:F$72,1),SMALL(F17:F$72,2)),\"\"),\"\")","v":""},{"$f":"IFERROR(IF(AND(H16<>\"\",J16=\"\",H16<=MAX(J17:J$72)),IF(SMALL(J17:J$72,1)-H16>0,SMALL(J17:J$72,1),SMALL(J17:J$72,2)),\"\"),\"\")","v":"10:51:00"},{"$f":"IFERROR(IF(AND(K16<>\"\",M16=\"\",K16<=MAX(M17:M$72)),IF(SMALL(M17:M$72,1)-K16>0,SMALL(M17:M$72,1),SMALL(M17:M$72,2)),\"\"),\"\")","v":""},{"$f":"IFERROR(IF(AND(R16<>\"\",T16=\"\",R16<=MAX(T17:T$72)),IF(SMALL(T17:T$72,1)-R16>0,SMALL(T17:T$72,1),SMALL(T17:T$72,2)),\"\"),\"\")","v":""},{"$f":"IFERROR(IF(AND(U16<>\"\",W16=\"\",U16<=MAX(W17:W$72)),IF(SMALL(W17:W$72,1)-U16>0,SMALL(W17:W$72,1),SMALL(W17:W$72,2)),\"\"),\"\")","v":""}]
[null,null,null,null,null,null,null,null,"137D","10:51:00","11:07:00",null,null,null,null,null,null,null,null,null,null,null,null,null,null,"出雲市","普通",null,null,"出雲市",{"$f":"_xlfn.IFNA(MATCH(Z17,設定_主要駅!$B$2:$B$15,0),9)","v":3},{"$f":"IF(AH17<=$AQ$2,IF(AJ17<>\"\",MATCH(AJ17,$F:$F,0)-2,IF(AK17<>\"\",MATCH(AK17,$J:$J,0)-2,IF(AL17<>\"\",MATCH(AL17,$M:$M,0)-2,IF(AM17<>\"\",MATCH(AM17,$T:$T,0)-2,IF(AN17<>\"\",MATCH(AN17,$W:$W,0)-2,\"\"))))),\"\")","v":17},{"$f":"_xlfn.IFNA(MATCH(ROW()-2,AF:AF,0)-2,\"\")","v":14},"00:34:00",15,{"$f":"IFERROR(IF(AND(D17<>\"\",F17=\"\",D17<=MAX(F18:F$72)),IF(SMALL(F18:F$72,1)-D17>0,SMALL(F18:F$72,1),SMALL(F18:F$72,2)),\"\"),\"\")","v":""},{"$f":"IFERROR(IF(AND(H17<>\"\",J17=\"\",H17<=MAX(J18:J$72)),IF(SMALL(J18:J$72,1)-H17>0,SMALL(J18:J$72,1),SMALL(J18:J$72,2)),\"\"),\"\")","v":""},{"$f":"IFERROR(IF(AND(K17<>\"\",M17=\"\",K17<=MAX(M18:M$72)),IF(SMALL(M18:M$72,1)-K17>0,SMALL(M18:M$72,1),SMALL(M18:M$72,2)),\"\"),\"\")","v":"11:41:00"},{"$f":"IFERROR(IF(AND(R17<>\"\",T17=\"\",R17<=MAX(T18:T$72)),IF(SMALL(T18:T$72,1)-R17>0,SMALL(T18:T$72,1),SMALL(T18:T$72,2)),\"\"),\"\")","v":""},{"$f":"IFERROR(IF(AND(U17<>\"\",W17=\"\",U17<=MAX(W18:W$72)),IF(SMALL(W18:W$72,1)-U17>0,SMALL(W18:W$72,1),SMALL(W18:W$72,2)),\"\"),\"\")","v":""}]
[null,null,null,null,null,null,null,null,"1003M","11:01:00","11:12:00",null,null,null,null,null,null,null,null,null,null,null,null,null,null,"出雲市","特急","やくも3号",null,"出雲市",{"$f":"_xlfn.IFNA(MATCH(Z18,設定_主要駅!$B$2:$B$15,0),9)","v":3},{"$f":"IF(AH18<=$AQ$2,IF(AJ18<>\"\",MATCH(AJ18,$F:$F,0)-2,IF(AK18<>\"\",MATCH(AK18,$J:$J,0)-2,IF(AL18<>\"\",MATCH(AL18,$M:$M,0)-2,IF(AM18<>\"\",MATCH(AM18,$T:$T,0)-2,IF(AN18<>\"\",MATCH(AN18,$W:$W,0)-2,\"\"))))),\"\")","v":17},{"$f":"_xlfn.IFNA(MATCH(ROW()-2,AF:AF,0)-2,\"\")","v":""},"00:29:00",16,{"$f":"IFERROR(IF(AND(D18<>\"\",F18=\"\",D18<=MAX(F19:F$72)),IF(SMALL(F19:F$72,1)-D18>0,SMALL(F19:F$72,1),SMALL(F19:F$72,2)),\"\"),\"\")","v":""},{"$f":"IFERROR(IF(AND(H18<>\"\",J18=\"\",H18<=MAX(J19:J$72)),IF(SMALL(J19:J$72,1)-H18>0,SMALL(J19:J$72,1),SMALL(J19:J$72,2)),\"\"),\"\")","v":""},{"$f":"IFERROR(IF(AND(K18<>\"\",M18=\"\",K18<=MAX(M19:M$72)),IF(SMALL(M19:M$72,1)-K18>0,SMALL(M19:M$72,1),SMALL(M19:M$72,2)),\"\"),\"\")","v":"11:41:00"},{"$f":"IFERROR(IF(AND(R18<>\"\",T18=\"\",R18<=MAX(T19:T$72)),IF(SMALL(T19:T$72,1)-R18>0,SMALL(T19:T$72,1),SMALL(T19:T$72,2)),\"\"),\"\")","v":""},{"$f":"IFERROR(IF(AND(U18<>\"\",W18=\"\",U18<=MAX(W19:W$72)),IF(SMALL(W19:W$72,1)-U18>0,SMALL(W19:W$72,1),SMALL(W19:W$72,2)),\"\"),\"\")","v":""}]
[null,null,null,null,null,null,null,null,null,null,null,"3003D","11:41:00","12:05:00","12:06:00","12:32:00","12:33:00","12:48:00",null,"12:49:00","13:24:00",null,"13:27:00","13:48:00","13:57:00","新山口","特急","スーパーおき3号",null,"",{"$f":"_xlfn.IFNA(MATCH(Z19,設定_主要駅!$B$2:$B$15,0),9)","v":9},{"$f":"IF(AH19<=$AQ$2,IF(AJ19<>\"\",MATCH(AJ19,$F:$F,0)-2,IF(AK19<>\"\",MATCH(AK19,$J:$J,0)-2,IF(AL19<>\"\",MATCH(AL19,$M:$M,0)-2,IF(AM19<>\"\",MATCH(AM19,$T:$T,0)-2,IF(AN19<>\"\",MATCH(AN19,$W:$W,0)-2,\"\"))))),\"\")","v":""},{"$f":"_xlfn.IFNA(MATCH(ROW()-2,AF:AF,0)-2,\"\")","v":13},"",17,{"$f":"IFERROR(IF(AND(D19<>\"\",F19=\"\",D19<=MAX(F20:F$72)),IF(SMALL(F20:F$72,1)-D19>0,SMALL(F20:F$72,1),SMALL(F20:F$72,2)),\"\"),\"\")","v":""},{"$f":"IFERROR(IF(AND(H19<>\"\",J19=\"\",H19<=MAX(J20:J$72)),IF(SMALL(J20:J$72,1)-H19>0,SMALL(J20:J$72,1),SMALL(J20:J$72,2)),\"\"),\"\")","v":""},{"$f":"IFERROR(IF(AND(K19<>\"\",M19=\"\",K19<=MAX(M20:M$72)),IF(SMALL(M20:M$72,1)-K19>0,SMALL(M20:M$72,1),SMALL(M20:M$72,2)),\"\"),\"\")","v":""},{"$f":"IFERROR(IF(AND(R19<>\"\",T19=\"\",R19<=MAX(T20:T$72)),IF(SMALL(T20:T$72,1)-R19>0,SMALL(T20:T$72,1),SMALL(T20:T$72,2)),\"\"),\"\")","v":""},{"$f":"IFERROR(IF(AND(U19<>\"\",W19=\"\",U19<=MAX(W20:W$72)),IF(SMALL(W20:W$72,1)-U19>0,SMALL(W20:W$72,1),SMALL(W20:W$72,2)),\"\"),\"\")","v":""}]
[null,null,null,null,null,null,null,null,null,null,null,null,null,null,null,null,null,null,"431D","13:16:00","14:18:00",null,null,null,null,"益田","普通",null,null,"",{"$f":"_xlfn.IFNA(MATCH(Z20,設定_主要駅!$B$2:$B$15,0),9)","v":7},{"$f":"IF(AH20<=$AQ$2,IF(AJ20<>\"\",MATCH(AJ20,$F:$F,0)-2,IF(AK20<>\"\",MATCH(AK20,$J:$J,0)-2,IF(AL20<>\"\",MATCH(AL20,$M:$M,0)-2,IF(AM20<>\"\",MATCH(AM20,$T:$T,0)-2,IF(AN20<>\"\",MATCH(AN20,$W:$W,0)-2,\"\"))))),\"\")","v":""},{"$f":"_xlfn.IFNA(MATCH(ROW()-2,AF:AF,0)-2,\"\")","v":""},"02:21:00",18,{"$f":"IFERROR(IF(AND(D20<>\"\",F20=\"\",D20<=MAX(F21:F$72)),IF(SMALL(F21:F$72,1)-D20>0,SMALL(F21:F$72,1),SMALL(F21:F$72,2)),\"\"),\"\")","v":""},{"$f":"IFERROR(IF(AND(H20<>\"\",J20=\"\",H20<=MAX(J21:J$72)),IF(SMALL(J21:J$72,1)-H20>0,SMALL(J21:J$72,1),SMALL(J21:J$72,2)),\"\"),\"\")","v":""},{"$f":"IFERROR(IF(AND(K20<>\"\",M20=\"\",K20<=MAX(M21:M$72)),IF(SMALL(M21:M$72,1)-K20>0,SMALL(M21:M$72,1),SMALL(M21:M$72,2)),\"\"),\"\")","v":""},{"$f":"IFERROR(IF(AND(R20<>\"\",T20=\"\",R20<=MAX(T21:T$72)),IF(SMALL(T21:T$72,1)-R20>0,SMALL(T21:T$72,1),SMALL(T21:T$72,2)),\"\"),\"\")","v":""},{"$f":"IFERROR(IF(AND(U20<>\"\",W20=\"\",U20<=MAX(W21:W$72)),IF(SMALL(W21:W$72,1)-U20>0,SMALL(W21:W$72,1),SMALL(W21:W$72,2)),\"\"),\"\")","v":"16:39:00"}]
[null,null,null,null,null,null,null,null,"1005M","12:06:00","12:17:00",null,null,null,null,null,null,null,null,null,null,null,null,null,null,"出雲市","特急","やくも5号",null,"出雲市",{"$f":"_xlfn.IFNA(MATCH(Z21,設定_主要駅!$B$2:$B$15,0),9)","v":3},{"$f":"IF(AH21<=$AQ$2,IF(AJ21<>\"\",MATCH(AJ21,$F:$F,0)-2,IF(AK21<>\"\",MATCH(AK21,$J:$J,0)-2,IF(AL21<>\"\",MATCH(AL21,$M:$M,0)-2,IF(AM21<>\"\",MATCH(AM21,$T:$T,0)-2,IF(AN21<>\"\",MATCH(AN21,$W:$W,0)-2,\"\"))))),\"\")","v":20},{"$f":"_xlfn.IFNA(MATCH(ROW()-2,AF:AF,0)-2,\"\")","v":""},"00:04:00",19,{"$f":"IFERROR(IF(AND(D21<>\"\",F21=\"\",D21<=MAX(F22:F$72)),IF(SMALL(F22:F$72,1)-D21>0,SMALL(F22:F$72,1),SMALL(F22:F$72,2)),\"\"),\"\")","v":""},{"$f":"IFERROR(IF(AND(H21<>\"\",J21=\"\",H21<=MAX(J22:J$72)),IF(SMALL(J22:J$72,1)-H21>0,SMALL(J22:J$72,1),SMALL(J22:J$72,2)),\"\"),\"\")","v":""},{"$f":"IFERROR(IF(AND(K21<>\"\",M21=\"\",K21<=MAX(M22:M$72)),IF(SMALL(M22:M$72,1)-K21>0,SMALL(M22:M$72,1),SMALL(M22:M$72,2)),\"\"),\"\")","v":"12:21:00"},{"$f":"IFERROR(IF(AND(R21<>\"\",T21=\"\",R21<=MAX(T22:T$72)),IF(SMALL(T22:T$72,1)-R21>0,SMALL(T22:T$72,1),SMALL(T22:T$72,2)),\"\"),\"\")","v":""},{"$f":"IFERROR(IF(AND(U21<>\"\",W21=\"\",U21<=MAX(W22:W$72)),IF(SMALL(W22:W$72,1)-U21>0,SMALL(W22:W$72,1),SMALL(W22:W$72,2)),\"\"),\"\")","v":""}]
[null,null,null,null,null,null,null,null,null,null,null,"329D","12:21:00","12:59:00","13:00:00","13:58:00","14:01:00","14:28:00",null,null,null,null,null,null,null,"浜田","普通",null,null,"浜田",{"$f":"_xlfn.IFNA(MATCH(Z22,設定_主要駅!$B$2:$B$15,0),9)","v":6},{"$f":"IF(AH22<=$AQ$2,IF(AJ22<>\"\",MATCH(AJ22,$F:$F,0)-2,IF(AK22<>\"\",MATCH(AK22,$J:$J,0)-2,IF(AL22<>\"\",MATCH(AL22,$M:$M,0)-2,IF(AM22<>\"\",MATCH(AM22,$T:$T,0)-2,IF(AN22<>\"\",MATCH(AN22,$W:$W,0)-2,\"\"))))),\"\")","v":25},{"$f":"_xlfn.IFNA(MATCH(ROW()-2,AF:AF,0)-2,\"\")","v":19},"00:15:00",20,{"$f":"IFERROR(IF(AND(D22<>\"\",F22=\"\",D22<=MAX(F23:F$72)),IF(SMALL(F23:F$72,1)-D22>0,SMALL(F23:F$72,1),SMALL(F23:F$72,2)),\"\"),\"\")","v":""},{"$f":"IFERROR(IF(AND(H22<>\"\",J22=\"\",H22<=MAX(J23:J$72)),IF(SMALL(J23:J$72,1)-H22>0,SMALL(J23:J$72,1),SMALL(J23:J$72,2)),\"\"),\"\")","v":""},{"$f":"IFERROR(IF(AND(K22<>\"\",M22=\"\",K22<=MAX(M23:M$72)),IF(SMALL(M23:M$72,1)-K22>0,SMALL(M23:M$72,1),SMALL(M23:M$72,2)),\"\"),\"\")","v":""},{"$f":"IFERROR(IF(AND(R22<>\"\",T22=\"\",R22<=MAX(T23:T$72)),IF(SMALL(T23:T$72,1)-R22>0,SMALL(T23:T$72,1),SMALL(T23:T$72,2)),\"\"),\"\")","v":"14:43:00"},{"$f":"IFERROR(IF(AND(U22<>\"\",W22=\"\",U22<=MAX(W23:W$72)),IF(SMALL(W23:W$72,1)-U22>0,SMALL(W23:W$72,1),SMALL(W23:W$72,2)),\"\"),\"\")","v":""}]
["1450D","10:33:00","10:58:00","11:34:00",null,null,null,null,null,null,null,null,null,null,null,null,null,null,null,null,null,null,null,null,null,"木次","普通",null,"◆第２木曜は運休、同区間代行輸送","木次",{"$f":"_xlfn.IFNA(MATCH(Z23,設定_主要駅!$B$2:$B$15,0),9)","v":12},{"$f":"IF(AH23<=$AQ$2,IF(AJ23<>\"\",MATCH(AJ23,$F:$F,0)-2,IF(AK23<>\"\",MATCH(AK23,$J:$J,0)-2,IF(AL23<>\"\",MATCH(AL23,$M:$M,0)-2,IF(AM23<>\"\",MATCH(AM23,$T:$T,0)-2,IF(AN23<>\"\",MATCH(AN23,$W:$W,0)-2,\"\"))))),\"\")","v":22},{"$f":"_xlfn.IFNA(MATCH(ROW()-2,AF:AF,0)-2,\"\")","v":""},"00:18:00",21,{"$f":"IFERROR(IF(AND(D23<>\"\",F23=\"\",D23<=MAX(F24:F$72)),IF(SMALL(F24:F$72,1)-D23>0,SMALL(F24:F$72,1),SMALL(F24:F$72,2)),\"\"),\"\")","v":"11:52:00"},{"$f":"IFERROR(IF(AND(H23<>\"\",J23=\"\",H23<=MAX(J24:J$72)),IF(SMALL(J24:J$72,1)-H23>0,SMALL(J24:J$72,1),SMALL(J24:J$72,2)),\"\"),\"\")","v":""},{"$f":"IFERROR(IF(AND(K23<>\"\",M23=\"\",K23<=MAX(M24:M$72)),IF(SMALL(M24:M$72,1)-K23>0,SMALL(M24:M$72,1),SMALL(M24:M$72,2)),\"\"),\"\")","v":""},{"$f":"IFERROR(IF(AND(R23<>\"\",T23=\"\",R23<=MAX(T24:T$72)),IF(SMALL(T24:T$72,1)-R23>0,SMALL(T24:T$72,1),SMALL(T24:T$72,2)),\"\"),\"\")","v":""},{"$f":"IFERROR(IF(AND(U23<>\"\",W23=\"\",U23<=MAX(W24:W$72)),IF(SMALL(W24:W$72,1)-U23>0,SMALL(W24:W$72,1),SMALL(W24:W$72,2)),\"\"),\"\")","v":""}]
[null,null,null,null,"1450D","11:52:00","12:04:00","12:26:00",null,null,null,null,null,null,null,null,null,null,null,null,null,null,null,null,null,"宍道","普通",null,"◆第３日曜は運休、代行輸送","宍道",{"$f":"_xlfn.IFNA(MATCH(Z24,設定_主要駅!$B$2:$B$15,0),9)","v":10},{"$f":"IF(AH24<=$AQ$2,IF(AJ24<>\"\",MATCH(AJ24,$F:$F,0)-2,IF(AK24<>\"\",MATCH(AK24,$J:$J,0)-2,IF(AL24<>\"\",MATCH(AL24,$M:$M,0)-2,IF(AM24<>\"\",MATCH(AM24,$T:$T,0)-2,IF(AN24<>\"\",MATCH(AN24,$W:$W,0)-2,\"\"))))),\"\")","v":23},{"$f":"_xlfn.IFNA(MATCH(ROW()-2,AF:AF,0)-2,\"\")","v":21},"00:23:00",22,{"$f":"IFERROR(IF(AND(D24<>\"\",F24=\"\",D24<=MAX(F25:F$72)),IF(SMALL(F25:F$72,1)-D24>0,SMALL(F25:F$72,1),SMALL(F25:F$72,2)),\"\"),\"\")","v":""},{"$f":"IFERROR(IF(AND(H24<>\"\",J24=\"\",H24<=MAX(J25:J$72)),IF(SMALL(J25:J$72,1)-H24>0,SMALL(J25:J$72,1),SMALL(J25:J$72,2)),\"\"),\"\")","v":"12:49:00"},{"$f":"IFERROR(IF(AND(K24<>\"\",M24=\"\",K24<=MAX(M25:M$72)),IF(SMALL(M25:M$72,1)-K24>0,SMALL(M25:M$72,1),SMALL(M25:M$72,2)),\"\"),\"\")","v":""},{"$f":"IFERROR(IF(AND(R24<>\"\",T24=\"\",R24<=MAX(T25:T$72)),IF(SMALL(T25:T$72,1)-R24>0,SMALL(T25:T$72,1),SMALL(T25:T$72,2)),\"\"),\"\")","v":""},{"$f":"IFERROR(IF(AND(U24<>\"\",W24=\"\",U24<=MAX(W25:W$72)),IF(SMALL(W25:W$72,1)-U24>0,SMALL(W25:W$72,1),SMALL(W25:W$72,2)),\"\"),\"\")","v":""}]
[null,null,null,null,null,null,null,null,"283M","12:49:00","13:05:00",null,null,null,null,null,null,null,null,null,null,null,null,null,null,"西出雲","普通",null,null,"出雲市",{"$f":"_xlfn.IFNA(MATCH(Z25,設定_主要駅!$B$2:$B$15,0),9)","v":9},{"$f":"IF(AH25<=$AQ$2,IF(AJ25<>\"\",MATCH(AJ25,$F:$F,0)-2,IF(AK25<>\"\",MATCH(AK25,$J:$J,0)-2,IF(AL25<>\"\",MATCH(AL25,$M:$M,0)-2,IF(AM25<>\"\",MATCH(AM25,$T:$T,0)-2,IF(AN25<>\"\",MATCH(AN25,$W:$W,0)-2,\"\"))))),\"\")","v":25},{"$f":"_xlfn.IFNA(MATCH(ROW()-2,AF:AF,0)-2,\"\")","v":22},"00:22:00",23,{"$f":"IFERROR(IF(AND(D25<>\"\",F25=\"\",D25<=MAX(F26:F$72)),IF(SMALL(F26:F$72,1)-D25>0,SMALL(F26:F$72,1),SMALL(F26:F$72,2)),\"\"),\"\")","v":""},{"$f":"IFERROR(IF(AND(H25<>\"\",J25=\"\",H25<=MAX(J26:J$72)),IF(SMALL(J26:J$72,1)-H25>0,SMALL(J26:J$72,1),SMALL(J26:J$72,2)),\"\"),\"\")","v":""},{"$f":"IFERROR(IF(AND(K25<>\"\",M25=\"\",K25<=MAX(M26:M$72)),IF(SMALL(M26:M$72,1)-K25>0,SMALL(M26:M$72,1),SMALL(M26:M$72,2)),\"\"),\"\")","v":"13:27:00"},{"$f":"IFERROR(IF(AND(R25<>\"\",T25=\"\",R25<=MAX(T26:T$72)),IF(SMALL(T26:T$72,1)-R25>0,SMALL(T26:T$72,1),SMALL(T26:T$72,2)),\"\"),\"\")","v":""},{"$f":"IFERROR(IF(AND(U25<>\"\",W25=\"\",U25<=MAX(W26:W$72)),IF(SMALL(W26:W$72,1)-U25>0,SMALL(W26:W$72,1),SMALL(W26:W$72,2)),\"\"),\"\")","v":""}]
[null,null,null,null,null,null,null,null,"1007M","13:04:00","13:15:00",null,null,null,null,null,null,null,null,null,null,null,null,null,null,"出雲市","特急","サンライズ出雲",null,{"$f":"IF(AH26<=$AQ$2,IF(AJ26<>\"\",AJ$2,IF(AK26<>\"\",AK$2,IF(AL26<>\"\",AL$2,IF(AM26<>\"\",AM$2,IF(AN26<>\"\",AN$2,\"\"))))),\"\")","v":"出雲市"},{"$f":"_xlfn.IFNA(MATCH(Z26,設定_主要駅!$B$2:$B$15,0),9)","v":3},{"$f":"IF(AH26<=$AQ$2,IF(AJ26<>\"\",MATCH(AJ26,$F:$F,0)-2,IF(AK26<>\"\",MATCH(AK26,$J:$J,0)-2,IF(AL26<>\"\",MATCH(AL26,$M:$M,0)-2,IF(AM26<>\"\",MATCH(AM26,$T:$T,0)-2,IF(AN26<>\"\",MATCH(AN26,$W:$W,0)-2,\"\"))))),\"\")","v":25},{"$f":"_xlfn.IFNA(MATCH(ROW()-2,AF:AF,0)-2,\"\")","v":""},{"$f":"IF(AJ26<>\"\",AJ26-D26,IF(AK26<>\"\",AK26-H26,IF(AL26<>\"\",AL26-K26,IF(AM26<>\"\",AM26-R26,IF(AN26<>\"\",AN26-U26,\"\")))))","v":"00:12:00"},24,{"$f":"IFERROR(IF(AND(D26<>\"\",F26=\"\",D26<=MAX(F27:F$72)),IF(SMALL(F27:F$72,1)-D26>0,SMALL(F27:F$72,1),SMALL(F27:F$72,2)),\"\"),\"\")","v":""},{"$f":"IFERROR(IF(AND(H26<>\"\",J26=\"\",H26<=MAX(J27:J$72)),IF(SMALL(J27:J$72,1)-H26>0,SMALL(J27:J$72,1),SMALL(J27:J$72,2)),\"\"),\"\")","v":""},{"$f":"IFERROR(IF(AND(K26<>\"\",M26=\"\",K26<=MAX(M27:M$72)),IF(SMALL(M27:M$72,1)-K26>0,SMALL(M27:M$72,1),SMALL(M27:M$72,2)),\"\"),\"\")","v":"13:27:00"},{"$f":"IFERROR(IF(AND(R26<>\"\",T26=\"\",R26<=MAX(T27:T$72)),IF(SMALL(T27:T$72,1)-R26>0,SMALL(T27:T$72,1),SMALL(T27:T$72,2)),\"\"),\"\")","v":""},{"$f":"IFERROR(IF(AND(U26<>\"\",W26=\"\",U26<=MAX(W27:W$72)),IF(SMALL(W27:W$72,1)-U26>0,SMALL(W27:W$72,1),SMALL(W27:W$72,2)),\"\"),\"\")","v":""}]
[null,null,null,null,null,null,null,null,null,null,null,"2005D","13:27:00","13:54:00","13:55:00","14:24:00","14:25:00","14:41:00",null,"14:43:00","15:20:00",null,null,null,null,"益田","特急","スーパーまつかぜ5号",null,"",{"$f":"_xlfn.IFNA(MATCH(Z27,設定_主要駅!$B$2:$B$15,0),9)","v":7},"",20,"01:19:00",25,{"$f":"IFERROR(IF(AND(D27<>\"\",F27=\"\",D27<=MAX(F28:F$72)),IF(SMALL(F28:F$72,1)-D27>0,SMALL(F28:F$72,1),SMALL(F28:F$72,2)),\"\"),\"\")","v":""},{"$f":"IFERROR(IF(AND(H27<>\"\",J27=\"\",H27<=MAX(J28:J$72)),IF(SMALL(J28:J$72,1)-H27>0,SMALL(J28:J$72,1),SMALL(J28:J$72,2)),\"\"),\"\")","v":""},{"$f":"IFERROR(IF(AND(K27<>\"\",M27=\"\",K27<=MAX(M28:M$72)),IF(SMALL(M28:M$72,1)-K27>0,SMALL(M28:M$72,1),SMALL(M28:M$72,2)),\"\"),\"\")","v":""},{"$f":"IFERROR(IF(AND(R27<>\"\",T27=\"\",R27<=MAX(T28:T$72)),IF(SMALL(T28:T$72,1)-R27>0,SMALL(T28:T$72,1),SMALL(T28:T$72,2)),\"\"),\"\")","v":""},{"$f":"IFERROR(IF(AND(U27<>\"\",W27=\"\",U27<=MAX(W28:W$72)),IF(SMALL(W28:W$72,1)-U27>0,SMALL(W28:W$72,1),SMALL(W28:W$72,2)),\"\"),\"\")","v":"16:39:00"}]
[null,null,null,null,null,null,null,null,null,null,null,null,null,null,null,null,null,null,null,null,null,"2550D","16:39:00","17:08:00","17:19:00","新山口","普通",null,null,"",{"$f":"_xlfn.IFNA(MATCH(Z28,設定_主要駅!$B$2:$B$15,0),9)","v":9},"","","",26,{"$f":"IFERROR(IF(AND(D28<>\"\",F28=\"\",D28<=MAX(F29:F$72)),IF(SMALL(F29:F$72,1)-D28>0,SMALL(F29:F$72,1),SMALL(F29:F$72,2)),\"\"),\"\")","v":""},{"$f":"IFERROR(IF(AND(H28<>\"\",J28=\"\",H28<=MAX(J29:J$72)),IF(SMALL(J29:J$72,1)-H28>0,SMALL(J29:J$72,1),SMALL(J29:J$72,2)),\"\"),\"\")","v":""},{"$f":"IFERROR(IF(AND(K28<>\"\",M28=\"\",K28<=MAX(M29:M$72)),IF(SMALL(M29:M$72,1)-K28>0,SMALL(M29:M$72,1),SMALL(M29:M$72,2)),\"\"),\"\")","v":""},{"$f":"IFERROR(IF(AND(R28<>\"\",T28=\"\",R28<=MAX(T29:T$72)),IF(SMALL(T29:T$72,1)-R28>0,SMALL(T29:T$72,1),SMALL(T29:T$72,2)),\"\"),\"\")","v":""},{"$f":"IFERROR(IF(AND(U28<>\"\",W28=\"\",U28<=MAX(W29:W$72)),IF(SMALL(W29:W$72,1)-U28>0,SMALL(W29:W$72,1),SMALL(W29:W$72,2)),\"\"),\"\")","v":""}]
[null,null,null,null,null,null,null,null,"139D","13:27:00","13:42:00",null,null,null,null,null,null,null,null,null,null,null,null,null,null,"出雲市","普通",null,null,"",{"$f":"_xlfn.IFNA(MATCH(Z29,設定_主要駅!$B$2:$B$15,0),9)","v":3},"","","00:42:00",27,{"$f":"IFERROR(IF(AND(D29<>\"\",F29=\"\",D29<=MAX(F30:F$72)),IF(SMALL(F30:F$72,1)-D29>0,SMALL(F30:F$72,1),SMALL(F30:F$72,2)),\"\"),\"\")","v":""},{"$f":"IFERROR(IF(AND(H29<>\"\",J29=\"\",H29<=MAX(J30:J$72)),IF(SMALL(J30:J$72,1)-H29>0,SMALL(J30:J$72,1),SMALL(J30:J$72,2)),\"\"),\"\")","v":""},{"$f":"IFERROR(IF(AND(K29<>\"\",M29=\"\",K29<=MAX(M30:M$72)),IF(SMALL(M30:M$72,1)-K29>0,SMALL(M30:M$72,1),SMALL(M30:M$72,2)),\"\"),\"\")","v":"14:24:00"},{"$f":"IFERROR(IF(AND(R29<>\"\",T29=\"\",R29<=MAX(T30:T$72)),IF(SMALL(T30:T$72,1)-R29>0,SMALL(T30:T$72,1),SMALL(T30:T$72,2)),\"\"),\"\")","v":""},{"$f":"IFERROR(IF(AND(U29<>\"\",W29=\"\",U29<=MAX(W30:W$72)),IF(SMALL(W30:W$72,1)-U29>0,SMALL(W30:W$72,1),SMALL(W30:W$72,2)),\"\"),\"\")","v":""}]
[null,null,null,null,null,null,null,null,"1009M","14:08:00","14:19:00",null,null,null,null,null,null,null,null,null,null,null,null,null,null,"出雲市","特急","やくも9号",null,"出雲市",{"$f":"_xlfn.IFNA(MATCH(Z30,設定_主要駅!$B$2:$B$15,0),9)","v":3},29,"","00:05:00",28,{"$f":"IFERROR(IF(AND(D30<>\"\",F30=\"\",D30<=MAX(F31:F$72)),IF(SMALL(F31:F$72,1)-D30>0,SMALL(F31:F$72,1),SMALL(F31:F$72,2)),\"\"),\"\")","v":""},{"$f":"IFERROR(IF(AND(H30<>\"\",J30=\"\",H30<=MAX(J31:J$72)),IF(SMALL(J31:J$72,1)-H30>0,SMALL(J31:J$72,1),SMALL(J31:J$72,2)),\"\"),\"\")","v":""},{"$f":"IFERROR(IF(AND(K30<>\"\",M30=\"\",K30<=MAX(M31:M$72)),IF(SMALL(M31:M$72,1)-K30>0,SMALL(M31:M$72,1),SMALL(M31:M$72,2)),\"\"),\"\")","v":"14:24:00"},{"$f":"IFERROR(IF(AND(R30<>\"\",T30=\"\",R30<=MAX(T31:T$72)),IF(SMALL(T31:T$72,1)-R30>0,SMALL(T31:T$72,1),SMALL(T31:T$72,2)),\"\"),\"\")","v":""},{"$f":"IFERROR(IF(AND(U30<>\"\",W30=\"\",U30<=MAX(W31:W$72)),IF(SMALL(W31:W$72,1)-U30>0,SMALL(W31:W$72,1),SMALL(W31:W$72,2)),\"\"),\"\")","v":""}]
[null,null,null,null,null,null,null,null,null,null,null,"331D","14:24:00","15:06:00","15:09:00","15:56:00","15:57:00","16:26:00",null,null,null,null,null,null,null,"浜田","普通",null,null,"浜田",{"$f":"_xlfn.IFNA(MATCH(Z31,設定_主要駅!$B$2:$B$15,0),9)","v":6},30,28,"00:11:00",29,{"$f":"IFERROR(IF(AND(D31<>\"\",F31=\"\",D31<=MAX(F32:F$72)),IF(SMALL(F32:F$72,1)-D31>0,SMALL(F32:F$72,1),SMALL(F32:F$72,2)),\"\"),\"\")","v":""},{"$f":"IFERROR(IF(AND(H31<>\"\",J31=\"\",H31<=MAX(J32:J$72)),IF(SMALL(J32:J$72,1)-H31>0,SMALL(J32:J$72,1),SMALL(J32:J$72,2)),\"\"),\"\")","v":""},{"$f":"IFERROR(IF(AND(K31<>\"\",M31=\"\",K31<=MAX(M32:M$72)),IF(SMALL(M32:M$72,1)-K31>0,SMALL(M32:M$72,1),SMALL(M32:M$72,2)),\"\"),\"\")","v":""},{"$f":"IFERROR(IF(AND(R31<>\"\",T31=\"\",R31<=MAX(T32:T$72)),IF(SMALL(T32:T$72,1)-R31>0,SMALL(T32:T$72,1),SMALL(T32:T$72,2)),\"\"),\"\")","v":"16:37:00"},{"$f":"IFERROR(IF(AND(U31<>\"\",W31=\"\",U31<=MAX(W32:W$72)),IF(SMALL(W32:W$72,1)-U31>0,SMALL(W32:W$72,1),SMALL(W32:W$72,2)),\"\"),\"\")","v":""}]
[null,null,null,null,null,null,null,null,null,null,null,null,null,null,null,null,null,null,"433D","16:37:00","17:27:00",null,null,null,null,"益田","普通",null,null,"益田",{"$f":"_xlfn.IFNA(MATCH(Z32,設定_主要駅!$B$2:$B$15,0),9)","v":7},37,29,"00:11:00",30,{"$f":"IFERROR(IF(AND(D32<>\"\",F32=\"\",D32<=MAX(F33:F$72)),IF(SMALL(F33:F$72,1)-D32>0,SMALL(F33:F$72,1),SMALL(F33:F$72,2)),\"\"),\"\")","v":""},{"$f":"IFERROR(IF(AND(H32<>\"\",J32=\"\",H32<=MAX(J33:J$72)),IF(SMALL(J33:J$72,1)-H32>0,SMALL(J33:J$72,1),SMALL(J33:J$72,2)),\"\"),\"\")","v":""},{"$f":"IFERROR(IF(AND(K32<>\"\",M32=\"\",K32<=MAX(M33:M$72)),IF(SMALL(M33:M$72,1)-K32>0,SMALL(M33:M$72,1),SMALL(M33:M$72,2)),\"\"),\"\")","v":""},{"$f":"IFERROR(IF(AND(R32<>\"\",T32=\"\",R32<=MAX(T33:T$72)),IF(SMALL(T33:T$72,1)-R32>0,SMALL(T33:T$72,1),SMALL(T33:T$72,2)),\"\"),\"\")","v":""},{"$f":"IFERROR(IF(AND(U32<>\"\",W32=\"\",U32<=MAX(W33:W$72)),IF(SMALL(W33:W$72,1)-U32>0,SMALL(W33:W$72,1),SMALL(W33:W$72,2)),\"\"),\"\")","v":"17:38:00"}]
["9452D","12:00:00","12:33:00","13:10:00",null,null,null,null,null,null,null,null,null,null,null,null,null,null,null,null,null,null,null,null,null,"木次","普通",null,"◆3月16日～6月30日の運行","木次",{"$f":"_xlfn.IFNA(MATCH(Z33,設定_主要駅!$B$2:$B$15,0),9)","v":12},32,"","00:22:00",31,{"$f":"IFERROR(IF(AND(D33<>\"\",F33=\"\",D33<=MAX(F34:F$72)),IF(SMALL(F34:F$72,1)-D33>0,SMALL(F34:F$72,1),SMALL(F34:F$72,2)),\"\"),\"\")","v":"13:32:00"},{"$f":"IFERROR(IF(AND(H33<>\"\",J33=\"\",H33<=MAX(J34:J$72)),IF(SMALL(J34:J$72,1)-H33>0,SMALL(J34:J$72,1),SMALL(J34:J$72,2)),\"\"),\"\")","v":""},{"$f":"IFERROR(IF(AND(K33<>\"\",M33=\"\",K33<=MAX(M34:M$72)),IF(SMALL(M34:M$72,1)-K33>0,SMALL(M34:M$72,1),SMALL(M34:M$72,2)),\"\"),\"\")","v":""},{"$f":"IFERROR(IF(AND(R33<>\"\",T33=\"\",R33<=MAX(T34:T$72)),IF(SMALL(T34:T$72,1)-R33>0,SMALL(T34:T$72,1),SMALL(T34:T$72,2)),\"\"),\"\")","v":""},{"$f":"IFERROR(IF(AND(U33<>\"\",W33=\"\",U33<=MAX(W34:W$72)),IF(SMALL(W34:W$72,1)-U33>0,SMALL(W34:W$72,1),SMALL(W34:W$72,2)),\"\"),\"\")","v":""}]
[null,null,null,null,"1454D","13:32:00","13:43:00","14:05:00",null,null,null,null,null,null,null,null,null,null,null,null,null,null,null,null,null,"宍道","普通",null,"◆第３日曜は運休、代行輸送","",{"$f":"_xlfn.IFNA(MATCH(Z34,設定_主要駅!$B$2:$B$15,0),9)","v":10},"",31,"00:43:00",32,{"$f":"IFERROR(IF(AND(D34<>\"\",F34=\"\",D34<=MAX(F35:F$72)),IF(SMALL(F35:F$72,1)-D34>0,SMALL(F35:F$72,1),SMALL(F35:F$72,2)),\"\"),\"\")","v":""},{"$f":"IFERROR(IF(AND(H34<>\"\",J34=\"\",H34<=MAX(J35:J$72)),IF(SMALL(J35:J$72,1)-H34>0,SMALL(J35:J$72,1),SMALL(J35:J$72,2)),\"\"),\"\")","v":"14:48:00"},{"$f":"IFERROR(IF(AND(K34<>\"\",M34=\"\",K34<=MAX(M35:M$72)),IF(SMALL(M35:M$72,1)-K34>0,SMALL(M35:M$72,1),SMALL(M35:M$72,2)),\"\"),\"\")","v":""},{"$f":"IFERROR(IF(AND(R34<>\"\",T34=\"\",R34<=MAX(T35:T$72)),IF(SMALL(T35:T$72,1)-R34>0,SMALL(T35:T$72,1),SMALL(T35:T$72,2)),\"\"),\"\")","v":""},{"$f":"IFERROR(IF(AND(U34<>\"\",W34=\"\",U34<=MAX(W35:W$72)),IF(SMALL(W35:W$72,1)-U34>0,SMALL(W35:W$72,1),SMALL(W35:W$72,2)),\"\"),\"\")","v":""}]
[null,null,null,null,null,null,null,null,"141D","14:48:00","15:11:00",null,null,null,null,null,null,null,null,null,null,null,null,null,null,"出雲市","普通",null,null,"出雲市",{"$f":"_xlfn.IFNA(MATCH(Z35,設定_主要駅!$B$2:$B$15,0),9)","v":3},35,"","00:13:00",33,{"$f":"IFERROR(IF(AND(D35<>\"\",F35=\"\",D35<=MAX(F36:F$72)),IF(SMALL(F36:F$72,1)-D35>0,SMALL(F36:F$72,1),SMALL(F36:F$72,2)),\"\"),\"\")","v":""},{"$f":"IFERROR(IF(AND(H35<>\"\",J35=\"\",H35<=MAX(J36:J$72)),IF(SMALL(J36:J$72,1)-H35>0,SMALL(J36:J$72,1),SMALL(J36:J$72,2)),\"\"),\"\")","v":""},{"$f":"IFERROR(IF(AND(K35<>\"\",M35=\"\",K35<=MAX(M36:M$72)),IF(SMALL(M36:M$72,1)-K35>0,SMALL(M36:M$72,1),SMALL(M36:M$72,2)),\"\"),\"\")","v":"15:24:00"},{"$f":"IFERROR(IF(AND(R35<>\"\",T35=\"\",R35<=MAX(T36:T$72)),IF(SMALL(T36:T$72,1)-R35>0,SMALL(T36:T$72,1),SMALL(T36:T$72,2)),\"\"),\"\")","v":""},{"$f":"IFERROR(IF(AND(U35<>\"\",W35=\"\",U35<=MAX(W36:W$72)),IF(SMALL(W36:W$72,1)-U35>0,SMALL(W36:W$72,1),SMALL(W36:W$72,2)),\"\"),\"\")","v":""}]
[null,null,null,null,null,null,null,null,"1011M","15:09:00","15:20:00",null,null,null,null,null,null,null,null,null,null,null,null,null,null,"出雲市","特急","やくも11号",null,"出雲市",{"$f":"_xlfn.IFNA(MATCH(Z36,設定_主要駅!$B$2:$B$15,0),9)","v":3},35,"","00:04:00",34,{"$f":"IFERROR(IF(AND(D36<>\"\",F36=\"\",D36<=MAX(F37:F$72)),IF(SMALL(F37:F$72,1)-D36>0,SMALL(F37:F$72,1),SMALL(F37:F$72,2)),\"\"),\"\")","v":""},{"$f":"IFERROR(IF(AND(H36<>\"\",J36=\"\",H36<=MAX(J37:J$72)),IF(SMALL(J37:J$72,1)-H36>0,SMALL(J37:J$72,1),SMALL(J37:J$72,2)),\"\"),\"\")","v":""},{"$f":"IFERROR(IF(AND(K36<>\"\",M36=\"\",K36<=MAX(M37:M$72)),IF(SMALL(M37:M$72,1)-K36>0,SMALL(M37:M$72,1),SMALL(M37:M$72,2)),\"\"),\"\")","v":"15:24:00"},{"$f":"IFERROR(IF(AND(R36<>\"\",T36=\"\",R36<=MAX(T37:T$72)),IF(SMALL(T37:T$72,1)-R36>0,SMALL(T37:T$72,1),SMALL(T37:T$72,2)),\"\"),\"\")","v":""},{"$f":"IFERROR(IF(AND(U36<>\"\",W36=\"\",U36<=MAX(W37:W$72)),IF(SMALL(W37:W$72,1)-U36>0,SMALL(W37:W$72,1),SMALL(W37:W$72,2)),\"\"),\"\")","v":""}]
[null,null,null,null,null,null,null,null,null,null,null,"333D","15:24:00","16:06:00","16:24:00","17:26:00","17:27:00","17:52:00",null,null,null,null,null,null,null,"浜田","普通",null,null,"浜田",{"$f":"_xlfn.IFNA(MATCH(Z37,設定_主要駅!$B$2:$B$15,0),9)","v":6},36,33,"00:02:00",35,{"$f":"IFERROR(IF(AND(D37<>\"\",F37=\"\",D37<=MAX(F38:F$72)),IF(SMALL(F38:F$72,1)-D37>0,SMALL(F38:F$72,1),SMALL(F38:F$72,2)),\"\"),\"\")","v":""},{"$f":"IFERROR(IF(AND(H37<>\"\",J37=\"\",H37<=MAX(J38:J$72)),IF(SMALL(J38:J$72,1)-H37>0,SMALL(J38:J$72,1),SMALL(J38:J$72,2)),\"\"),\"\")","v":""},{"$f":"IFERROR(IF(AND(K37<>\"\",M37=\"\",K37<=MAX(M38:M$72)),IF(SMALL(M38:M$72,1)-K37>0,SMALL(M38:M$72,1),SMALL(M38:M$72,2)),\"\"),\"\")","v":""},{"$f":"IFERROR(IF(AND(R37<>\"\",T37=\"\",R37<=MAX(T38:T$72)),IF(SMALL(T38:T$72,1)-R37>0,SMALL(T38:T$72,1),SMALL(T38:T$72,2)),\"\"),\"\")","v":"17:54:00"},{"$f":"IFERROR(IF(AND(U37<>\"\",W37=\"\",U37<=MAX(W38:W$72)),IF(SMALL(W38:W$72,1)-U37>0,SMALL(W38:W$72,1),SMALL(W38:W$72,2)),\"\"),\"\")","v":""}]
[null,null,null,null,null,null,null,null,null,null,null,null,null,null,null,null,null,null,"435D","17:54:00","18:46:00",null,null,null,null,"益田","普通",null,null,"益田",{"$f":"_xlfn.IFNA(MATCH(Z38,設定_主要駅!$B$2:$B$15,0),9)","v":7},45,35,"00:34:00",36,{"$f":"IFERROR(IF(AND(D38<>\"\",F38=\"\",D38<=MAX(F39:F$72)),IF(SMALL(F39:F$72,1)-D38>0,SMALL(F39:F$72,1),SMALL(F39:F$72,2)),\"\"),\"\")","v":""},{"$f":"IFERROR(IF(AND(H38<>\"\",J38=\"\",H38<=MAX(J39:J$72)),IF(SMALL(J39:J$72,1)-H38>0,SMALL(J39:J$72,1),SMALL(J39:J$72,2)),\"\"),\"\")","v":""},{"$f":"IFERROR(IF(AND(K38<>\"\",M38=\"\",K38<=MAX(M39:M$72)),IF(SMALL(M39:M$72,1)-K38>0,SMALL(M39:M$72,1),SMALL(M39:M$72,2)),\"\"),\"\")","v":""},{"$f":"IFERROR(IF(AND(R38<>\"\",T38=\"\",R38<=MAX(T39:T$72)),IF(SMALL(T39:T$72,1)-R38>0,SMALL(T39:T$72,1),SMALL(T39:T$72,2)),\"\"),\"\")","v":""},{"$f":"IFERROR(IF(AND(U38<>\"\",W38=\"\",U38<=MAX(W39:W$72)),IF(SMALL(W39:W$72,1)-U38>0,SMALL(W39:W$72,1),SMALL(W39:W$72,2)),\"\"),\"\")","v":"19:20:00"}]
[null,null,null,null,null,null,null,null,null,null,null,"3005D","15:48:00","16:13:00","16:14:00","16:42:00","16:43:00","17:00:00",null,"17:01:00","17:36:00",null,"17:38:00","18:01:00","18:10:00","新山口","特急","スーパーおき5号",null,"",{"$f":"_xlfn.IFNA(MATCH(Z39,設定_主要駅!$B$2:$B$15,0),9)","v":9},"",30,"",37,{"$f":"IFERROR(IF(AND(D39<>\"\",F39=\"\",D39<=MAX(F40:F$72)),IF(SMALL(F40:F$72,1)-D39>0,SMALL(F40:F$72,1),SMALL(F40:F$72,2)),\"\"),\"\")","v":""},{"$f":"IFERROR(IF(AND(H39<>\"\",J39=\"\",H39<=MAX(J40:J$72)),IF(SMALL(J40:J$72,1)-H39>0,SMALL(J40:J$72,1),SMALL(J40:J$72,2)),\"\"),\"\")","v":""},{"$f":"IFERROR(IF(AND(K39<>\"\",M39=\"\",K39<=MAX(M40:M$72)),IF(SMALL(M40:M$72,1)-K39>0,SMALL(M40:M$72,1),SMALL(M40:M$72,2)),\"\"),\"\")","v":""},{"$f":"IFERROR(IF(AND(R39<>\"\",T39=\"\",R39<=MAX(T40:T$72)),IF(SMALL(T40:T$72,1)-R39>0,SMALL(T40:T$72,1),SMALL(T40:T$72,2)),\"\"),\"\")","v":""},{"$f":"IFERROR(IF(AND(U39<>\"\",W39=\"\",U39<=MAX(W40:W$72)),IF(SMALL(W40:W$72,1)-U39>0,SMALL(W40:W$72,1),SMALL(W40:W$72,2)),\"\"),\"\")","v":""}]
["1456D","13:25:00","13:46:00","14:21:00",null,null,null,null,null,null,null,null,null,null,null,null,null,null,null,null,null,null,null,null,null,"木次","普通",null,"◆第２木曜＜除く、２月９日＞は運休、代行輸送","",{"$f":"_xlfn.IFNA(MATCH(Z40,設定_主要駅!$B$2:$B$15,0),9)","v":12},"","","00:51:00",38,{"$f":"IFERROR(IF(AND(D40<>\"\",F40=\"\",D40<=MAX(F41:F$72)),IF(SMALL(F41:F$72,1)-D40>0,SMALL(F41:F$72,1),SMALL(F41:F$72,2)),\"\"),\"\")","v":"15:12:00"},{"$f":"IFERROR(IF(AND(H40<>\"\",J40=\"\",H40<=MAX(J41:J$72)),IF(SMALL(J41:J$72,1)-H40>0,SMALL(J41:J$72,1),SMALL(J41:J$72,2)),\"\"),\"\")","v":""},{"$f":"IFERROR(IF(AND(K40<>\"\",M40=\"\",K40<=MAX(M41:M$72)),IF(SMALL(M41:M$72,1)-K40>0,SMALL(M41:M$72,1),SMALL(M41:M$72,2)),\"\"),\"\")","v":""},{"$f":"IFERROR(IF(AND(R40<>\"\",T40=\"\",R40<=MAX(T41:T$72)),IF(SMALL(T41:T$72,1)-R40>0,SMALL(T41:T$72,1),SMALL(T41:T$72,2)),\"\"),\"\")","v":""},{"$f":"IFERROR(IF(AND(U40<>\"\",W40=\"\",U40<=MAX(W41:W$72)),IF(SMALL(W41:W$72,1)-U40>0,SMALL(W41:W$72,1),SMALL(W41:W$72,2)),\"\"),\"\")","v":""}]
[null,null,null,null,"1458D","15:12:00","15:23:00","15:46:00",null,null,null,null,null,null,null,null,null,null,null,null,null,null,null,null,null,"宍道","普通",null,null,"宍道",{"$f":"_xlfn.IFNA(MATCH(Z41,設定_主要駅!$B$2:$B$15,0),9)","v":10},40,"","00:03:00",39,{"$f":"IFERROR(IF(AND(D41<>\"\",F41=\"\",D41<=MAX(F42:F$72)),IF(SMALL(F42:F$72,1)-D41>0,SMALL(F42:F$72,1),SMALL(F42:F$72,2)),\"\"),\"\")","v":""},{"$f":"IFERROR(IF(AND(H41<>\"\",J41=\"\",H41<=MAX(J42:J$72)),IF(SMALL(J42:J$72,1)-H41>0,SMALL(J42:J$72,1),SMALL(J42:J$72,2)),\"\"),\"\")","v":"15:49:00"},{"$f":"IFERROR(IF(AND(K41<>\"\",M41=\"\",K41<=MAX(M42:M$72)),IF(SMALL(M42:M$72,1)-K41>0,SMALL(M42:M$72,1),SMALL(M42:M$72,2)),\"\"),\"\")","v":""},{"$f":"IFERROR(IF(AND(R41<>\"\",T41=\"\",R41<=MAX(T42:T$72)),IF(SMALL(T42:T$72,1)-R41>0,SMALL(T42:T$72,1),SMALL(T42:T$72,2)),\"\"),\"\")","v":""},{"$f":"IFERROR(IF(AND(U41<>\"\",W41=\"\",U41<=MAX(W42:W$72)),IF(SMALL(W42:W$72,1)-U41>0,SMALL(W42:W$72,1),SMALL(W42:W$72,2)),\"\"),\"\")","v":""}]
[null,null,null,null,null,null,null,null,"143D","15:49:00","16:06:00","335D","16:23:00","17:05:00","17:19:00","18:10:00","18:25:00","19:01:00",null,null,null,null,null,null,null,"浜田","普通",null,null,"浜田",{"$f":"_xlfn.IFNA(MATCH(Z42,設定_主要駅!$B$2:$B$15,0),9)","v":6},41,39,"00:10:00",40,{"$f":"IFERROR(IF(AND(D42<>\"\",F42=\"\",D42<=MAX(F43:F$72)),IF(SMALL(F43:F$72,1)-D42>0,SMALL(F43:F$72,1),SMALL(F43:F$72,2)),\"\"),\"\")","v":""},{"$f":"IFERROR(IF(AND(H42<>\"\",J42=\"\",H42<=MAX(J43:J$72)),IF(SMALL(J43:J$72,1)-H42>0,SMALL(J43:J$72,1),SMALL(J43:J$72,2)),\"\"),\"\")","v":""},{"$f":"IFERROR(IF(AND(K42<>\"\",M42=\"\",K42<=MAX(M43:M$72)),IF(SMALL(M43:M$72,1)-K42>0,SMALL(M43:M$72,1),SMALL(M43:M$72,2)),\"\"),\"\")","v":""},{"$f":"IFERROR(IF(AND(R42<>\"\",T42=\"\",R42<=MAX(T43:T$72)),IF(SMALL(T43:T$72,1)-R42>0,SMALL(T43:T$72,1),SMALL(T43:T$72,2)),\"\"),\"\")","v":"19:11:00"},{"$f":"IFERROR(IF(AND(U42<>\"\",W42=\"\",U42<=MAX(W43:W$72)),IF(SMALL(W43:W$72,1)-U42>0,SMALL(W43:W$72,1),SMALL(W43:W$72,2)),\"\"),\"\")","v":""}]
[null,null,null,null,null,null,null,null,null,null,null,null,null,null,null,null,null,null,"437D","19:11:00","20:01:00",null,null,null,null,"益田","普通",null,null,"",{"$f":"_xlfn.IFNA(MATCH(Z43,設定_主要駅!$B$2:$B$15,0),9)","v":7},"",40,"",41,{"$f":"IFERROR(IF(AND(D43<>\"\",F43=\"\",D43<=MAX(F44:F$72)),IF(SMALL(F44:F$72,1)-D43>0,SMALL(F44:F$72,1),SMALL(F44:F$72,2)),\"\"),\"\")","v":""},{"$f":"IFERROR(IF(AND(H43<>\"\",J43=\"\",H43<=MAX(J44:J$72)),IF(SMALL(J44:J$72,1)-H43>0,SMALL(J44:J$72,1),SMALL(J44:J$72,2)),\"\"),\"\")","v":""},{"$f":"IFERROR(IF(AND(K43<>\"\",M43=\"\",K43<=MAX(M44:M$72)),IF(SMALL(M44:M$72,1)-K43>0,SMALL(M44:M$72,1),SMALL(M44:M$72,2)),\"\"),\"\")","v":""},{"$f":"IFERROR(IF(AND(R43<>\"\",T43=\"\",R43<=MAX(T44:T$72)),IF(SMALL(T44:T$72,1)-R43>0,SMALL(T44:T$72,1),SMALL(T44:T$72,2)),\"\"),\"\")","v":""},{"$f":"IFERROR(IF(AND(U43<>\"\",W43=\"\",U43<=MAX(W44:W$72)),IF(SMALL(W44:W$72,1)-U43>0,SMALL(W44:W$72,1),SMALL(W44:W$72,2)),\"\"),\"\")","v":""}]
[null,null,null,null,"1460D","16:00:00","16:12:00","16:34:00",null,null,null,null,null,null,null,null,null,null,null,null,null,null,null,null,null,"宍道","普通",null,null,"宍道",{"$f":"_xlfn.IFNA(MATCH(Z44,設定_主要駅!$B$2:$B$15,0),9)","v":10},43,"","00:06:00",42,{"$f":"IFERROR(IF(AND(D44<>\"\",F44=\"\",D44<=MAX(F45:F$72)),IF(SMALL(F45:F$72,1)-D44>0,SMALL(F45:F$72,1),SMALL(F45:F$72,2)),\"\"),\"\")","v":""},{"$f":"IFERROR(IF(AND(H44<>\"\",J44=\"\",H44<=MAX(J45:J$72)),IF(SMALL(J45:J$72,1)-H44>0,SMALL(J45:J$72,1),SMALL(J45:J$72,2)),\"\"),\"\")","v":"16:40:00"},{"$f":"IFERROR(IF(AND(K44<>\"\",M44=\"\",K44<=MAX(M45:M$72)),IF(SMALL(M45:M$72,1)-K44>0,SMALL(M45:M$72,1),SMALL(M45:M$72,2)),\"\"),\"\")","v":""},{"$f":"IFERROR(IF(AND(R44<>\"\",T44=\"\",R44<=MAX(T45:T$72)),IF(SMALL(T45:T$72,1)-R44>0,SMALL(T45:T$72,1),SMALL(T45:T$72,2)),\"\"),\"\")","v":""},{"$f":"IFERROR(IF(AND(U44<>\"\",W44=\"\",U44<=MAX(W45:W$72)),IF(SMALL(W45:W$72,1)-U44>0,SMALL(W45:W$72,1),SMALL(W45:W$72,2)),\"\"),\"\")","v":""}]
[null,null,null,null,null,null,null,null,"145D","16:40:00","17:02:00",null,null,null,null,null,null,null,null,null,null,null,null,null,null,"出雲市","普通",null,null,"出雲市",{"$f":"_xlfn.IFNA(MATCH(Z45,設定_主要駅!$B$2:$B$15,0),9)","v":3},44,42,"00:14:00",43,{"$f":"IFERROR(IF(AND(D45<>\"\",F45=\"\",D45<=MAX(F46:F$72)),IF(SMALL(F46:F$72,1)-D45>0,SMALL(F46:F$72,1),SMALL(F46:F$72,2)),\"\"),\"\")","v":""},{"$f":"IFERROR(IF(AND(H45<>\"\",J45=\"\",H45<=MAX(J46:J$72)),IF(SMALL(J46:J$72,1)-H45>0,SMALL(J46:J$72,1),SMALL(J46:J$72,2)),\"\"),\"\")","v":""},{"$f":"IFERROR(IF(AND(K45<>\"\",M45=\"\",K45<=MAX(M46:M$72)),IF(SMALL(M46:M$72,1)-K45>0,SMALL(M46:M$72,1),SMALL(M46:M$72,2)),\"\"),\"\")","v":"17:16:00"},{"$f":"IFERROR(IF(AND(R45<>\"\",T45=\"\",R45<=MAX(T46:T$72)),IF(SMALL(T46:T$72,1)-R45>0,SMALL(T46:T$72,1),SMALL(T46:T$72,2)),\"\"),\"\")","v":""},{"$f":"IFERROR(IF(AND(U45<>\"\",W45=\"\",U45<=MAX(W46:W$72)),IF(SMALL(W46:W$72,1)-U45>0,SMALL(W46:W$72,1),SMALL(W46:W$72,2)),\"\"),\"\")","v":""}]
[null,null,null,null,null,null,null,null,"2007D","17:01:00","17:12:00",null,"17:16:00","17:44:00","17:47:00","18:19:00","18:20:00","18:35:00",null,"18:37:00","19:11:00",null,null,null,null,"益田","特急","スーパーまつかぜ7号",null,"益田",{"$f":"_xlfn.IFNA(MATCH(Z46,設定_主要駅!$B$2:$B$15,0),9)","v":7},45,43,"00:09:00",44,{"$f":"IFERROR(IF(AND(D46<>\"\",F46=\"\",D46<=MAX(F47:F$72)),IF(SMALL(F47:F$72,1)-D46>0,SMALL(F47:F$72,1),SMALL(F47:F$72,2)),\"\"),\"\")","v":""},{"$f":"IFERROR(IF(AND(H46<>\"\",J46=\"\",H46<=MAX(J47:J$72)),IF(SMALL(J47:J$72,1)-H46>0,SMALL(J47:J$72,1),SMALL(J47:J$72,2)),\"\"),\"\")","v":""},{"$f":"IFERROR(IF(AND(K46<>\"\",M46=\"\",K46<=MAX(M47:M$72)),IF(SMALL(M47:M$72,1)-K46>0,SMALL(M47:M$72,1),SMALL(M47:M$72,2)),\"\"),\"\")","v":""},{"$f":"IFERROR(IF(AND(R46<>\"\",T46=\"\",R46<=MAX(T47:T$72)),IF(SMALL(T47:T$72,1)-R46>0,SMALL(T47:T$72,1),SMALL(T47:T$72,2)),\"\"),\"\")","v":""},{"$f":"IFERROR(IF(AND(U46<>\"\",W46=\"\",U46<=MAX(W47:W$72)),IF(SMALL(W47:W$72,1)-U46>0,SMALL(W47:W$72,1),SMALL(W47:W$72,2)),\"\"),\"\")","v":"19:20:00"}]
[null,null,null,null,null,null,null,null,null,null,null,null,null,null,null,null,null,null,null,null,null,"2552D","19:20:00","19:48:00","20:00:00","山口","普通",null,null,"",{"$f":"_xlfn.IFNA(MATCH(Z47,設定_主要駅!$B$2:$B$15,0),9)","v":9},"",36,"",45,{"$f":"IFERROR(IF(AND(D47<>\"\",F47=\"\",D47<=MAX(F48:F$72)),IF(SMALL(F48:F$72,1)-D47>0,SMALL(F48:F$72,1),SMALL(F48:F$72,2)),\"\"),\"\")","v":""},{"$f":"IFERROR(IF(AND(H47<>\"\",J47=\"\",H47<=MAX(J48:J$72)),IF(SMALL(J48:J$72,1)-H47>0,SMALL(J48:J$72,1),SMALL(J48:J$72,2)),\"\"),\"\")","v":""},{"$f":"IFERROR(IF(AND(K47<>\"\",M47=\"\",K47<=MAX(M48:M$72)),IF(SMALL(M48:M$72,1)-K47>0,SMALL(M48:M$72,1),SMALL(M48:M$72,2)),\"\"),\"\")","v":""},{"$f":"IFERROR(IF(AND(R47<>\"\",T47=\"\",R47<=MAX(T48:T$72)),IF(SMALL(T48:T$72,1)-R47>0,SMALL(T48:T$72,1),SMALL(T48:T$72,2)),\"\"),\"\")","v":""},{"$f":"IFERROR(IF(AND(U47<>\"\",W47=\"\",U47<=MAX(W48:W$72)),IF(SMALL(W48:W$72,1)-U47>0,SMALL(W48:W$72,1),SMALL(W48:W$72,2)),\"\"),\"\")","v":""}]
[null,null,null,null,null,null,null,null,"1015M","17:10:00","17:23:00",null,null,null,null,null,null,null,null,null,null,null,null,null,null,"出雲市","特急","やくも15号",null,"",{"$f":"_xlfn.IFNA(MATCH(Z48,設定_主要駅!$B$2:$B$15,0),9)","v":3},"","","00:44:00",46,{"$f":"IFERROR(IF(AND(D48<>\"\",F48=\"\",D48<=MAX(F49:F$72)),IF(SMALL(F49:F$72,1)-D48>0,SMALL(F49:F$72,1),SMALL(F49:F$72,2)),\"\"),\"\")","v":""},{"$f":"IFERROR(IF(AND(H48<>\"\",J48=\"\",H48<=MAX(J49:J$72)),IF(SMALL(J49:J$72,1)-H48>0,SMALL(J49:J$72,1),SMALL(J49:J$72,2)),\"\"),\"\")","v":""},{"$f":"IFERROR(IF(AND(K48<>\"\",M48=\"\",K48<=MAX(M49:M$72)),IF(SMALL(M49:M$72,1)-K48>0,SMALL(M49:M$72,1),SMALL(M49:M$72,2)),\"\"),\"\")","v":"18:07:00"},{"$f":"IFERROR(IF(AND(R48<>\"\",T48=\"\",R48<=MAX(T49:T$72)),IF(SMALL(T49:T$72,1)-R48>0,SMALL(T49:T$72,1),SMALL(T49:T$72,2)),\"\"),\"\")","v":""},{"$f":"IFERROR(IF(AND(U48<>\"\",W48=\"\",U48<=MAX(W49:W$72)),IF(SMALL(W49:W$72,1)-U48>0,SMALL(W49:W$72,1),SMALL(W49:W$72,2)),\"\"),\"\")","v":""}]
[null,null,null,null,null,null,null,null,"285M","17:30:00","17:54:00",null,null,null,null,null,null,null,null,null,null,null,null,null,null,"出雲市","普通",null,null,"出雲市",{"$f":"_xlfn.IFNA(MATCH(Z49,設定_主要駅!$B$2:$B$15,0),9)","v":3},48,"","00:13:00",47,{"$f":"IFERROR(IF(AND(D49<>\"\",F49=\"\",D49<=MAX(F50:F$72)),IF(SMALL(F50:F$72,1)-D49>0,SMALL(F50:F$72,1),SMALL(F50:F$72,2)),\"\"),\"\")","v":""},{"$f":"IFERROR(IF(AND(H49<>\"\",J49=\"\",H49<=MAX(J50:J$72)),IF(SMALL(J50:J$72,1)-H49>0,SMALL(J50:J$72,1),SMALL(J50:J$72,2)),\"\"),\"\")","v":""},{"$f":"IFERROR(IF(AND(K49<>\"\",M49=\"\",K49<=MAX(M50:M$72)),IF(SMALL(M50:M$72,1)-K49>0,SMALL(M50:M$72,1),SMALL(M50:M$72,2)),\"\"),\"\")","v":"18:07:00"},{"$f":"IFERROR(IF(AND(R49<>\"\",T49=\"\",R49<=MAX(T50:T$72)),IF(SMALL(T50:T$72,1)-R49>0,SMALL(T50:T$72,1),SMALL(T50:T$72,2)),\"\"),\"\")","v":""},{"$f":"IFERROR(IF(AND(U49<>\"\",W49=\"\",U49<=MAX(W50:W$72)),IF(SMALL(W50:W$72,1)-U49>0,SMALL(W50:W$72,1),SMALL(W50:W$72,2)),\"\"),\"\")","v":""}]
[null,null,null,null,null,null,null,null,null,null,null,"337D","18:07:00","18:48:00","18:49:00","19:40:00","19:41:00","20:07:00","439D","20:23:00","21:14:00",null,null,null,null,"益田","普通",null,null,"",{"$f":"_xlfn.IFNA(MATCH(Z50,設定_主要駅!$B$2:$B$15,0),9)","v":7},"",47,"",48,{"$f":"IFERROR(IF(AND(D50<>\"\",F50=\"\",D50<=MAX(F51:F$72)),IF(SMALL(F51:F$72,1)-D50>0,SMALL(F51:F$72,1),SMALL(F51:F$72,2)),\"\"),\"\")","v":""},{"$f":"IFERROR(IF(AND(H50<>\"\",J50=\"\",H50<=MAX(J51:J$72)),IF(SMALL(J51:J$72,1)-H50>0,SMALL(J51:J$72,1),SMALL(J51:J$72,2)),\"\"),\"\")","v":""},{"$f":"IFERROR(IF(AND(K50<>\"\",M50=\"\",K50<=MAX(M51:M$72)),IF(SMALL(M51:M$72,1)-K50>0,SMALL(M51:M$72,1),SMALL(M51:M$72,2)),\"\"),\"\")","v":""},{"$f":"IFERROR(IF(AND(R50<>\"\",T50=\"\",R50<=MAX(T51:T$72)),IF(SMALL(T51:T$72,1)-R50>0,SMALL(T51:T$72,1),SMALL(T51:T$72,2)),\"\"),\"\")","v":""},{"$f":"IFERROR(IF(AND(U50<>\"\",W50=\"\",U50<=MAX(W51:W$72)),IF(SMALL(W51:W$72,1)-U50>0,SMALL(W51:W$72,1),SMALL(W51:W$72,2)),\"\"),\"\")","v":""}]
["1462D","15:57:00","16:18:00","16:52:00",null,"17:05:00","17:16:00","17:43:00",null,null,null,null,null,null,null,null,null,null,null,null,null,null,null,null,null,"宍道","普通",null,"◆備後落合～出雲横田間、第２木曜は運休、同区間代行輸送","宍道",{"$f":"_xlfn.IFNA(MATCH(Z51,設定_主要駅!$B$2:$B$15,0),9)","v":10},50,"","00:27:00",49,{"$f":"IFERROR(IF(AND(D51<>\"\",F51=\"\",D51<=MAX(F52:F$72)),IF(SMALL(F52:F$72,1)-D51>0,SMALL(F52:F$72,1),SMALL(F52:F$72,2)),\"\"),\"\")","v":""},{"$f":"IFERROR(IF(AND(H51<>\"\",J51=\"\",H51<=MAX(J52:J$72)),IF(SMALL(J52:J$72,1)-H51>0,SMALL(J52:J$72,1),SMALL(J52:J$72,2)),\"\"),\"\")","v":"18:10:00"},{"$f":"IFERROR(IF(AND(K51<>\"\",M51=\"\",K51<=MAX(M52:M$72)),IF(SMALL(M52:M$72,1)-K51>0,SMALL(M52:M$72,1),SMALL(M52:M$72,2)),\"\"),\"\")","v":""},{"$f":"IFERROR(IF(AND(R51<>\"\",T51=\"\",R51<=MAX(T52:T$72)),IF(SMALL(T52:T$72,1)-R51>0,SMALL(T52:T$72,1),SMALL(T52:T$72,2)),\"\"),\"\")","v":""},{"$f":"IFERROR(IF(AND(U51<>\"\",W51=\"\",U51<=MAX(W52:W$72)),IF(SMALL(W52:W$72,1)-U51>0,SMALL(W52:W$72,1),SMALL(W52:W$72,2)),\"\"),\"\")","v":""}]
[null,null,null,null,null,null,null,null,"147D","18:10:00","18:27:00",null,null,null,null,null,null,null,null,null,null,null,null,null,null,"出雲市","普通",null,null,"",{"$f":"_xlfn.IFNA(MATCH(Z52,設定_主要駅!$B$2:$B$15,0),9)","v":3},"",49,"00:47:00",50,{"$f":"IFERROR(IF(AND(D52<>\"\",F52=\"\",D52<=MAX(F53:F$72)),IF(SMALL(F53:F$72,1)-D52>0,SMALL(F53:F$72,1),SMALL(F53:F$72,2)),\"\"),\"\")","v":""},{"$f":"IFERROR(IF(AND(H52<>\"\",J52=\"\",H52<=MAX(J53:J$72)),IF(SMALL(J53:J$72,1)-H52>0,SMALL(J53:J$72,1),SMALL(J53:J$72,2)),\"\"),\"\")","v":""},{"$f":"IFERROR(IF(AND(K52<>\"\",M52=\"\",K52<=MAX(M53:M$72)),IF(SMALL(M53:M$72,1)-K52>0,SMALL(M53:M$72,1),SMALL(M53:M$72,2)),\"\"),\"\")","v":"19:14:00"},{"$f":"IFERROR(IF(AND(R52<>\"\",T52=\"\",R52<=MAX(T53:T$72)),IF(SMALL(T53:T$72,1)-R52>0,SMALL(T53:T$72,1),SMALL(T53:T$72,2)),\"\"),\"\")","v":""},{"$f":"IFERROR(IF(AND(U52<>\"\",W52=\"\",U52<=MAX(W53:W$72)),IF(SMALL(W53:W$72,1)-U52>0,SMALL(W53:W$72,1),SMALL(W53:W$72,2)),\"\"),\"\")","v":""}]
[null,null,null,null,null,null,null,null,"1017M","18:20:00","18:31:00",null,null,null,null,null,null,null,null,null,null,null,null,null,null,"出雲市","特急","やくも17号","◆3月16日～9月30日運行","",{"$f":"_xlfn.IFNA(MATCH(Z53,設定_主要駅!$B$2:$B$15,0),9)","v":3},"","","00:43:00",51,{"$f":"IFERROR(IF(AND(D53<>\"\",F53=\"\",D53<=MAX(F54:F$72)),IF(SMALL(F54:F$72,1)-D53>0,SMALL(F54:F$72,1),SMALL(F54:F$72,2)),\"\"),\"\")","v":""},{"$f":"IFERROR(IF(AND(H53<>\"\",J53=\"\",H53<=MAX(J54:J$72)),IF(SMALL(J54:J$72,1)-H53>0,SMALL(J54:J$72,1),SMALL(J54:J$72,2)),\"\"),\"\")","v":""},{"$f":"IFERROR(IF(AND(K53<>\"\",M53=\"\",K53<=MAX(M54:M$72)),IF(SMALL(M54:M$72,1)-K53>0,SMALL(M54:M$72,1),SMALL(M54:M$72,2)),\"\"),\"\")","v":"19:14:00"},{"$f":"IFERROR(IF(AND(R53<>\"\",T53=\"\",R53<=MAX(T54:T$72)),IF(SMALL(T54:T$72,1)-R53>0,SMALL(T54:T$72,1),SMALL(T54:T$72,2)),\"\"),\"\")","v":""},{"$f":"IFERROR(IF(AND(U53<>\"\",W53=\"\",U53<=MAX(W54:W$72)),IF(SMALL(W54:W$72,1)-U53>0,SMALL(W54:W$72,1),SMALL(W54:W$72,2)),\"\"),\"\")","v":""}]
[null,null,null,null,null,null,null,null,"149D","18:46:00","19:12:00",null,null,null,null,null,null,null,null,null,null,null,null,null,null,"出雲市","普通",null,null,"出雲市",{"$f":"_xlfn.IFNA(MATCH(Z54,設定_主要駅!$B$2:$B$15,0),9)","v":3},53,"","00:02:00",52,{"$f":"IFERROR(IF(AND(D54<>\"\",F54=\"\",D54<=MAX(F55:F$72)),IF(SMALL(F55:F$72,1)-D54>0,SMALL(F55:F$72,1),SMALL(F55:F$72,2)),\"\"),\"\")","v":""},{"$f":"IFERROR(IF(AND(H54<>\"\",J54=\"\",H54<=MAX(J55:J$72)),IF(SMALL(J55:J$72,1)-H54>0,SMALL(J55:J$72,1),SMALL(J55:J$72,2)),\"\"),\"\")","v":""},{"$f":"IFERROR(IF(AND(K54<>\"\",M54=\"\",K54<=MAX(M55:M$72)),IF(SMALL(M55:M$72,1)-K54>0,SMALL(M55:M$72,1),SMALL(M55:M$72,2)),\"\"),\"\")","v":"19:14:00"},{"$f":"IFERROR(IF(AND(R54<>\"\",T54=\"\",R54<=MAX(T55:T$72)),IF(SMALL(T55:T$72,1)-R54>0,SMALL(T55:T$72,1),SMALL(T55:T$72,2)),\"\"),\"\")","v":""},{"$f":"IFERROR(IF(AND(U54<>\"\",W54=\"\",U54<=MAX(W55:W$72)),IF(SMALL(W55:W$72,1)-U54>0,SMALL(W55:W$72,1),SMALL(W55:W$72,2)),\"\"),\"\")","v":""}]
[null,null,null,null,null,null,null,null,null,null,null,"339D","19:14:00","20:02:00","20:03:00","21:10:00","21:11:00","21:37:00",null,null,null,null,null,null,null,"浜田","普通",null,null,"浜田",{"$f":"_xlfn.IFNA(MATCH(Z55,設定_主要駅!$B$2:$B$15,0),9)","v":6},54,52,"00:08:00",53,{"$f":"IFERROR(IF(AND(D55<>\"\",F55=\"\",D55<=MAX(F56:F$72)),IF(SMALL(F56:F$72,1)-D55>0,SMALL(F56:F$72,1),SMALL(F56:F$72,2)),\"\"),\"\")","v":""},{"$f":"IFERROR(IF(AND(H55<>\"\",J55=\"\",H55<=MAX(J56:J$72)),IF(SMALL(J56:J$72,1)-H55>0,SMALL(J56:J$72,1),SMALL(J56:J$72,2)),\"\"),\"\")","v":""},{"$f":"IFERROR(IF(AND(K55<>\"\",M55=\"\",K55<=MAX(M56:M$72)),IF(SMALL(M56:M$72,1)-K55>0,SMALL(M56:M$72,1),SMALL(M56:M$72,2)),\"\"),\"\")","v":""},{"$f":"IFERROR(IF(AND(R55<>\"\",T55=\"\",R55<=MAX(T56:T$72)),IF(SMALL(T56:T$72,1)-R55>0,SMALL(T56:T$72,1),SMALL(T56:T$72,2)),\"\"),\"\")","v":"21:45:00"},{"$f":"IFERROR(IF(AND(U55<>\"\",W55=\"\",U55<=MAX(W56:W$72)),IF(SMALL(W56:W$72,1)-U55>0,SMALL(W56:W$72,1),SMALL(W56:W$72,2)),\"\"),\"\")","v":""}]
[null,null,null,null,null,null,null,null,null,null,null,null,null,null,null,null,null,null,"441D","21:45:00","22:35:00",null,null,null,null,"益田","普通",null,null,"",{"$f":"_xlfn.IFNA(MATCH(Z56,設定_主要駅!$B$2:$B$15,0),9)","v":7},"",53,"",54,{"$f":"IFERROR(IF(AND(D56<>\"\",F56=\"\",D56<=MAX(F57:F$72)),IF(SMALL(F57:F$72,1)-D56>0,SMALL(F57:F$72,1),SMALL(F57:F$72,2)),\"\"),\"\")","v":""},{"$f":"IFERROR(IF(AND(H56<>\"\",J56=\"\",H56<=MAX(J57:J$72)),IF(SMALL(J57:J$72,1)-H56>0,SMALL(J57:J$72,1),SMALL(J57:J$72,2)),\"\"),\"\")","v":""},{"$f":"IFERROR(IF(AND(K56<>\"\",M56=\"\",K56<=MAX(M57:M$72)),IF(SMALL(M57:M$72,1)-K56>0,SMALL(M57:M$72,1),SMALL(M57:M$72,2)),\"\"),\"\")","v":""},{"$f":"IFERROR(IF(AND(R56<>\"\",T56=\"\",R56<=MAX(T57:T$72)),IF(SMALL(T57:T$72,1)-R56>0,SMALL(T57:T$72,1),SMALL(T57:T$72,2)),\"\"),\"\")","v":""},{"$f":"IFERROR(IF(AND(U56<>\"\",W56=\"\",U56<=MAX(W57:W$72)),IF(SMALL(W57:W$72,1)-U56>0,SMALL(W57:W$72,1),SMALL(W57:W$72,2)),\"\"),\"\")","v":""}]
[null,null,null,null,null,null,null,null,"1019M","19:20:00","19:31:00",null,null,null,null,null,null,null,null,null,null,null,null,null,null,"出雲市","特急","やくも19号",null,"出雲市",{"$f":"_xlfn.IFNA(MATCH(Z57,設定_主要駅!$B$2:$B$15,0),9)","v":3},57,"","00:24:00",55,{"$f":"IFERROR(IF(AND(D57<>\"\",F57=\"\",D57<=MAX(F58:F$72)),IF(SMALL(F58:F$72,1)-D57>0,SMALL(F58:F$72,1),SMALL(F58:F$72,2)),\"\"),\"\")","v":""},{"$f":"IFERROR(IF(AND(H57<>\"\",J57=\"\",H57<=MAX(J58:J$72)),IF(SMALL(J58:J$72,1)-H57>0,SMALL(J58:J$72,1),SMALL(J58:J$72,2)),\"\"),\"\")","v":""},{"$f":"IFERROR(IF(AND(K57<>\"\",M57=\"\",K57<=MAX(M58:M$72)),IF(SMALL(M58:M$72,1)-K57>0,SMALL(M58:M$72,1),SMALL(M58:M$72,2)),\"\"),\"\")","v":"19:55:00"},{"$f":"IFERROR(IF(AND(R57<>\"\",T57=\"\",R57<=MAX(T58:T$72)),IF(SMALL(T58:T$72,1)-R57>0,SMALL(T58:T$72,1),SMALL(T58:T$72,2)),\"\"),\"\")","v":""},{"$f":"IFERROR(IF(AND(U57<>\"\",W57=\"\",U57<=MAX(W58:W$72)),IF(SMALL(W58:W$72,1)-U57>0,SMALL(W58:W$72,1),SMALL(W58:W$72,2)),\"\"),\"\")","v":""}]
["1464D","18:06:00","18:27:00","19:02:00",null,"19:05:00","19:17:00","19:39:00",null,null,null,null,null,null,null,null,null,null,null,null,null,null,null,null,null,"宍道","普通",null,null,"宍道",{"$f":"_xlfn.IFNA(MATCH(Z58,設定_主要駅!$B$2:$B$15,0),9)","v":10},57,"","00:03:00",56,{"$f":"IFERROR(IF(AND(D58<>\"\",F58=\"\",D58<=MAX(F59:F$72)),IF(SMALL(F59:F$72,1)-D58>0,SMALL(F59:F$72,1),SMALL(F59:F$72,2)),\"\"),\"\")","v":""},{"$f":"IFERROR(IF(AND(H58<>\"\",J58=\"\",H58<=MAX(J59:J$72)),IF(SMALL(J59:J$72,1)-H58>0,SMALL(J59:J$72,1),SMALL(J59:J$72,2)),\"\"),\"\")","v":"19:42:00"},{"$f":"IFERROR(IF(AND(K58<>\"\",M58=\"\",K58<=MAX(M59:M$72)),IF(SMALL(M59:M$72,1)-K58>0,SMALL(M59:M$72,1),SMALL(M59:M$72,2)),\"\"),\"\")","v":""},{"$f":"IFERROR(IF(AND(R58<>\"\",T58=\"\",R58<=MAX(T59:T$72)),IF(SMALL(T59:T$72,1)-R58>0,SMALL(T59:T$72,1),SMALL(T59:T$72,2)),\"\"),\"\")","v":""},{"$f":"IFERROR(IF(AND(U58<>\"\",W58=\"\",U58<=MAX(W59:W$72)),IF(SMALL(W59:W$72,1)-U58>0,SMALL(W59:W$72,1),SMALL(W59:W$72,2)),\"\"),\"\")","v":""}]
[null,null,null,null,null,null,null,null,"2009D","19:42:00","19:53:00",null,"19:55:00","20:19:00","20:20:00","20:47:00","20:48:00","21:03:00",null,"21:05:00","21:38:00",null,null,null,null,"益田","特急","スーパーまつかぜ9号",null,"",{"$f":"_xlfn.IFNA(MATCH(Z59,設定_主要駅!$B$2:$B$15,0),9)","v":7},"",55,"",57,{"$f":"IFERROR(IF(AND(D59<>\"\",F59=\"\",D59<=MAX(F60:F$72)),IF(SMALL(F60:F$72,1)-D59>0,SMALL(F60:F$72,1),SMALL(F60:F$72,2)),\"\"),\"\")","v":""},{"$f":"IFERROR(IF(AND(H59<>\"\",J59=\"\",H59<=MAX(J60:J$72)),IF(SMALL(J60:J$72,1)-H59>0,SMALL(J60:J$72,1),SMALL(J60:J$72,2)),\"\"),\"\")","v":""},{"$f":"IFERROR(IF(AND(K59<>\"\",M59=\"\",K59<=MAX(M60:M$72)),IF(SMALL(M60:M$72,1)-K59>0,SMALL(M60:M$72,1),SMALL(M60:M$72,2)),\"\"),\"\")","v":""},{"$f":"IFERROR(IF(AND(R59<>\"\",T59=\"\",R59<=MAX(T60:T$72)),IF(SMALL(T60:T$72,1)-R59>0,SMALL(T60:T$72,1),SMALL(T60:T$72,2)),\"\"),\"\")","v":""},{"$f":"IFERROR(IF(AND(U59<>\"\",W59=\"\",U59<=MAX(W60:W$72)),IF(SMALL(W60:W$72,1)-U59>0,SMALL(W60:W$72,1),SMALL(W60:W$72,2)),\"\"),\"\")","v":""}]
[null,null,null,null,null,null,null,null,"151D","19:54:00","20:14:00",null,null,null,null,null,null,null,null,null,null,null,null,null,null,"出雲市","普通",null,null,"出雲市",{"$f":"_xlfn.IFNA(MATCH(Z60,設定_主要駅!$B$2:$B$15,0),9)","v":3},60,"","00:29:00",58,{"$f":"IFERROR(IF(AND(D60<>\"\",F60=\"\",D60<=MAX(F61:F$72)),IF(SMALL(F61:F$72,1)-D60>0,SMALL(F61:F$72,1),SMALL(F61:F$72,2)),\"\"),\"\")","v":""},{"$f":"IFERROR(IF(AND(H60<>\"\",J60=\"\",H60<=MAX(J61:J$72)),IF(SMALL(J61:J$72,1)-H60>0,SMALL(J61:J$72,1),SMALL(J61:J$72,2)),\"\"),\"\")","v":""},{"$f":"IFERROR(IF(AND(K60<>\"\",M60=\"\",K60<=MAX(M61:M$72)),IF(SMALL(M61:M$72,1)-K60>0,SMALL(M61:M$72,1),SMALL(M61:M$72,2)),\"\"),\"\")","v":"20:43:00"},{"$f":"IFERROR(IF(AND(R60<>\"\",T60=\"\",R60<=MAX(T61:T$72)),IF(SMALL(T61:T$72,1)-R60>0,SMALL(T61:T$72,1),SMALL(T61:T$72,2)),\"\"),\"\")","v":""},{"$f":"IFERROR(IF(AND(U60<>\"\",W60=\"\",U60<=MAX(W61:W$72)),IF(SMALL(W61:W$72,1)-U60>0,SMALL(W61:W$72,1),SMALL(W61:W$72,2)),\"\"),\"\")","v":""}]
[null,null,null,null,null,null,null,null,"1021M","20:15:00","20:26:00",null,null,null,null,null,null,null,null,null,null,null,null,null,null,"出雲市","特急","やくも21号",null,"出雲市",{"$f":"_xlfn.IFNA(MATCH(Z61,設定_主要駅!$B$2:$B$15,0),9)","v":3},60,"","00:17:00",59,{"$f":"IFERROR(IF(AND(D61<>\"\",F61=\"\",D61<=MAX(F62:F$72)),IF(SMALL(F62:F$72,1)-D61>0,SMALL(F62:F$72,1),SMALL(F62:F$72,2)),\"\"),\"\")","v":""},{"$f":"IFERROR(IF(AND(H61<>\"\",J61=\"\",H61<=MAX(J62:J$72)),IF(SMALL(J62:J$72,1)-H61>0,SMALL(J62:J$72,1),SMALL(J62:J$72,2)),\"\"),\"\")","v":""},{"$f":"IFERROR(IF(AND(K61<>\"\",M61=\"\",K61<=MAX(M62:M$72)),IF(SMALL(M62:M$72,1)-K61>0,SMALL(M62:M$72,1),SMALL(M62:M$72,2)),\"\"),\"\")","v":"20:43:00"},{"$f":"IFERROR(IF(AND(R61<>\"\",T61=\"\",R61<=MAX(T62:T$72)),IF(SMALL(T62:T$72,1)-R61>0,SMALL(T62:T$72,1),SMALL(T62:T$72,2)),\"\"),\"\")","v":""},{"$f":"IFERROR(IF(AND(U61<>\"\",W61=\"\",U61<=MAX(W62:W$72)),IF(SMALL(W62:W$72,1)-U61>0,SMALL(W62:W$72,1),SMALL(W62:W$72,2)),\"\"),\"\")","v":""}]
[null,null,null,null,null,null,null,null,null,null,null,"341D","20:43:00","21:21:00","21:22:00","22:09:00","22:10:00","22:36:00",null,null,null,null,null,null,null,"浜田","普通",null,null,"",{"$f":"_xlfn.IFNA(MATCH(Z62,設定_主要駅!$B$2:$B$15,0),9)","v":6},"",58,"",60,{"$f":"IFERROR(IF(AND(D62<>\"\",F62=\"\",D62<=MAX(F63:F$72)),IF(SMALL(F63:F$72,1)-D62>0,SMALL(F63:F$72,1),SMALL(F63:F$72,2)),\"\"),\"\")","v":""},{"$f":"IFERROR(IF(AND(H62<>\"\",J62=\"\",H62<=MAX(J63:J$72)),IF(SMALL(J63:J$72,1)-H62>0,SMALL(J63:J$72,1),SMALL(J63:J$72,2)),\"\"),\"\")","v":""},{"$f":"IFERROR(IF(AND(K62<>\"\",M62=\"\",K62<=MAX(M63:M$72)),IF(SMALL(M63:M$72,1)-K62>0,SMALL(M63:M$72,1),SMALL(M63:M$72,2)),\"\"),\"\")","v":""},{"$f":"IFERROR(IF(AND(R62<>\"\",T62=\"\",R62<=MAX(T63:T$72)),IF(SMALL(T63:T$72,1)-R62>0,SMALL(T63:T$72,1),SMALL(T63:T$72,2)),\"\"),\"\")","v":""},{"$f":"IFERROR(IF(AND(U62<>\"\",W62=\"\",U62<=MAX(W63:W$72)),IF(SMALL(W63:W$72,1)-U62>0,SMALL(W63:W$72,1),SMALL(W63:W$72,2)),\"\"),\"\")","v":""}]
[null,null,null,null,null,null,null,null,"153D","20:35:00","20:52:00",null,null,null,null,null,null,null,null,null,null,null,null,null,null,"出雲市","普通",null,null,"",{"$f":"_xlfn.IFNA(MATCH(Z63,設定_主要駅!$B$2:$B$15,0),9)","v":3},"","","00:53:00",61,{"$f":"IFERROR(IF(AND(D63<>\"\",F63=\"\",D63<=MAX(F64:F$72)),IF(SMALL(F64:F$72,1)-D63>0,SMALL(F64:F$72,1),SMALL(F64:F$72,2)),\"\"),\"\")","v":""},{"$f":"IFERROR(IF(AND(H63<>\"\",J63=\"\",H63<=MAX(J64:J$72)),IF(SMALL(J64:J$72,1)-H63>0,SMALL(J64:J$72,1),SMALL(J64:J$72,2)),\"\"),\"\")","v":""},{"$f":"IFERROR(IF(AND(K63<>\"\",M63=\"\",K63<=MAX(M64:M$72)),IF(SMALL(M64:M$72,1)-K63>0,SMALL(M64:M$72,1),SMALL(M64:M$72,2)),\"\"),\"\")","v":"21:45:00"},{"$f":"IFERROR(IF(AND(R63<>\"\",T63=\"\",R63<=MAX(T64:T$72)),IF(SMALL(T64:T$72,1)-R63>0,SMALL(T64:T$72,1),SMALL(T64:T$72,2)),\"\"),\"\")","v":""},{"$f":"IFERROR(IF(AND(U63<>\"\",W63=\"\",U63<=MAX(W64:W$72)),IF(SMALL(W64:W$72,1)-U63>0,SMALL(W64:W$72,1),SMALL(W64:W$72,2)),\"\"),\"\")","v":""}]
[null,null,null,null,null,null,null,null,"1023M","21:13:00","21:24:00",null,null,null,null,null,null,null,null,null,null,null,null,null,null,"出雲市","特急","やくも23号",null,"出雲市",{"$f":"_xlfn.IFNA(MATCH(Z64,設定_主要駅!$B$2:$B$15,0),9)","v":3},65,"","00:21:00",62,{"$f":"IFERROR(IF(AND(D64<>\"\",F64=\"\",D64<=MAX(F65:F$72)),IF(SMALL(F65:F$72,1)-D64>0,SMALL(F65:F$72,1),SMALL(F65:F$72,2)),\"\"),\"\")","v":""},{"$f":"IFERROR(IF(AND(H64<>\"\",J64=\"\",H64<=MAX(J65:J$72)),IF(SMALL(J65:J$72,1)-H64>0,SMALL(J65:J$72,1),SMALL(J65:J$72,2)),\"\"),\"\")","v":""},{"$f":"IFERROR(IF(AND(K64<>\"\",M64=\"\",K64<=MAX(M65:M$72)),IF(SMALL(M65:M$72,1)-K64>0,SMALL(M65:M$72,1),SMALL(M65:M$72,2)),\"\"),\"\")","v":"21:45:00"},{"$f":"IFERROR(IF(AND(R64<>\"\",T64=\"\",R64<=MAX(T65:T$72)),IF(SMALL(T65:T$72,1)-R64>0,SMALL(T65:T$72,1),SMALL(T65:T$72,2)),\"\"),\"\")","v":""},{"$f":"IFERROR(IF(AND(U64<>\"\",W64=\"\",U64<=MAX(W65:W$72)),IF(SMALL(W65:W$72,1)-U64>0,SMALL(W65:W$72,1),SMALL(W65:W$72,2)),\"\"),\"\")","v":""}]
["1466D","19:17:00","19:44:00","20:19:00",null,"20:35:00","20:47:00","21:17:00",null,null,null,null,null,null,null,null,null,null,null,null,null,null,null,null,null,"宍道","普通",null,null,"宍道",{"$f":"_xlfn.IFNA(MATCH(Z65,設定_主要駅!$B$2:$B$15,0),9)","v":10},64,"","00:09:00",63,{"$f":"IFERROR(IF(AND(D65<>\"\",F65=\"\",D65<=MAX(F66:F$72)),IF(SMALL(F66:F$72,1)-D65>0,SMALL(F66:F$72,1),SMALL(F66:F$72,2)),\"\"),\"\")","v":""},{"$f":"IFERROR(IF(AND(H65<>\"\",J65=\"\",H65<=MAX(J66:J$72)),IF(SMALL(J66:J$72,1)-H65>0,SMALL(J66:J$72,1),SMALL(J66:J$72,2)),\"\"),\"\")","v":"21:26:00"},{"$f":"IFERROR(IF(AND(K65<>\"\",M65=\"\",K65<=MAX(M66:M$72)),IF(SMALL(M66:M$72,1)-K65>0,SMALL(M66:M$72,1),SMALL(M66:M$72,2)),\"\"),\"\")","v":""},{"$f":"IFERROR(IF(AND(R65<>\"\",T65=\"\",R65<=MAX(T66:T$72)),IF(SMALL(T66:T$72,1)-R65>0,SMALL(T66:T$72,1),SMALL(T66:T$72,2)),\"\"),\"\")","v":""},{"$f":"IFERROR(IF(AND(U65<>\"\",W65=\"\",U65<=MAX(W66:W$72)),IF(SMALL(W66:W$72,1)-U65>0,SMALL(W66:W$72,1),SMALL(W66:W$72,2)),\"\"),\"\")","v":""}]
[null,null,null,null,null,null,null,null,"155D","21:26:00","21:43:00",null,null,null,null,null,null,null,null,null,null,null,null,null,null,"出雲市","普通",null,null,"出雲市",{"$f":"_xlfn.IFNA(MATCH(Z66,設定_主要駅!$B$2:$B$15,0),9)","v":3},65,63,"00:02:00",64,{"$f":"IFERROR(IF(AND(D66<>\"\",F66=\"\",D66<=MAX(F67:F$72)),IF(SMALL(F67:F$72,1)-D66>0,SMALL(F67:F$72,1),SMALL(F67:F$72,2)),\"\"),\"\")","v":""},{"$f":"IFERROR(IF(AND(H66<>\"\",J66=\"\",H66<=MAX(J67:J$72)),IF(SMALL(J67:J$72,1)-H66>0,SMALL(J67:J$72,1),SMALL(J67:J$72,2)),\"\"),\"\")","v":""},{"$f":"IFERROR(IF(AND(K66<>\"\",M66=\"\",K66<=MAX(M67:M$72)),IF(SMALL(M67:M$72,1)-K66>0,SMALL(M67:M$72,1),SMALL(M67:M$72,2)),\"\"),\"\")","v":"21:45:00"},{"$f":"IFERROR(IF(AND(R66<>\"\",T66=\"\",R66<=MAX(T67:T$72)),IF(SMALL(T67:T$72,1)-R66>0,SMALL(T67:T$72,1),SMALL(T67:T$72,2)),\"\"),\"\")","v":""},{"$f":"IFERROR(IF(AND(U66<>\"\",W66=\"\",U66<=MAX(W67:W$72)),IF(SMALL(W67:W$72,1)-U66>0,SMALL(W67:W$72,1),SMALL(W67:W$72,2)),\"\"),\"\")","v":""}]
[null,null,null,null,null,null,null,null,null,null,null,"363D","21:45:00","22:25:00",null,null,null,null,null,null,null,null,null,null,null,"大田市","普通",null,null,"",{"$f":"_xlfn.IFNA(MATCH(Z67,設定_主要駅!$B$2:$B$15,0),9)","v":4},"",62,"",65,{"$f":"IFERROR(IF(AND(D67<>\"\",F67=\"\",D67<=MAX(F68:F$72)),IF(SMALL(F68:F$72,1)-D67>0,SMALL(F68:F$72,1),SMALL(F68:F$72,2)),\"\"),\"\")","v":""},{"$f":"IFERROR(IF(AND(H67<>\"\",J67=\"\",H67<=MAX(J68:J$72)),IF(SMALL(J68:J$72,1)-H67>0,SMALL(J68:J$72,1),SMALL(J68:J$72,2)),\"\"),\"\")","v":""},{"$f":"IFERROR(IF(AND(K67<>\"\",M67=\"\",K67<=MAX(M68:M$72)),IF(SMALL(M68:M$72,1)-K67>0,SMALL(M68:M$72,1),SMALL(M68:M$72,2)),\"\"),\"\")","v":""},{"$f":"IFERROR(IF(AND(R67<>\"\",T67=\"\",R67<=MAX(T68:T$72)),IF(SMALL(T68:T$72,1)-R67>0,SMALL(T68:T$72,1),SMALL(T68:T$72,2)),\"\"),\"\")","v":""},{"$f":"IFERROR(IF(AND(U67<>\"\",W67=\"\",U67<=MAX(W68:W$72)),IF(SMALL(W68:W$72,1)-U67>0,SMALL(W68:W$72,1),SMALL(W68:W$72,2)),\"\"),\"\")","v":""}]
[null,null,null,null,null,null,null,null,"1025M","22:13:00","22:24:00",null,null,null,null,null,null,null,null,null,null,null,null,null,null,"出雲市","特急","やくも25号",null,"",{"$f":"_xlfn.IFNA(MATCH(Z68,設定_主要駅!$B$2:$B$15,0),9)","v":3},"","","",66,{"$f":"IFERROR(IF(AND(D68<>\"\",F68=\"\",D68<=MAX(F69:F$72)),IF(SMALL(F69:F$72,1)-D68>0,SMALL(F69:F$72,1),SMALL(F69:F$72,2)),\"\"),\"\")","v":""},{"$f":"IFERROR(IF(AND(H68<>\"\",J68=\"\",H68<=MAX(J69:J$72)),IF(SMALL(J69:J$72,1)-H68>0,SMALL(J69:J$72,1),SMALL(J69:J$72,2)),\"\"),\"\")","v":""},{"$f":"IFERROR(IF(AND(K68<>\"\",M68=\"\",K68<=MAX(M69:M$72)),IF(SMALL(M69:M$72,1)-K68>0,SMALL(M69:M$72,1),SMALL(M69:M$72,2)),\"\"),\"\")","v":""},{"$f":"IFERROR(IF(AND(R68<>\"\",T68=\"\",R68<=MAX(T69:T$72)),IF(SMALL(T69:T$72,1)-R68>0,SMALL(T69:T$72,1),SMALL(T69:T$72,2)),\"\"),\"\")","v":""},{"$f":"IFERROR(IF(AND(U68<>\"\",W68=\"\",U68<=MAX(W69:W$72)),IF(SMALL(W69:W$72,1)-U68>0,SMALL(W69:W$72,1),SMALL(W69:W$72,2)),\"\"),\"\")","v":""}]
[null,null,null,null,null,null,null,null,"157D","22:27:00","22:46:00",null,null,null,null,null,null,null,null,null,null,null,null,null,null,"西出雲","普通",null,null,"",{"$f":"_xlfn.IFNA(MATCH(Z69,設定_主要駅!$B$2:$B$15,0),9)","v":9},"","","",67,{"$f":"IFERROR(IF(AND(D69<>\"\",F69=\"\",D69<=MAX(F70:F$72)),IF(SMALL(F70:F$72,1)-D69>0,SMALL(F70:F$72,1),SMALL(F70:F$72,2)),\"\"),\"\")","v":""},{"$f":"IFERROR(IF(AND(H69<>\"\",J69=\"\",H69<=MAX(J70:J$72)),IF(SMALL(J70:J$72,1)-H69>0,SMALL(J70:J$72,1),SMALL(J70:J$72,2)),\"\"),\"\")","v":""},{"$f":"IFERROR(IF(AND(K69<>\"\",M69=\"\",K69<=MAX(M70:M$72)),IF(SMALL(M70:M$72,1)-K69>0,SMALL(M70:M$72,1),SMALL(M70:M$72,2)),\"\"),\"\")","v":""},{"$f":"IFERROR(IF(AND(R69<>\"\",T69=\"\",R69<=MAX(T70:T$72)),IF(SMALL(T70:T$72,1)-R69>0,SMALL(T70:T$72,1),SMALL(T70:T$72,2)),\"\"),\"\")","v":""},{"$f":"IFERROR(IF(AND(U69<>\"\",W69=\"\",U69<=MAX(W70:W$72)),IF(SMALL(W70:W$72,1)-U69>0,SMALL(W70:W$72,1),SMALL(W70:W$72,2)),\"\"),\"\")","v":""}]
[null,null,null,null,null,null,null,null,"1027M","23:02:00","23:13:00",null,null,null,null,null,null,null,null,null,null,null,null,null,null,"出雲市","特急","やくも27号",null,"",{"$f":"_xlfn.IFNA(MATCH(Z70,設定_主要駅!$B$2:$B$15,0),9)","v":3},"","","",68,{"$f":"IFERROR(IF(AND(D70<>\"\",F70=\"\",D70<=MAX(F71:F$72)),IF(SMALL(F71:F$72,1)-D70>0,SMALL(F71:F$72,1),SMALL(F71:F$72,2)),\"\"),\"\")","v":""},{"$f":"IFERROR(IF(AND(H70<>\"\",J70=\"\",H70<=MAX(J71:J$72)),IF(SMALL(J71:J$72,1)-H70>0,SMALL(J71:J$72,1),SMALL(J71:J$72,2)),\"\"),\"\")","v":""},{"$f":"IFERROR(IF(AND(K70<>\"\",M70=\"\",K70<=MAX(M71:M$72)),IF(SMALL(M71:M$72,1)-K70>0,SMALL(M71:M$72,1),SMALL(M71:M$72,2)),\"\"),\"\")","v":""},{"$f":"IFERROR(IF(AND(R70<>\"\",T70=\"\",R70<=MAX(T71:T$72)),IF(SMALL(T71:T$72,1)-R70>0,SMALL(T71:T$72,1),SMALL(T71:T$72,2)),\"\"),\"\")","v":""},{"$f":"IFERROR(IF(AND(U70<>\"\",W70=\"\",U70<=MAX(W71:W$72)),IF(SMALL(W71:W$72,1)-U70>0,SMALL(W71:W$72,1),SMALL(W71:W$72,2)),\"\"),\"\")","v":""}]
[null,null,null,null,null,null,null,null,"159D","23:31:00","23:46:00",null,null,null,null,null,null,null,null,null,null,null,null,null,null,"西出雲","普通",null,null,"",{"$f":"_xlfn.IFNA(MATCH(Z71,設定_主要駅!$B$2:$B$15,0),9)","v":9},"","","",69,{"$f":"IFERROR(IF(AND(D71<>\"\",F71=\"\",D71<=MAX(F72:F$72)),IF(SMALL(F72:F$72,1)-D71>0,SMALL(F72:F$72,1),SMALL(F72:F$72,2)),\"\"),\"\")","v":""},{"$f":"IFERROR(IF(AND(H71<>\"\",J71=\"\",H71<=MAX(J72:J$72)),IF(SMALL(J72:J$72,1)-H71>0,SMALL(J72:J$72,1),SMALL(J72:J$72,2)),\"\"),\"\")","v":""},{"$f":"IFERROR(IF(AND(K71<>\"\",M71=\"\",K71<=MAX(M72:M$72)),IF(SMALL(M72:M$72,1)-K71>0,SMALL(M72:M$72,1),SMALL(M72:M$72,2)),\"\"),\"\")","v":""},{"$f":"IFERROR(IF(AND(R71<>\"\",T71=\"\",R71<=MAX(T72:T$72)),IF(SMALL(T72:T$72,1)-R71>0,SMALL(T72:T$72,1),SMALL(T72:T$72,2)),\"\"),\"\")","v":""},{"$f":"IFERROR(IF(AND(U71<>\"\",W71=\"\",U71<=MAX(W72:W$72)),IF(SMALL(W72:W$72,1)-U71>0,SMALL(W72:W$72,1),SMALL(W72:W$72,2)),\"\"),\"\")","v":""}]
[null,null,null,null,null,null,null,null,"1029M","00:06:00","00:17:00",null,null,null,null,null,null,null,null,null,null,null,null,null,null,"出雲市","特急","やくも29号","◆3月16日～9月30日運行","",{"$f":"_xlfn.IFNA(MATCH(Z72,設定_主要駅!$B$2:$B$15,0),9)","v":3},"","","",70,{"$f":"IFERROR(IF(AND(D72<>\"\",F72=\"\",D72<=MAX(F$72:F73)),IF(SMALL(F$72:F73,1)-D72>0,SMALL(F$72:F73,1),SMALL(F$72:F73,2)),\"\"),\"\")","v":""},{"$f":"IFERROR(IF(AND(H72<>\"\",J72=\"\",H72<=MAX(J$72:J73)),IF(SMALL(J$72:J73,1)-H72>0,SMALL(J$72:J73,1),SMALL(J$72:J73,2)),\"\"),\"\")","v":""},{"$f":"IFERROR(IF(AND(K72<>\"\",M72=\"\",K72<=MAX(M$72:M73)),IF(SMALL(M$72:M73,1)-K72>0,SMALL(M$72:M73,1),SMALL(M$72:M73,2)),\"\"),\"\")","v":""},{"$f":"IFERROR(IF(AND(R72<>\"\",T72=\"\",R72<=MAX(T$72:T73)),IF(SMALL(T$72:T73,1)-R72>0,SMALL(T$72:T73,1),SMALL(T$72:T73,2)),\"\"),\"\")","v":""},{"$f":"IFERROR(IF(AND(U72<>\"\",W72=\"\",U72<=MAX(W$72:W73)),IF(SMALL(W$72:W73,1)-U72>0,SMALL(W$72:W73,1),SMALL(W$72:W73,2)),\"\"),\"\")","v":""}]
["1468D","20:18:00","20:39:00","21:15:00",null,null,null,null,null,null,null,null,null,null,null,null,null,null,null,null,null,null,null,null,null,"木次","普通",null,null,"",{"$f":"_xlfn.IFNA(MATCH(Z73,設定_主要駅!$B$2:$B$15,0),9)","v":12},"","","",71,{"$f":"IFERROR(IF(AND(D73<>\"\",F73=\"\",D73<=MAX(F$72:F74)),IF(SMALL(F$72:F74,1)-D73>0,SMALL(F$72:F74,1),SMALL(F$72:F74,2)),\"\"),\"\")","v":""},{"$f":"IFERROR(IF(AND(H73<>\"\",J73=\"\",H73<=MAX(J$72:J74)),IF(SMALL(J$72:J74,1)-H73>0,SMALL(J$72:J74,1),SMALL(J$72:J74,2)),\"\"),\"\")","v":""},{"$f":"IFERROR(IF(AND(K73<>\"\",M73=\"\",K73<=MAX(M$72:M74)),IF(SMALL(M$72:M74,1)-K73>0,SMALL(M$72:M74,1),SMALL(M$72:M74,2)),\"\"),\"\")","v":""},{"$f":"IFERROR(IF(AND(R73<>\"\",T73=\"\",R73<=MAX(T$72:T74)),IF(SMALL(T$72:T74,1)-R73>0,SMALL(T$72:T74,1),SMALL(T$72:T74,2)),\"\"),\"\")","v":""},{"$f":"IFERROR(IF(AND(U73<>\"\",W73=\"\",U73<=MAX(W$72:W74)),IF(SMALL(W$72:W74,1)-U73>0,SMALL(W$72:W74,1),SMALL(W$72:W74,2)),\"\"),\"\")","v":""}]

{"sheet":"安来・松江→木次線_下り","index":11,"n_rows":48,"n_cols":28,"rows_kept":48,"cut":false,"hidden":true,"merged":[]}
[null,"安来市","松江市",null,null,null,null,"雲南市",null,null,null,"雲南市","奥出雲町",null,null,null,null,null,null,"行きで参照","帰りで参照"]
["列車番号","安来発","松江着","松江発","宍道着","列車番号","宍道発","出雲大東着","木次着","列車番号","木次発","出雲三成着","出雲横田着","行先","種別","列車名","備考","接続","行先駅","接続行①","接続行②","接続時間","番号","宍道","木次",null,"接続時間","00:35:01"]
[null,null,null,null,null,null,null,null,null,"1441D","06:45:00","07:25:00","07:59:00","備後落合","普通",null,null,{"$f":"IF(V3<=$AB$2,IF(X3<>\"\",X$2,IF(Y3<>\"\",Y$2,\"\")),\"\")","v":""},{"$f":"_xlfn.IFNA(MATCH(N3,設定_主要駅!$B$2:$B$15,0),IF(N3=\"備後落合\",14,9))","v":14},{"$f":"IF(V3<=$AB$2,IF(X3<>\"\",MATCH(X3,$G:$G,0)-2,IF(Y3<>\"\",MATCH(Y3,$K:$K,0)-2,\"\")),\"\")","v":""},{"$f":"_xlfn.IFNA(MATCH(ROW()-2,T:T,0)-2,\"\")","v":""},{"$f":"IF(X3<>\"\",X3-E3,IF(Y3<>\"\",Y3-I3,\"\"))","v":""},1,{"$f":"IFERROR(IF(AND(E3<>\"\",G3=\"\",E3<=MAX(G4:G$70)),IF(SMALL(G4:G$70,1)-E3>0,SMALL(G4:G$70,1),SMALL(G4:G$70,2)),\"\"),\"\")","v":""},{"$f":"IFERROR(IF(AND(I3<>\"\",K3=\"\",I3<=MAX(K4:K$70)),IF(SMALL(K4:K$70,1)-I3>0,SMALL(K4:K$70,1),SMALL(K4:K$70,2)),\"\"),\"\")","v":""}]
["3001D","06:08:00","06:22:00","06:23:00","06:36:00",null,null,null,null,null,null,null,null,"新山口","特急","スーパーおき1号",null,{"$f":"IF(V4<=$AB$2,IF(X4<>\"\",X$2,IF(Y4<>\"\",Y$2,\"\")),\"\")","v":""},{"$f":"_xlfn.IFNA(MATCH(N4,設定_主要駅!$B$2:$B$15,0),IF(N4=\"備後落合\",14,9))","v":9},{"$f":"IF(V4<=$AB$2,IF(X4<>\"\",MATCH(X4,$G:$G,0)-2,IF(Y4<>\"\",MATCH(Y4,$K:$K,0)-2,\"\")),\"\")","v":""},{"$f":"_xlfn.IFNA(MATCH(ROW()-2,T:T,0)-2,\"\")","v":""},{"$f":"IF(X4<>\"\",X4-E4,IF(Y4<>\"\",Y4-I4,\"\"))","v":"00:53:00"},2,{"$f":"IFERROR(IF(AND(E4<>\"\",G4=\"\",E4<=MAX(G5:G$70)),IF(SMALL(G5:G$70,1)-E4>0,SMALL(G5:G$70,1),SMALL(G5:G$70,2)),\"\"),\"\")","v":"07:29:00"},{"$f":"IFERROR(IF(AND(I4<>\"\",K4=\"\",I4<=MAX(K5:K$70)),IF(SMALL(K5:K$70,1)-I4>0,SMALL(K5:K$70,1),SMALL(K5:K$70,2)),\"\"),\"\")","v":""}]
["125D","06:14:00","06:37:00","06:38:00","07:00:00",null,null,null,null,null,null,null,null,"出雲市","普通",null,null,"宍道",{"$f":"_xlfn.IFNA(MATCH(N5,設定_主要駅!$B$2:$B$15,0),IF(N5=\"備後落合\",14,9))","v":3},{"$f":"IF(V5<=$AB$2,IF(X5<>\"\",MATCH(X5,$G:$G,0)-2,IF(Y5<>\"\",MATCH(Y5,$K:$K,0)-2,\"\")),\"\")","v":4},{"$f":"_xlfn.IFNA(MATCH(ROW()-2,T:T,0)-2,\"\")","v":""},"00:29:00",3,{"$f":"IFERROR(IF(AND(E5<>\"\",G5=\"\",E5<=MAX(G6:G$70)),IF(SMALL(G6:G$70,1)-E5>0,SMALL(G6:G$70,1),SMALL(G6:G$70,2)),\"\"),\"\")","v":"07:29:00"},{"$f":"IFERROR(IF(AND(I5<>\"\",K5=\"\",I5<=MAX(K6:K$70)),IF(SMALL(K6:K$70,1)-I5>0,SMALL(K6:K$70,1),SMALL(K6:K$70,2)),\"\"),\"\")","v":""}]
[null,null,null,null,null,"1443D","07:29:00","07:53:00","08:04:00",null,null,null,null,"木次","普通",null,null,{"$f":"IF(V6<=$AB$2,IF(X6<>\"\",X$2,IF(Y6<>\"\",Y$2,\"\")),\"\")","v":""},{"$f":"_xlfn.IFNA(MATCH(N6,設定_主要駅!$B$2:$B$15,0),IF(N6=\"備後落合\",14,9))","v":12},{"$f":"IF(V6<=$AB$2,IF(X6<>\"\",MATCH(X6,$G:$G,0)-2,IF(Y6<>\"\",MATCH(Y6,$K:$K,0)-2,\"\")),\"\")","v":""},{"$f":"_xlfn.IFNA(MATCH(ROW()-2,T:T,0)-2,\"\")","v":3},{"$f":"IF(X6<>\"\",X6-E6,IF(Y6<>\"\",Y6-I6,\"\"))","v":"02:14:00"},4,{"$f":"IFERROR(IF(AND(E6<>\"\",G6=\"\",E6<=MAX(G7:G$70)),IF(SMALL(G7:G$70,1)-E6>0,SMALL(G7:G$70,1),SMALL(G7:G$70,2)),\"\"),\"\")","v":""},{"$f":"IFERROR(IF(AND(I6<>\"\",K6=\"\",I6<=MAX(K7:K$70)),IF(SMALL(K7:K$70,1)-I6>0,SMALL(K7:K$70,1),SMALL(K7:K$70,2)),\"\"),\"\")","v":"10:18:00"}]
["127D","06:48:00","07:11:00","07:13:00","07:41:00",null,null,null,null,null,null,null,null,"出雲市","普通",null,null,"",{"$f":"_xlfn.IFNA(MATCH(N7,設定_主要駅!$B$2:$B$15,0),IF(N7=\"備後落合\",14,9))","v":3},{"$f":"IF(V7<=$AB$2,IF(X7<>\"\",MATCH(X7,$G:$G,0)-2,IF(Y7<>\"\",MATCH(Y7,$K:$K,0)-2,\"\")),\"\")","v":""},{"$f":"_xlfn.IFNA(MATCH(ROW()-2,T:T,0)-2,\"\")","v":""},"01:29:00",5,{"$f":"IFERROR(IF(AND(E7<>\"\",G7=\"\",E7<=MAX(G8:G$70)),IF(SMALL(G8:G$70,1)-E7>0,SMALL(G8:G$70,1),SMALL(G8:G$70,2)),\"\"),\"\")","v":"09:10:00"},{"$f":"IFERROR(IF(AND(I7<>\"\",K7=\"\",I7<=MAX(K8:K$70)),IF(SMALL(K8:K$70,1)-I7>0,SMALL(K8:K$70,1),SMALL(K8:K$70,2)),\"\"),\"\")","v":""}]
["129D","07:22:00","07:47:00","07:48:00","08:11:00",null,null,null,null,null,null,null,null,"西出雲","普通",null,null,"",{"$f":"_xlfn.IFNA(MATCH(N8,設定_主要駅!$B$2:$B$15,0),IF(N8=\"備後落合\",14,9))","v":9},{"$f":"IF(V8<=$AB$2,IF(X8<>\"\",MATCH(X8,$G:$G,0)-2,IF(Y8<>\"\",MATCH(Y8,$K:$K,0)-2,\"\")),\"\")","v":""},{"$f":"_xlfn.IFNA(MATCH(ROW()-2,T:T,0)-2,\"\")","v":""},"00:59:00",6,{"$f":"IFERROR(IF(AND(E8<>\"\",G8=\"\",E8<=MAX(G9:G$70)),IF(SMALL(G9:G$70,1)-E8>0,SMALL(G9:G$70,1),SMALL(G9:G$70,2)),\"\"),\"\")","v":"09:10:00"},{"$f":"IFERROR(IF(AND(I8<>\"\",K8=\"\",I8<=MAX(K9:K$70)),IF(SMALL(K9:K$70,1)-I8>0,SMALL(K9:K$70,1),SMALL(K9:K$70,2)),\"\"),\"\")","v":""}]
["131D",null,null,"07:58:00","08:22:00",null,null,null,null,null,null,null,null,"宍道","普通",null,null,"",{"$f":"_xlfn.IFNA(MATCH(N9,設定_主要駅!$B$2:$B$15,0),IF(N9=\"備後落合\",14,9))","v":10},{"$f":"IF(V9<=$AB$2,IF(X9<>\"\",MATCH(X9,$G:$G,0)-2,IF(Y9<>\"\",MATCH(Y9,$K:$K,0)-2,\"\")),\"\")","v":""},{"$f":"_xlfn.IFNA(MATCH(ROW()-2,T:T,0)-2,\"\")","v":""},"00:48:00",7,{"$f":"IFERROR(IF(AND(E9<>\"\",G9=\"\",E9<=MAX(G10:G$70)),IF(SMALL(G10:G$70,1)-E9>0,SMALL(G10:G$70,1),SMALL(G10:G$70,2)),\"\"),\"\")","v":"09:10:00"},{"$f":"IFERROR(IF(AND(I9<>\"\",K9=\"\",I9<=MAX(K10:K$70)),IF(SMALL(K10:K$70,1)-I9>0,SMALL(K10:K$70,1),SMALL(K10:K$70,2)),\"\"),\"\")","v":""}]
["133D","07:37:00","08:03:00","08:06:00","08:27:00",null,null,null,null,null,null,null,null,"出雲市","普通",null,"◆土曜・休日運休",{"$f":"IF(V10<=$AB$2,IF(X10<>\"\",X$2,IF(Y10<>\"\",Y$2,\"\")),\"\")","v":""},{"$f":"_xlfn.IFNA(MATCH(N10,設定_主要駅!$B$2:$B$15,0),IF(N10=\"備後落合\",14,9))","v":3},{"$f":"IF(V10<=$AB$2,IF(X10<>\"\",MATCH(X10,$G:$G,0)-2,IF(Y10<>\"\",MATCH(Y10,$K:$K,0)-2,\"\")),\"\")","v":""},{"$f":"_xlfn.IFNA(MATCH(ROW()-2,T:T,0)-2,\"\")","v":""},{"$f":"IF(X10<>\"\",X10-E10,IF(Y10<>\"\",Y10-I10,\"\"))","v":"00:43:00"},8,{"$f":"IFERROR(IF(AND(E10<>\"\",G10=\"\",E10<=MAX(G11:G$70)),IF(SMALL(G11:G$70,1)-E10>0,SMALL(G11:G$70,1),SMALL(G11:G$70,2)),\"\"),\"\")","v":"09:10:00"},{"$f":"IFERROR(IF(AND(I10<>\"\",K10=\"\",I10<=MAX(K11:K$70)),IF(SMALL(K11:K$70,1)-I10>0,SMALL(K11:K$70,1),SMALL(K11:K$70,2)),\"\"),\"\")","v":""}]
["2001D","08:18:00","08:33:00","08:34:00","08:47:00",null,null,null,null,null,null,null,null,"益田","特急","スーパーまつかぜ1号",null,"宍道",{"$f":"_xlfn.IFNA(MATCH(N11,設定_主要駅!$B$2:$B$15,0),IF(N11=\"備後落合\",14,9))","v":7},10,"","00:23:00",9,{"$f":"IFERROR(IF(AND(E11<>\"\",G11=\"\",E11<=MAX(G12:G$70)),IF(SMALL(G12:G$70,1)-E11>0,SMALL(G12:G$70,1),SMALL(G12:G$70,2)),\"\"),\"\")","v":"09:10:00"},{"$f":"IFERROR(IF(AND(I11<>\"\",K11=\"\",I11<=MAX(K12:K$70)),IF(SMALL(K12:K$70,1)-I11>0,SMALL(K12:K$70,1),SMALL(K12:K$70,2)),\"\"),\"\")","v":""}]
[null,null,null,null,null,"1445D","09:10:00","09:33:00","09:44:00",null,null,null,null,"木次","普通",null,null,"木次",{"$f":"_xlfn.IFNA(MATCH(N12,設定_主要駅!$B$2:$B$15,0),IF(N12=\"備後落合\",14,9))","v":12},11,9,"00:34:00",10,{"$f":"IFERROR(IF(AND(E12<>\"\",G12=\"\",E12<=MAX(G13:G$70)),IF(SMALL(G13:G$70,1)-E12>0,SMALL(G13:G$70,1),SMALL(G13:G$70,2)),\"\"),\"\")","v":""},{"$f":"IFERROR(IF(AND(I12<>\"\",K12=\"\",I12<=MAX(K13:K$70)),IF(SMALL(K13:K$70,1)-I12>0,SMALL(K13:K$70,1),SMALL(K13:K$70,2)),\"\"),\"\")","v":"10:18:00"}]
[null,null,null,null,null,null,null,null,null,"9445D","10:18:00","10:58:00","11:20:00","出雲横田","普通",null,"◆あめつち運行日は運休","",{"$f":"_xlfn.IFNA(MATCH(N13,設定_主要駅!$B$2:$B$15,0),IF(N13=\"備後落合\",14,9))","v":14},"",10,"",11,{"$f":"IFERROR(IF(AND(E13<>\"\",G13=\"\",E13<=MAX(G14:G$70)),IF(SMALL(G14:G$70,1)-E13>0,SMALL(G14:G$70,1),SMALL(G14:G$70,2)),\"\"),\"\")","v":""},{"$f":"IFERROR(IF(AND(I13<>\"\",K13=\"\",I13<=MAX(K14:K$70)),IF(SMALL(K14:K$70,1)-I13>0,SMALL(K14:K$70,1),SMALL(K14:K$70,2)),\"\"),\"\")","v":""}]
["281M","08:36:00","08:56:00","08:57:00","09:18:00",null,null,null,null,null,null,null,null,"出雲市","普通",null,null,"",{"$f":"_xlfn.IFNA(MATCH(N14,設定_主要駅!$B$2:$B$15,0),IF(N14=\"備後落合\",14,9))","v":3},"","","01:59:00",12,{"$f":"IFERROR(IF(AND(E14<>\"\",G14=\"\",E14<=MAX(G15:G$70)),IF(SMALL(G15:G$70,1)-E14>0,SMALL(G15:G$70,1),SMALL(G15:G$70,2)),\"\"),\"\")","v":"11:17:00"},{"$f":"IFERROR(IF(AND(I14<>\"\",K14=\"\",I14<=MAX(K15:K$70)),IF(SMALL(K15:K$70,1)-I14>0,SMALL(K15:K$70,1),SMALL(K15:K$70,2)),\"\"),\"\")","v":""}]
["4031M","09:17:00","09:33:00","09:34:00","09:47:00",null,null,null,null,null,null,null,null,"出雲市","特急","サンライズ出雲",null,"",{"$f":"_xlfn.IFNA(MATCH(N15,設定_主要駅!$B$2:$B$15,0),IF(N15=\"備後落合\",14,9))","v":3},"","","01:30:00",13,{"$f":"IFERROR(IF(AND(E15<>\"\",G15=\"\",E15<=MAX(G16:G$70)),IF(SMALL(G16:G$70,1)-E15>0,SMALL(G16:G$70,1),SMALL(G16:G$70,2)),\"\"),\"\")","v":"11:17:00"},{"$f":"IFERROR(IF(AND(I15<>\"\",K15=\"\",I15<=MAX(K16:K$70)),IF(SMALL(K16:K$70,1)-I15>0,SMALL(K16:K$70,1),SMALL(K16:K$70,2)),\"\"),\"\")","v":""}]
["1001M","09:30:00","09:49:00","09:50:00","10:06:00",null,null,null,null,null,null,null,null,"出雲市","特急","やくも1号",null,"",{"$f":"_xlfn.IFNA(MATCH(N16,設定_主要駅!$B$2:$B$15,0),IF(N16=\"備後落合\",14,9))","v":3},"","","01:11:00",14,{"$f":"IFERROR(IF(AND(E16<>\"\",G16=\"\",E16<=MAX(G17:G$70)),IF(SMALL(G17:G$70,1)-E16>0,SMALL(G17:G$70,1),SMALL(G17:G$70,2)),\"\"),\"\")","v":"11:17:00"},{"$f":"IFERROR(IF(AND(I16<>\"\",K16=\"\",I16<=MAX(K17:K$70)),IF(SMALL(K17:K$70,1)-I16>0,SMALL(K17:K$70,1),SMALL(K17:K$70,2)),\"\"),\"\")","v":""}]
["137D","09:54:00","10:15:00","10:20:00","10:41:00",null,null,null,null,null,null,null,null,"出雲市","普通",null,null,"",{"$f":"_xlfn.IFNA(MATCH(N17,設定_主要駅!$B$2:$B$15,0),IF(N17=\"備後落合\",14,9))","v":3},"","","00:36:00",15,{"$f":"IFERROR(IF(AND(E17<>\"\",G17=\"\",E17<=MAX(G18:G$70)),IF(SMALL(G18:G$70,1)-E17>0,SMALL(G18:G$70,1),SMALL(G18:G$70,2)),\"\"),\"\")","v":"11:17:00"},{"$f":"IFERROR(IF(AND(I17<>\"\",K17=\"\",I17<=MAX(K18:K$70)),IF(SMALL(K18:K$70,1)-I17>0,SMALL(K18:K$70,1),SMALL(K18:K$70,2)),\"\"),\"\")","v":""}]
["1003M","10:32:00","10:47:00","10:48:00","11:01:00",null,null,null,null,null,null,null,null,"出雲市","特急","やくも3号",null,"宍道",{"$f":"_xlfn.IFNA(MATCH(N18,設定_主要駅!$B$2:$B$15,0),IF(N18=\"備後落合\",14,9))","v":3},17,"","00:16:00",16,{"$f":"IFERROR(IF(AND(E18<>\"\",G18=\"\",E18<=MAX(G19:G$70)),IF(SMALL(G19:G$70,1)-E18>0,SMALL(G19:G$70,1),SMALL(G19:G$70,2)),\"\"),\"\")","v":"11:17:00"},{"$f":"IFERROR(IF(AND(I18<>\"\",K18=\"\",I18<=MAX(K19:K$70)),IF(SMALL(K19:K$70,1)-I18>0,SMALL(K19:K$70,1),SMALL(K19:K$70,2)),\"\"),\"\")","v":""}]
[null,null,null,null,null,"1447D","11:17:00","11:40:00","11:51:00",null,"11:54:00","12:32:00","13:07:00","備後落合","普通",null,"◆木次～備後落合間、第２木曜＜除く、4月21日＞は運休，宍道～木次間、第３日曜は運休、同区間代行輸送","",{"$f":"_xlfn.IFNA(MATCH(N19,設定_主要駅!$B$2:$B$15,0),IF(N19=\"備後落合\",14,9))","v":14},"",16,"",17,{"$f":"IFERROR(IF(AND(E19<>\"\",G19=\"\",E19<=MAX(G20:G$70)),IF(SMALL(G20:G$70,1)-E19>0,SMALL(G20:G$70,1),SMALL(G20:G$70,2)),\"\"),\"\")","v":""},{"$f":"IFERROR(IF(AND(I19<>\"\",K19=\"\",I19<=MAX(K20:K$70)),IF(SMALL(K20:K$70,1)-I19>0,SMALL(K20:K$70,1),SMALL(K20:K$70,2)),\"\"),\"\")","v":""}]
["1005M","11:33:00","11:48:00","11:49:00","12:06:00",null,null,null,null,null,null,null,null,"出雲市","特急","やくも5号",null,"",{"$f":"_xlfn.IFNA(MATCH(N20,設定_主要駅!$B$2:$B$15,0),IF(N20=\"備後落合\",14,9))","v":3},"","","02:09:00",18,{"$f":"IFERROR(IF(AND(E20<>\"\",G20=\"\",E20<=MAX(G21:G$70)),IF(SMALL(G21:G$70,1)-E20>0,SMALL(G21:G$70,1),SMALL(G21:G$70,2)),\"\"),\"\")","v":"14:15:00"},{"$f":"IFERROR(IF(AND(I20<>\"\",K20=\"\",I20<=MAX(K21:K$70)),IF(SMALL(K21:K$70,1)-I20>0,SMALL(K21:K$70,1),SMALL(K21:K$70,2)),\"\"),\"\")","v":""}]
["283M","11:40:00","12:01:00","12:20:00","12:44:00",null,null,null,null,null,null,null,null,"西出雲","普通",null,null,"",{"$f":"_xlfn.IFNA(MATCH(N21,設定_主要駅!$B$2:$B$15,0),IF(N21=\"備後落合\",14,9))","v":9},"","","01:31:00",19,{"$f":"IFERROR(IF(AND(E21<>\"\",G21=\"\",E21<=MAX(G22:G$70)),IF(SMALL(G22:G$70,1)-E21>0,SMALL(G22:G$70,1),SMALL(G22:G$70,2)),\"\"),\"\")","v":"14:15:00"},{"$f":"IFERROR(IF(AND(I21<>\"\",K21=\"\",I21<=MAX(K22:K$70)),IF(SMALL(K22:K$70,1)-I21>0,SMALL(K22:K$70,1),SMALL(K22:K$70,2)),\"\"),\"\")","v":""}]
["1007M","12:34:00","12:49:00","12:50:00","13:03:00",null,null,null,null,null,null,null,null,"出雲市","特急","やくも7号",null,"",{"$f":"_xlfn.IFNA(MATCH(N22,設定_主要駅!$B$2:$B$15,0),IF(N22=\"備後落合\",14,9))","v":3},"","","01:12:00",20,{"$f":"IFERROR(IF(AND(E22<>\"\",G22=\"\",E22<=MAX(G23:G$70)),IF(SMALL(G23:G$70,1)-E22>0,SMALL(G23:G$70,1),SMALL(G23:G$70,2)),\"\"),\"\")","v":"14:15:00"},{"$f":"IFERROR(IF(AND(I22<>\"\",K22=\"\",I22<=MAX(K23:K$70)),IF(SMALL(K23:K$70,1)-I22>0,SMALL(K23:K$70,1),SMALL(K23:K$70,2)),\"\"),\"\")","v":""}]
["139D","12:27:00","12:58:00","13:07:00","13:26:00",null,null,null,null,null,null,null,null,"浜田","普通",null,null,"",{"$f":"_xlfn.IFNA(MATCH(N23,設定_主要駅!$B$2:$B$15,0),IF(N23=\"備後落合\",14,9))","v":6},"","","00:49:00",21,{"$f":"IFERROR(IF(AND(E23<>\"\",G23=\"\",E23<=MAX(G24:G$70)),IF(SMALL(G24:G$70,1)-E23>0,SMALL(G24:G$70,1),SMALL(G24:G$70,2)),\"\"),\"\")","v":"14:15:00"},{"$f":"IFERROR(IF(AND(I23<>\"\",K23=\"\",I23<=MAX(K24:K$70)),IF(SMALL(K24:K$70,1)-I23>0,SMALL(K24:K$70,1),SMALL(K24:K$70,2)),\"\"),\"\")","v":""}]
["1009M","13:34:00","13:48:00","13:49:00","14:08:00",null,null,null,null,null,null,null,null,"出雲市","特急","やくも9号",null,"宍道",{"$f":"_xlfn.IFNA(MATCH(N24,設定_主要駅!$B$2:$B$15,0),IF(N24=\"備後落合\",14,9))","v":3},23,"","00:07:00",22,{"$f":"IFERROR(IF(AND(E24<>\"\",G24=\"\",E24<=MAX(G25:G$70)),IF(SMALL(G25:G$70,1)-E24>0,SMALL(G25:G$70,1),SMALL(G25:G$70,2)),\"\"),\"\")","v":"14:15:00"},{"$f":"IFERROR(IF(AND(I24<>\"\",K24=\"\",I24<=MAX(K25:K$70)),IF(SMALL(K25:K$70,1)-I24>0,SMALL(K25:K$70,1),SMALL(K25:K$70,2)),\"\"),\"\")","v":""}]
[null,null,null,null,null,"1451D","14:15:00","14:39:00","14:51:00",null,"14:53:00","15:33:00","15:57:00","備後落合","普通",null,"◆宍道～木次間、第３日曜は運休、同区間代行輸送","",{"$f":"_xlfn.IFNA(MATCH(N25,設定_主要駅!$B$2:$B$15,0),IF(N25=\"備後落合\",14,9))","v":14},"",22,"",23,{"$f":"IFERROR(IF(AND(E25<>\"\",G25=\"\",E25<=MAX(G26:G$70)),IF(SMALL(G26:G$70,1)-E25>0,SMALL(G26:G$70,1),SMALL(G26:G$70,2)),\"\"),\"\")","v":""},{"$f":"IFERROR(IF(AND(I25<>\"\",K25=\"\",I25<=MAX(K26:K$70)),IF(SMALL(K26:K$70,1)-I25>0,SMALL(K26:K$70,1),SMALL(K26:K$70,2)),\"\"),\"\")","v":""}]
["141D","13:41:00","14:05:00","14:11:00","14:45:00",null,null,null,null,null,null,null,null,"出雲市","普通",null,null,"",{"$f":"_xlfn.IFNA(MATCH(N26,設定_主要駅!$B$2:$B$15,0),IF(N26=\"備後落合\",14,9))","v":3},"","","01:17:00",24,{"$f":"IFERROR(IF(AND(E26<>\"\",G26=\"\",E26<=MAX(G27:G$70)),IF(SMALL(G27:G$70,1)-E26>0,SMALL(G27:G$70,1),SMALL(G27:G$70,2)),\"\"),\"\")","v":"16:02:00"},{"$f":"IFERROR(IF(AND(I26<>\"\",K26=\"\",I26<=MAX(K27:K$70)),IF(SMALL(K27:K$70,1)-I26>0,SMALL(K27:K$70,1),SMALL(K27:K$70,2)),\"\"),\"\")","v":""}]
["1011M","14:35:00","14:54:00","14:55:00","15:09:00",null,null,null,null,null,null,null,null,"出雲市","特急","やくも11号",null,"",{"$f":"_xlfn.IFNA(MATCH(N27,設定_主要駅!$B$2:$B$15,0),IF(N27=\"備後落合\",14,9))","v":3},"","","00:53:00",25,{"$f":"IFERROR(IF(AND(E27<>\"\",G27=\"\",E27<=MAX(G28:G$70)),IF(SMALL(G28:G$70,1)-E27>0,SMALL(G28:G$70,1),SMALL(G28:G$70,2)),\"\"),\"\")","v":"16:02:00"},{"$f":"IFERROR(IF(AND(I27<>\"\",K27=\"\",I27<=MAX(K28:K$70)),IF(SMALL(K28:K$70,1)-I27>0,SMALL(K28:K$70,1),SMALL(K28:K$70,2)),\"\"),\"\")","v":""}]
["143D","14:46:00","15:12:00","15:29:00","15:49:00",null,null,null,null,null,null,null,null,"出雲市","普通",null,null,"宍道",{"$f":"_xlfn.IFNA(MATCH(N28,設定_主要駅!$B$2:$B$15,0),IF(N28=\"備後落合\",14,9))","v":3},27,"","00:13:00",26,{"$f":"IFERROR(IF(AND(E28<>\"\",G28=\"\",E28<=MAX(G29:G$70)),IF(SMALL(G29:G$70,1)-E28>0,SMALL(G29:G$70,1),SMALL(G29:G$70,2)),\"\"),\"\")","v":"16:02:00"},{"$f":"IFERROR(IF(AND(I28<>\"\",K28=\"\",I28<=MAX(K29:K$70)),IF(SMALL(K29:K$70,1)-I28>0,SMALL(K29:K$70,1),SMALL(K29:K$70,2)),\"\"),\"\")","v":""}]
[null,null,null,null,null,"1453D","16:02:00","16:29:00","16:40:00",null,"16:54:00","17:32:00","17:53:00","出雲横田","普通",null,null,"",{"$f":"_xlfn.IFNA(MATCH(N29,設定_主要駅!$B$2:$B$15,0),IF(N29=\"備後落合\",14,9))","v":14},"",26,"",27,{"$f":"IFERROR(IF(AND(E29<>\"\",G29=\"\",E29<=MAX(G30:G$70)),IF(SMALL(G30:G$70,1)-E29>0,SMALL(G30:G$70,1),SMALL(G30:G$70,2)),\"\"),\"\")","v":""},{"$f":"IFERROR(IF(AND(I29<>\"\",K29=\"\",I29<=MAX(K30:K$70)),IF(SMALL(K30:K$70,1)-I29>0,SMALL(K30:K$70,1),SMALL(K30:K$70,2)),\"\"),\"\")","v":""}]
["145D","15:45:00","16:10:00","16:12:00","16:39:00",null,null,null,null,null,null,null,null,"出雲市","普通",null,null,"宍道",{"$f":"_xlfn.IFNA(MATCH(N30,設定_主要駅!$B$2:$B$15,0),IF(N30=\"備後落合\",14,9))","v":3},31,"","00:35:00",28,{"$f":"IFERROR(IF(AND(E30<>\"\",G30=\"\",E30<=MAX(G31:G$70)),IF(SMALL(G31:G$70,1)-E30>0,SMALL(G31:G$70,1),SMALL(G31:G$70,2)),\"\"),\"\")","v":"17:14:00"},{"$f":"IFERROR(IF(AND(I30<>\"\",K30=\"\",I30<=MAX(K31:K$70)),IF(SMALL(K31:K$70,1)-I30>0,SMALL(K31:K$70,1),SMALL(K31:K$70,2)),\"\"),\"\")","v":""}]
["2007D","16:29:00","16:44:00","16:45:00","17:00:00",null,null,null,null,null,null,null,null,"益田","特急","スーパーまつかぜ7号",null,"宍道",{"$f":"_xlfn.IFNA(MATCH(N31,設定_主要駅!$B$2:$B$15,0),IF(N31=\"備後落合\",14,9))","v":7},31,"","00:14:00",29,{"$f":"IFERROR(IF(AND(E31<>\"\",G31=\"\",E31<=MAX(G32:G$70)),IF(SMALL(G32:G$70,1)-E31>0,SMALL(G32:G$70,1),SMALL(G32:G$70,2)),\"\"),\"\")","v":"17:14:00"},{"$f":"IFERROR(IF(AND(I31<>\"\",K31=\"\",I31<=MAX(K32:K$70)),IF(SMALL(K32:K$70,1)-I31>0,SMALL(K32:K$70,1),SMALL(K32:K$70,2)),\"\"),\"\")","v":""}]
["1015M","16:35:00","16:51:00","16:54:00","17:10:00",null,null,null,null,null,null,null,null,"出雲市","特急","やくも15号",null,"宍道",{"$f":"_xlfn.IFNA(MATCH(N32,設定_主要駅!$B$2:$B$15,0),IF(N32=\"備後落合\",14,9))","v":3},31,"","00:04:00",30,{"$f":"IFERROR(IF(AND(E32<>\"\",G32=\"\",E32<=MAX(G33:G$70)),IF(SMALL(G33:G$70,1)-E32>0,SMALL(G33:G$70,1),SMALL(G33:G$70,2)),\"\"),\"\")","v":"17:14:00"},{"$f":"IFERROR(IF(AND(I32<>\"\",K32=\"\",I32<=MAX(K33:K$70)),IF(SMALL(K33:K$70,1)-I32>0,SMALL(K33:K$70,1),SMALL(K33:K$70,2)),\"\"),\"\")","v":""}]
[null,null,null,null,null,"1455D","17:14:00","17:37:00","17:48:00",null,null,null,null,"木次","普通",null,null,"",{"$f":"_xlfn.IFNA(MATCH(N33,設定_主要駅!$B$2:$B$15,0),IF(N33=\"備後落合\",14,9))","v":12},"",28,"01:16:00",31,{"$f":"IFERROR(IF(AND(E33<>\"\",G33=\"\",E33<=MAX(G34:G$70)),IF(SMALL(G34:G$70,1)-E33>0,SMALL(G34:G$70,1),SMALL(G34:G$70,2)),\"\"),\"\")","v":""},{"$f":"IFERROR(IF(AND(I33<>\"\",K33=\"\",I33<=MAX(K34:K$70)),IF(SMALL(K34:K$70,1)-I33>0,SMALL(K34:K$70,1),SMALL(K34:K$70,2)),\"\"),\"\")","v":"19:04:00"}]
["285M","16:41:00","17:09:00","17:10:00","17:29:00",null,null,null,null,null,null,null,null,"出雲市","普通",null,null,"",{"$f":"_xlfn.IFNA(MATCH(N34,設定_主要駅!$B$2:$B$15,0),IF(N34=\"備後落合\",14,9))","v":3},"","","00:54:00",32,{"$f":"IFERROR(IF(AND(E34<>\"\",G34=\"\",E34<=MAX(G35:G$70)),IF(SMALL(G35:G$70,1)-E34>0,SMALL(G35:G$70,1),SMALL(G35:G$70,2)),\"\"),\"\")","v":"18:23:00"},{"$f":"IFERROR(IF(AND(I34<>\"\",K34=\"\",I34<=MAX(K35:K$70)),IF(SMALL(K35:K$70,1)-I34>0,SMALL(K35:K$70,1),SMALL(K35:K$70,2)),\"\"),\"\")","v":""}]
["147D","17:15:00","17:39:00","17:41:00","18:08:00",null,null,null,null,null,null,null,null,"出雲市","普通",null,null,"宍道",{"$f":"_xlfn.IFNA(MATCH(N35,設定_主要駅!$B$2:$B$15,0),IF(N35=\"備後落合\",14,9))","v":3},35,"","00:15:00",33,{"$f":"IFERROR(IF(AND(E35<>\"\",G35=\"\",E35<=MAX(G36:G$70)),IF(SMALL(G36:G$70,1)-E35>0,SMALL(G36:G$70,1),SMALL(G36:G$70,2)),\"\"),\"\")","v":"18:23:00"},{"$f":"IFERROR(IF(AND(I35<>\"\",K35=\"\",I35<=MAX(K36:K$70)),IF(SMALL(K36:K$70,1)-I35>0,SMALL(K36:K$70,1),SMALL(K36:K$70,2)),\"\"),\"\")","v":""}]
["1017M","17:41:00","17:57:00","18:01:00","18:19:00",null,null,null,null,null,null,null,null,"出雲市","特急","やくも17号","◆3月16日～9月30日運行","宍道",{"$f":"_xlfn.IFNA(MATCH(N36,設定_主要駅!$B$2:$B$15,0),IF(N36=\"備後落合\",14,9))","v":3},35,"","00:04:00",34,{"$f":"IFERROR(IF(AND(E36<>\"\",G36=\"\",E36<=MAX(G37:G$70)),IF(SMALL(G37:G$70,1)-E36>0,SMALL(G37:G$70,1),SMALL(G37:G$70,2)),\"\"),\"\")","v":"18:23:00"},{"$f":"IFERROR(IF(AND(I36<>\"\",K36=\"\",I36<=MAX(K37:K$70)),IF(SMALL(K37:K$70,1)-I36>0,SMALL(K37:K$70,1),SMALL(K37:K$70,2)),\"\"),\"\")","v":""}]
[null,null,null,null,null,"1457D","18:23:00","18:47:00","18:58:00",null,"19:04:00","19:43:00","20:05:00","出雲横田","普通",null,null,"",{"$f":"_xlfn.IFNA(MATCH(N37,設定_主要駅!$B$2:$B$15,0),IF(N37=\"備後落合\",14,9))","v":14},"",33,"",35,{"$f":"IFERROR(IF(AND(E37<>\"\",G37=\"\",E37<=MAX(G38:G$70)),IF(SMALL(G38:G$70,1)-E37>0,SMALL(G38:G$70,1),SMALL(G38:G$70,2)),\"\"),\"\")","v":""},{"$f":"IFERROR(IF(AND(I37<>\"\",K37=\"\",I37<=MAX(K38:K$70)),IF(SMALL(K38:K$70,1)-I37>0,SMALL(K38:K$70,1),SMALL(K38:K$70,2)),\"\"),\"\")","v":""}]
["149D","17:50:00","18:16:00","18:19:00","18:44:00",null,null,null,null,null,null,null,null,"出雲市","普通",null,null,"宍道",{"$f":"_xlfn.IFNA(MATCH(N38,設定_主要駅!$B$2:$B$15,0),IF(N38=\"備後落合\",14,9))","v":3},37,"","00:23:00",36,{"$f":"IFERROR(IF(AND(E38<>\"\",G38=\"\",E38<=MAX(G39:G$70)),IF(SMALL(G39:G$70,1)-E38>0,SMALL(G39:G$70,1),SMALL(G39:G$70,2)),\"\"),\"\")","v":"19:07:00"},{"$f":"IFERROR(IF(AND(I38<>\"\",K38=\"\",I38<=MAX(K39:K$70)),IF(SMALL(K39:K$70,1)-I38>0,SMALL(K39:K$70,1),SMALL(K39:K$70,2)),\"\"),\"\")","v":""}]
[null,null,null,null,null,"1459D","19:07:00","19:34:00","19:45:00",null,null,null,null,"木次","普通",null,null,"",{"$f":"_xlfn.IFNA(MATCH(N39,設定_主要駅!$B$2:$B$15,0),IF(N39=\"備後落合\",14,9))","v":12},"",36,"01:39:00",37,{"$f":"IFERROR(IF(AND(E39<>\"\",G39=\"\",E39<=MAX(G40:G$70)),IF(SMALL(G40:G$70,1)-E39>0,SMALL(G40:G$70,1),SMALL(G40:G$70,2)),\"\"),\"\")","v":""},{"$f":"IFERROR(IF(AND(I39<>\"\",K39=\"\",I39<=MAX(K40:K$70)),IF(SMALL(K40:K$70,1)-I39>0,SMALL(K40:K$70,1),SMALL(K40:K$70,2)),\"\"),\"\")","v":"21:24:00"}]
["1019M","18:40:00","18:55:00","18:59:00","19:19:00",null,null,null,null,null,null,null,null,"出雲市","特急","やくも19号",null,"",{"$f":"_xlfn.IFNA(MATCH(N40,設定_主要駅!$B$2:$B$15,0),IF(N40=\"備後落合\",14,9))","v":3},"","","01:28:00",38,{"$f":"IFERROR(IF(AND(E40<>\"\",G40=\"\",E40<=MAX(G41:G$70)),IF(SMALL(G41:G$70,1)-E40>0,SMALL(G41:G$70,1),SMALL(G41:G$70,2)),\"\"),\"\")","v":"20:47:00"},{"$f":"IFERROR(IF(AND(I40<>\"\",K40=\"\",I40<=MAX(K41:K$70)),IF(SMALL(K41:K$70,1)-I40>0,SMALL(K41:K$70,1),SMALL(K41:K$70,2)),\"\"),\"\")","v":""}]
["2009D","19:01:00","19:16:00","19:18:00","19:39:00",null,null,null,null,null,null,null,null,"益田","特急","スーパーまつかぜ9号",null,"",{"$f":"_xlfn.IFNA(MATCH(N41,設定_主要駅!$B$2:$B$15,0),IF(N41=\"備後落合\",14,9))","v":7},"","","01:08:00",39,{"$f":"IFERROR(IF(AND(E41<>\"\",G41=\"\",E41<=MAX(G42:G$70)),IF(SMALL(G42:G$70,1)-E41>0,SMALL(G42:G$70,1),SMALL(G42:G$70,2)),\"\"),\"\")","v":"20:47:00"},{"$f":"IFERROR(IF(AND(I41<>\"\",K41=\"\",I41<=MAX(K42:K$70)),IF(SMALL(K42:K$70,1)-I41>0,SMALL(K42:K$70,1),SMALL(K42:K$70,2)),\"\"),\"\")","v":""}]
["151D","18:46:00","19:06:00","19:27:00","19:53:00",null,null,null,null,null,null,null,null,"出雲市","普通",null,null,"",{"$f":"_xlfn.IFNA(MATCH(N42,設定_主要駅!$B$2:$B$15,0),IF(N42=\"備後落合\",14,9))","v":3},"","","00:54:00",40,{"$f":"IFERROR(IF(AND(E42<>\"\",G42=\"\",E42<=MAX(G43:G$70)),IF(SMALL(G43:G$70,1)-E42>0,SMALL(G43:G$70,1),SMALL(G43:G$70,2)),\"\"),\"\")","v":"20:47:00"},{"$f":"IFERROR(IF(AND(I42<>\"\",K42=\"\",I42<=MAX(K43:K$70)),IF(SMALL(K43:K$70,1)-I42>0,SMALL(K43:K$70,1),SMALL(K43:K$70,2)),\"\"),\"\")","v":""}]
["1021M","19:45:00","20:00:00","20:01:00","20:14:00",null,null,null,null,null,null,null,null,"出雲市","特急","やくも21号",null,"宍道",{"$f":"_xlfn.IFNA(MATCH(N43,設定_主要駅!$B$2:$B$15,0),IF(N43=\"備後落合\",14,9))","v":3},43,"","00:33:00",41,{"$f":"IFERROR(IF(AND(E43<>\"\",G43=\"\",E43<=MAX(G44:G$70)),IF(SMALL(G44:G$70,1)-E43>0,SMALL(G44:G$70,1),SMALL(G44:G$70,2)),\"\"),\"\")","v":"20:47:00"},{"$f":"IFERROR(IF(AND(I43<>\"\",K43=\"\",I43<=MAX(K44:K$70)),IF(SMALL(K44:K$70,1)-I43>0,SMALL(K44:K$70,1),SMALL(K44:K$70,2)),\"\"),\"\")","v":""}]
["153D","19:21:00","19:47:00","20:04:00","20:34:00",null,null,null,null,null,null,null,null,"出雲市","普通",null,null,"宍道",{"$f":"_xlfn.IFNA(MATCH(N44,設定_主要駅!$B$2:$B$15,0),IF(N44=\"備後落合\",14,9))","v":3},43,"","00:13:00",42,{"$f":"IFERROR(IF(AND(E44<>\"\",G44=\"\",E44<=MAX(G45:G$70)),IF(SMALL(G45:G$70,1)-E44>0,SMALL(G45:G$70,1),SMALL(G45:G$70,2)),\"\"),\"\")","v":"20:47:00"},{"$f":"IFERROR(IF(AND(I44<>\"\",K44=\"\",I44<=MAX(K45:K$70)),IF(SMALL(K45:K$70,1)-I44>0,SMALL(K45:K$70,1),SMALL(K45:K$70,2)),\"\"),\"\")","v":""}]
[null,null,null,null,null,"1461D","20:47:00","21:10:00","21:22:00","5465D","21:24:00","22:02:00","22:23:00","出雲横田","普通",null,"◆土曜運休","",{"$f":"_xlfn.IFNA(MATCH(N45,設定_主要駅!$B$2:$B$15,0),IF(N45=\"備後落合\",14,9))","v":14},"",41,"",43,{"$f":"IFERROR(IF(AND(E45<>\"\",G45=\"\",E45<=MAX(G46:G$70)),IF(SMALL(G46:G$70,1)-E45>0,SMALL(G46:G$70,1),SMALL(G46:G$70,2)),\"\"),\"\")","v":""},{"$f":"IFERROR(IF(AND(I45<>\"\",K45=\"\",I45<=MAX(K46:K$70)),IF(SMALL(K46:K$70,1)-I45>0,SMALL(K46:K$70,1),SMALL(K46:K$70,2)),\"\"),\"\")","v":""}]
["1023M","20:44:00","20:59:00","21:00:00","21:12:00",null,null,null,null,null,null,null,null,"出雲市","特急","やくも23号",null,"宍道",{"$f":"_xlfn.IFNA(MATCH(N46,設定_主要駅!$B$2:$B$15,0),IF(N46=\"備後落合\",14,9))","v":3},46,"","00:27:00",44,{"$f":"IFERROR(IF(AND(E46<>\"\",G46=\"\",E46<=MAX(G47:G$70)),IF(SMALL(G47:G$70,1)-E46>0,SMALL(G47:G$70,1),SMALL(G47:G$70,2)),\"\"),\"\")","v":"21:39:00"},{"$f":"IFERROR(IF(AND(I46<>\"\",K46=\"\",I46<=MAX(K47:K$70)),IF(SMALL(K47:K$70,1)-I46>0,SMALL(K47:K$70,1),SMALL(K47:K$70,2)),\"\"),\"\")","v":""}]
["155D","20:23:00","20:48:00","21:07:00","21:25:00",null,null,null,null,null,null,null,null,"出雲市","普通",null,null,"宍道",{"$f":"_xlfn.IFNA(MATCH(N47,設定_主要駅!$B$2:$B$15,0),IF(N47=\"備後落合\",14,9))","v":3},46,"","00:14:00",45,{"$f":"IFERROR(IF(AND(E47<>\"\",G47=\"\",E47<=MAX(G48:G$70)),IF(SMALL(G48:G$70,1)-E47>0,SMALL(G48:G$70,1),SMALL(G48:G$70,2)),\"\"),\"\")","v":"21:39:00"},{"$f":"IFERROR(IF(AND(I47<>\"\",K47=\"\",I47<=MAX(K48:K$70)),IF(SMALL(K48:K$70,1)-I47>0,SMALL(K48:K$70,1),SMALL(K48:K$70,2)),\"\"),\"\")","v":""}]
[null,null,null,null,null,"1463D","21:39:00","22:02:00","22:13:00",null,null,null,null,"木次","普通",null,null,"",{"$f":"_xlfn.IFNA(MATCH(N48,設定_主要駅!$B$2:$B$15,0),IF(N48=\"備後落合\",14,9))","v":12},"",44,"",46,{"$f":"IFERROR(IF(AND(E48<>\"\",G48=\"\",E48<=MAX(G49:G$70)),IF(SMALL(G49:G$70,1)-E48>0,SMALL(G49:G$70,1),SMALL(G49:G$70,2)),\"\"),\"\")","v":""},{"$f":"IFERROR(IF(AND(I48<>\"\",K48=\"\",I48<=MAX(K49:K$70)),IF(SMALL(K49:K$70,1)-I48>0,SMALL(K49:K$70,1),SMALL(K49:K$70,2)),\"\"),\"\")","v":""}]

{"sheet":"益田・出雲市→木次線_下り","index":12,"n_rows":63,"n_cols":43,"rows_kept":63,"cut":false,"hidden":true,"merged":[]}
[null,"津和野町",null,"益田市",null,null,"浜田市",null,null,"江津市",null,"大田市",null,"出雲市",null,null,null,null,null,"雲南市",null,null,null,"雲南市","奥出雲町",null,null,null,null,null,null,"行きで参照","帰りで参照"]
["列車番号","津和野発","日原発","益田着","列車番号","益田発","浜田着","列車番号","浜田発","江津着","江津発","大田市着","大田市発","出雲市着","列車番号","出雲市発","宍道着","列車番号","宍道発","出雲大東着","木次着","列車番号","木次発","出雲三成着","出雲横田着","行先","種別","列車名","備考","接続","行先駅","接続行①","接続行②","接続時間","番号","益田","浜田","出雲市","宍道","木次",null,"接続時間","00:35:01"]
[null,null,null,null,null,null,null,"362D",null,null,null,null,"06:14:00","07:04:00",null,null,null,null,null,null,null,null,null,null,null,"出雲市","普通",null,null,{"$f":"IF(AH3<=$AQ$2,IF(AJ3<>\"\",AJ$2,IF(AK3<>\"\",AK$2,IF(AL3<>\"\",AL$2,IF(AM3<>\"\",AM$2,IF(AN3<>\"\",AN$2,\"\"))))),\"\")","v":"出雲市"},{"$f":"_xlfn.IFNA(MATCH(Z3,設定_主要駅!$B$2:$B$15,0),IF(Z3=\"備後落合\",14,1))","v":3},{"$f":"IF(AH3<=$AQ$2,IF(AJ3<>\"\",MATCH(AJ3,$F:$F,0)-2,IF(AK3<>\"\",MATCH(AK3,$I:$I,0)-2,IF(AL3<>\"\",MATCH(AL3,$P:$P,0)-2,IF(AM3<>\"\",MATCH(AM3,$S:$S,0)-2,IF(AN3<>\"\",MATCH(AN3,$W:$W,0)-2,\"\"))))),\"\")","v":2},{"$f":"_xlfn.IFNA(MATCH(ROW()-2,AF:AF,0)-2,\"\")","v":""},{"$f":"IF(AJ3<>\"\",AJ3-D3,IF(AK3<>\"\",AK3-G3,IF(AL3<>\"\",AL3-N3,IF(AM3<>\"\",AM3-Q3,IF(AN3<>\"\",AN3-U3,\"\")))))","v":"00:03:00"},1,{"$f":"IFERROR(IF(AND(D3<>\"\",F3=\"\",D3<=MAX(F4:F$72)),IF(SMALL(F4:F$72,1)-D3>0,SMALL(F4:F$72,1),SMALL(F4:F$72,2)),\"\"),\"\")","v":""},{"$f":"IFERROR(IF(AND(G3<>\"\",I3=\"\",G3<=MAX(I4:I$72)),IF(SMALL(I4:I$72,1)-G3>0,SMALL(I4:I$72,1),SMALL(I4:I$72,2)),\"\"),\"\")","v":""},{"$f":"IFERROR(IF(AND(N3<>\"\",P3=\"\",N3<=MAX(P4:P$72)),IF(SMALL(P4:P$72,1)-N3>0,SMALL(P4:P$72,1),SMALL(P4:P$72,2)),\"\"),\"\")","v":"07:07:00"},{"$f":"IFERROR(IF(AND(Q3<>\"\",S3=\"\",Q3<=MAX(S4:S$72)),IF(SMALL(S4:S$72,1)-Q3>0,SMALL(S4:S$72,1),SMALL(S4:S$72,2)),\"\"),\"\")","v":""},{"$f":"IFERROR(IF(AND(U3<>\"\",W3=\"\",U3<=MAX(W4:W$72)),IF(SMALL(W4:W$72,1)-U3>0,SMALL(W4:W$72,1),SMALL(W4:W$72,2)),\"\"),\"\")","v":""}]
[null,null,null,null,null,null,null,null,null,null,null,null,null,null,"126D","07:07:00","07:24:00",null,null,null,null,null,null,null,null,"米子","普通",null,null,{"$f":"IF(AH4<=$AQ$2,IF(AJ4<>\"\",AJ$2,IF(AK4<>\"\",AK$2,IF(AL4<>\"\",AL$2,IF(AM4<>\"\",AM$2,IF(AN4<>\"\",AN$2,\"\"))))),\"\")","v":"宍道"},{"$f":"_xlfn.IFNA(MATCH(Z4,設定_主要駅!$B$2:$B$15,0),IF(Z4=\"備後落合\",14,1))","v":1},3,1,{"$f":"IF(AJ4<>\"\",AJ4-D4,IF(AK4<>\"\",AK4-G4,IF(AL4<>\"\",AL4-N4,IF(AM4<>\"\",AM4-Q4,IF(AN4<>\"\",AN4-U4,\"\")))))","v":"00:05:00"},2,{"$f":"IFERROR(IF(AND(D4<>\"\",F4=\"\",D4<=MAX(F5:F$72)),IF(SMALL(F5:F$72,1)-D4>0,SMALL(F5:F$72,1),SMALL(F5:F$72,2)),\"\"),\"\")","v":""},{"$f":"IFERROR(IF(AND(G4<>\"\",I4=\"\",G4<=MAX(I5:I$72)),IF(SMALL(I5:I$72,1)-G4>0,SMALL(I5:I$72,1),SMALL(I5:I$72,2)),\"\"),\"\")","v":""},{"$f":"IFERROR(IF(AND(N4<>\"\",P4=\"\",N4<=MAX(P5:P$72)),IF(SMALL(P5:P$72,1)-N4>0,SMALL(P5:P$72,1),SMALL(P5:P$72,2)),\"\"),\"\")","v":""},{"$f":"IFERROR(IF(AND(Q4<>\"\",S4=\"\",Q4<=MAX(S5:S$72)),IF(SMALL(S5:S$72,1)-Q4>0,SMALL(S5:S$72,1),SMALL(S5:S$72,2)),\"\"),\"\")","v":"07:29:00"},{"$f":"IFERROR(IF(AND(U4<>\"\",W4=\"\",U4<=MAX(W5:W$72)),IF(SMALL(W5:W$72,1)-U4>0,SMALL(W5:W$72,1),SMALL(W5:W$72,2)),\"\"),\"\")","v":""}]
[null,null,null,null,null,null,null,null,null,null,null,null,null,null,null,null,null,"1443D","07:29:00","07:53:00","08:04:00",null,null,null,null,"木次","普通",null,null,"",{"$f":"_xlfn.IFNA(MATCH(Z5,設定_主要駅!$B$2:$B$15,0),IF(Z5=\"備後落合\",14,1))","v":12},"",2,"02:14:00",3,{"$f":"IFERROR(IF(AND(D5<>\"\",F5=\"\",D5<=MAX(F6:F$72)),IF(SMALL(F6:F$72,1)-D5>0,SMALL(F6:F$72,1),SMALL(F6:F$72,2)),\"\"),\"\")","v":""},{"$f":"IFERROR(IF(AND(G5<>\"\",I5=\"\",G5<=MAX(I6:I$72)),IF(SMALL(I6:I$72,1)-G5>0,SMALL(I6:I$72,1),SMALL(I6:I$72,2)),\"\"),\"\")","v":""},{"$f":"IFERROR(IF(AND(N5<>\"\",P5=\"\",N5<=MAX(P6:P$72)),IF(SMALL(P6:P$72,1)-N5>0,SMALL(P6:P$72,1),SMALL(P6:P$72,2)),\"\"),\"\")","v":""},{"$f":"IFERROR(IF(AND(Q5<>\"\",S5=\"\",Q5<=MAX(S6:S$72)),IF(SMALL(S6:S$72,1)-Q5>0,SMALL(S6:S$72,1),SMALL(S6:S$72,2)),\"\"),\"\")","v":""},{"$f":"IFERROR(IF(AND(U5<>\"\",W5=\"\",U5<=MAX(W6:W$72)),IF(SMALL(W6:W$72,1)-U5>0,SMALL(W6:W$72,1),SMALL(W6:W$72,2)),\"\"),\"\")","v":"10:18:00"}]
[null,null,null,null,"2004D","05:34:00","06:09:00",null,"06:11:00","06:25:00","06:26:00","06:52:00","06:53:00","07:21:00",null,"07:23:00",null,null,null,null,null,null,null,null,null,"鳥取","特急","スーパーまつかぜ4号",null,"",{"$f":"_xlfn.IFNA(MATCH(Z6,設定_主要駅!$B$2:$B$15,0),IF(Z6=\"備後落合\",14,1))","v":1},"","","",4,{"$f":"IFERROR(IF(AND(D6<>\"\",F6=\"\",D6<=MAX(F7:F$72)),IF(SMALL(F7:F$72,1)-D6>0,SMALL(F7:F$72,1),SMALL(F7:F$72,2)),\"\"),\"\")","v":""},{"$f":"IFERROR(IF(AND(G6<>\"\",I6=\"\",G6<=MAX(I7:I$72)),IF(SMALL(I7:I$72,1)-G6>0,SMALL(I7:I$72,1),SMALL(I7:I$72,2)),\"\"),\"\")","v":""},{"$f":"IFERROR(IF(AND(N6<>\"\",P6=\"\",N6<=MAX(P7:P$72)),IF(SMALL(P7:P$72,1)-N6>0,SMALL(P7:P$72,1),SMALL(P7:P$72,2)),\"\"),\"\")","v":""},{"$f":"IFERROR(IF(AND(Q6<>\"\",S6=\"\",Q6<=MAX(S7:S$72)),IF(SMALL(S7:S$72,1)-Q6>0,SMALL(S7:S$72,1),SMALL(S7:S$72,2)),\"\"),\"\")","v":""},{"$f":"IFERROR(IF(AND(U6<>\"\",W6=\"\",U6<=MAX(W7:W$72)),IF(SMALL(W7:W$72,1)-U6>0,SMALL(W7:W$72,1),SMALL(W7:W$72,2)),\"\"),\"\")","v":""}]
[null,null,null,null,null,null,null,null,null,null,null,null,null,null,"1008M","07:30:00","07:41:00",null,null,null,null,null,null,null,null,"岡山","特急","やくも8号",null,"",{"$f":"_xlfn.IFNA(MATCH(Z7,設定_主要駅!$B$2:$B$15,0),IF(Z7=\"備後落合\",14,1))","v":1},"","","01:29:00",5,{"$f":"IFERROR(IF(AND(D7<>\"\",F7=\"\",D7<=MAX(F8:F$72)),IF(SMALL(F8:F$72,1)-D7>0,SMALL(F8:F$72,1),SMALL(F8:F$72,2)),\"\"),\"\")","v":""},{"$f":"IFERROR(IF(AND(G7<>\"\",I7=\"\",G7<=MAX(I8:I$72)),IF(SMALL(I8:I$72,1)-G7>0,SMALL(I8:I$72,1),SMALL(I8:I$72,2)),\"\"),\"\")","v":""},{"$f":"IFERROR(IF(AND(N7<>\"\",P7=\"\",N7<=MAX(P8:P$72)),IF(SMALL(P8:P$72,1)-N7>0,SMALL(P8:P$72,1),SMALL(P8:P$72,2)),\"\"),\"\")","v":""},{"$f":"IFERROR(IF(AND(Q7<>\"\",S7=\"\",Q7<=MAX(S8:S$72)),IF(SMALL(S8:S$72,1)-Q7>0,SMALL(S8:S$72,1),SMALL(S8:S$72,2)),\"\"),\"\")","v":"09:10:00"},{"$f":"IFERROR(IF(AND(U7<>\"\",W7=\"\",U7<=MAX(W8:W$72)),IF(SMALL(W8:W$72,1)-U7>0,SMALL(W8:W$72,1),SMALL(W8:W$72,2)),\"\"),\"\")","v":""}]
[null,null,null,null,null,null,null,"320D","05:22:00","05:48:00","05:50:00","06:38:00","06:58:00","07:49:00",null,null,null,null,null,null,null,null,null,null,null,"出雲市","普通",null,null,"出雲市",{"$f":"_xlfn.IFNA(MATCH(Z8,設定_主要駅!$B$2:$B$15,0),IF(Z8=\"備後落合\",14,1))","v":3},7,"","00:01:00",6,{"$f":"IFERROR(IF(AND(D8<>\"\",F8=\"\",D8<=MAX(F9:F$72)),IF(SMALL(F9:F$72,1)-D8>0,SMALL(F9:F$72,1),SMALL(F9:F$72,2)),\"\"),\"\")","v":""},{"$f":"IFERROR(IF(AND(G8<>\"\",I8=\"\",G8<=MAX(I9:I$72)),IF(SMALL(I9:I$72,1)-G8>0,SMALL(I9:I$72,1),SMALL(I9:I$72,2)),\"\"),\"\")","v":""},{"$f":"IFERROR(IF(AND(N8<>\"\",P8=\"\",N8<=MAX(P9:P$72)),IF(SMALL(P9:P$72,1)-N8>0,SMALL(P9:P$72,1),SMALL(P9:P$72,2)),\"\"),\"\")","v":"07:50:00"},{"$f":"IFERROR(IF(AND(Q8<>\"\",S8=\"\",Q8<=MAX(S9:S$72)),IF(SMALL(S9:S$72,1)-Q8>0,SMALL(S9:S$72,1),SMALL(S9:S$72,2)),\"\"),\"\")","v":""},{"$f":"IFERROR(IF(AND(U8<>\"\",W8=\"\",U8<=MAX(W9:W$72)),IF(SMALL(W9:W$72,1)-U8>0,SMALL(W9:W$72,1),SMALL(W9:W$72,2)),\"\"),\"\")","v":""}]
[null,null,null,null,null,null,null,null,null,null,null,null,null,null,"128D","07:50:00","08:08:00",null,null,null,null,null,null,null,null,"米子","普通",null,null,"",{"$f":"_xlfn.IFNA(MATCH(Z9,設定_主要駅!$B$2:$B$15,0),IF(Z9=\"備後落合\",14,1))","v":1},"",6,"01:02:00",7,{"$f":"IFERROR(IF(AND(D9<>\"\",F9=\"\",D9<=MAX(F10:F$72)),IF(SMALL(F10:F$72,1)-D9>0,SMALL(F10:F$72,1),SMALL(F10:F$72,2)),\"\"),\"\")","v":""},{"$f":"IFERROR(IF(AND(G9<>\"\",I9=\"\",G9<=MAX(I10:I$72)),IF(SMALL(I10:I$72,1)-G9>0,SMALL(I10:I$72,1),SMALL(I10:I$72,2)),\"\"),\"\")","v":""},{"$f":"IFERROR(IF(AND(N9<>\"\",P9=\"\",N9<=MAX(P10:P$72)),IF(SMALL(P10:P$72,1)-N9>0,SMALL(P10:P$72,1),SMALL(P10:P$72,2)),\"\"),\"\")","v":""},{"$f":"IFERROR(IF(AND(Q9<>\"\",S9=\"\",Q9<=MAX(S10:S$72)),IF(SMALL(S10:S$72,1)-Q9>0,SMALL(S10:S$72,1),SMALL(S10:S$72,2)),\"\"),\"\")","v":"09:10:00"},{"$f":"IFERROR(IF(AND(U9<>\"\",W9=\"\",U9<=MAX(W10:W$72)),IF(SMALL(W10:W$72,1)-U9>0,SMALL(W10:W$72,1),SMALL(W10:W$72,2)),\"\"),\"\")","v":""}]
[null,null,null,null,null,null,null,null,null,null,null,null,null,null,"1010M","08:34:00","08:47:00",null,null,null,null,null,null,null,null,"岡山","特急","やくも10号",null,"宍道",{"$f":"_xlfn.IFNA(MATCH(Z10,設定_主要駅!$B$2:$B$15,0),IF(Z10=\"備後落合\",14,1))","v":1},12,"","00:23:00",8,{"$f":"IFERROR(IF(AND(D10<>\"\",F10=\"\",D10<=MAX(F11:F$72)),IF(SMALL(F11:F$72,1)-D10>0,SMALL(F11:F$72,1),SMALL(F11:F$72,2)),\"\"),\"\")","v":""},{"$f":"IFERROR(IF(AND(G10<>\"\",I10=\"\",G10<=MAX(I11:I$72)),IF(SMALL(I11:I$72,1)-G10>0,SMALL(I11:I$72,1),SMALL(I11:I$72,2)),\"\"),\"\")","v":""},{"$f":"IFERROR(IF(AND(N10<>\"\",P10=\"\",N10<=MAX(P11:P$72)),IF(SMALL(P11:P$72,1)-N10>0,SMALL(P11:P$72,1),SMALL(P11:P$72,2)),\"\"),\"\")","v":""},{"$f":"IFERROR(IF(AND(Q10<>\"\",S10=\"\",Q10<=MAX(S11:S$72)),IF(SMALL(S11:S$72,1)-Q10>0,SMALL(S11:S$72,1),SMALL(S11:S$72,2)),\"\"),\"\")","v":"09:10:00"},{"$f":"IFERROR(IF(AND(U10<>\"\",W10=\"\",U10<=MAX(W11:W$72)),IF(SMALL(W11:W$72,1)-U10>0,SMALL(W11:W$72,1),SMALL(W11:W$72,2)),\"\"),\"\")","v":""}]
[null,null,null,null,null,null,null,null,null,null,null,null,null,null,"132D","08:39:00","08:57:00",null,null,null,null,null,null,null,null,"米子","普通",null,null,{"$f":"IF(AH11<=$AQ$2,IF(AJ11<>\"\",AJ$2,IF(AK11<>\"\",AK$2,IF(AL11<>\"\",AL$2,IF(AM11<>\"\",AM$2,IF(AN11<>\"\",AN$2,\"\"))))),\"\")","v":"宍道"},{"$f":"_xlfn.IFNA(MATCH(Z11,設定_主要駅!$B$2:$B$15,0),IF(Z11=\"備後落合\",14,1))","v":1},{"$f":"IF(AH11<=$AQ$2,IF(AJ11<>\"\",MATCH(AJ11,$F:$F,0)-2,IF(AK11<>\"\",MATCH(AK11,$I:$I,0)-2,IF(AL11<>\"\",MATCH(AL11,$P:$P,0)-2,IF(AM11<>\"\",MATCH(AM11,$S:$S,0)-2,IF(AN11<>\"\",MATCH(AN11,$W:$W,0)-2,\"\"))))),\"\")","v":12},{"$f":"_xlfn.IFNA(MATCH(ROW()-2,AF:AF,0)-2,\"\")","v":""},{"$f":"IF(AJ11<>\"\",AJ11-D11,IF(AK11<>\"\",AK11-G11,IF(AL11<>\"\",AL11-N11,IF(AM11<>\"\",AM11-Q11,IF(AN11<>\"\",AN11-U11,\"\")))))","v":"00:13:00"},9,{"$f":"IFERROR(IF(AND(D11<>\"\",F11=\"\",D11<=MAX(F12:F$72)),IF(SMALL(F12:F$72,1)-D11>0,SMALL(F12:F$72,1),SMALL(F12:F$72,2)),\"\"),\"\")","v":""},{"$f":"IFERROR(IF(AND(G11<>\"\",I11=\"\",G11<=MAX(I12:I$72)),IF(SMALL(I12:I$72,1)-G11>0,SMALL(I12:I$72,1),SMALL(I12:I$72,2)),\"\"),\"\")","v":""},{"$f":"IFERROR(IF(AND(N11<>\"\",P11=\"\",N11<=MAX(P12:P$72)),IF(SMALL(P12:P$72,1)-N11>0,SMALL(P12:P$72,1),SMALL(P12:P$72,2)),\"\"),\"\")","v":""},{"$f":"IFERROR(IF(AND(Q11<>\"\",S11=\"\",Q11<=MAX(S12:S$72)),IF(SMALL(S12:S$72,1)-Q11>0,SMALL(S12:S$72,1),SMALL(S12:S$72,2)),\"\"),\"\")","v":"09:10:00"},{"$f":"IFERROR(IF(AND(U11<>\"\",W11=\"\",U11<=MAX(W12:W$72)),IF(SMALL(W12:W$72,1)-U11>0,SMALL(W12:W$72,1),SMALL(W12:W$72,2)),\"\"),\"\")","v":""}]
[null,null,null,null,"420D","05:42:00","06:32:00","322D","06:34:00","07:01:00","07:02:00","07:59:00","08:02:00","08:50:00",null,null,null,null,null,null,null,null,null,null,null,"出雲","普通",null,null,"出雲市",{"$f":"_xlfn.IFNA(MATCH(Z12,設定_主要駅!$B$2:$B$15,0),IF(Z12=\"備後落合\",14,1))","v":1},11,"","00:06:00",10,{"$f":"IFERROR(IF(AND(D12<>\"\",F12=\"\",D12<=MAX(F13:F$72)),IF(SMALL(F13:F$72,1)-D12>0,SMALL(F13:F$72,1),SMALL(F13:F$72,2)),\"\"),\"\")","v":""},{"$f":"IFERROR(IF(AND(G12<>\"\",I12=\"\",G12<=MAX(I13:I$72)),IF(SMALL(I13:I$72,1)-G12>0,SMALL(I13:I$72,1),SMALL(I13:I$72,2)),\"\"),\"\")","v":""},{"$f":"IFERROR(IF(AND(N12<>\"\",P12=\"\",N12<=MAX(P13:P$72)),IF(SMALL(P13:P$72,1)-N12>0,SMALL(P13:P$72,1),SMALL(P13:P$72,2)),\"\"),\"\")","v":"08:56:00"},{"$f":"IFERROR(IF(AND(Q12<>\"\",S12=\"\",Q12<=MAX(S13:S$72)),IF(SMALL(S13:S$72,1)-Q12>0,SMALL(S13:S$72,1),SMALL(S13:S$72,2)),\"\"),\"\")","v":""},{"$f":"IFERROR(IF(AND(U12<>\"\",W12=\"\",U12<=MAX(W13:W$72)),IF(SMALL(W13:W$72,1)-U12>0,SMALL(W13:W$72,1),SMALL(W13:W$72,2)),\"\"),\"\")","v":""}]
[null,null,null,null,"2006D","06:53:00","07:28:00",null,"07:30:00","07:53:00","07:56:00","08:28:00","08:29:00","08:54:00",null,"08:56:00","09:07:00",null,null,null,null,null,null,null,null,"鳥取","特急","スーパーまつかぜ6号",null,"宍道",{"$f":"_xlfn.IFNA(MATCH(Z13,設定_主要駅!$B$2:$B$15,0),IF(Z13=\"備後落合\",14,1))","v":1},12,10,"00:03:00",11,{"$f":"IFERROR(IF(AND(D13<>\"\",F13=\"\",D13<=MAX(F14:F$72)),IF(SMALL(F14:F$72,1)-D13>0,SMALL(F14:F$72,1),SMALL(F14:F$72,2)),\"\"),\"\")","v":""},{"$f":"IFERROR(IF(AND(G13<>\"\",I13=\"\",G13<=MAX(I14:I$72)),IF(SMALL(I14:I$72,1)-G13>0,SMALL(I14:I$72,1),SMALL(I14:I$72,2)),\"\"),\"\")","v":""},{"$f":"IFERROR(IF(AND(N13<>\"\",P13=\"\",N13<=MAX(P14:P$72)),IF(SMALL(P14:P$72,1)-N13>0,SMALL(P14:P$72,1),SMALL(P14:P$72,2)),\"\"),\"\")","v":""},{"$f":"IFERROR(IF(AND(Q13<>\"\",S13=\"\",Q13<=MAX(S14:S$72)),IF(SMALL(S14:S$72,1)-Q13>0,SMALL(S14:S$72,1),SMALL(S14:S$72,2)),\"\"),\"\")","v":"09:10:00"},{"$f":"IFERROR(IF(AND(U13<>\"\",W13=\"\",U13<=MAX(W14:W$72)),IF(SMALL(W14:W$72,1)-U13>0,SMALL(W14:W$72,1),SMALL(W14:W$72,2)),\"\"),\"\")","v":""}]
[null,null,null,null,null,null,null,null,null,null,null,null,null,null,null,null,null,"1445D","09:10:00","09:33:00","09:44:00",null,null,null,null,"木次","普通",null,null,"木次",{"$f":"_xlfn.IFNA(MATCH(Z14,設定_主要駅!$B$2:$B$15,0),IF(Z14=\"備後落合\",14,1))","v":12},13,8,"00:34:00",12,{"$f":"IFERROR(IF(AND(D14<>\"\",F14=\"\",D14<=MAX(F15:F$72)),IF(SMALL(F15:F$72,1)-D14>0,SMALL(F15:F$72,1),SMALL(F15:F$72,2)),\"\"),\"\")","v":""},{"$f":"IFERROR(IF(AND(G14<>\"\",I14=\"\",G14<=MAX(I15:I$72)),IF(SMALL(I15:I$72,1)-G14>0,SMALL(I15:I$72,1),SMALL(I15:I$72,2)),\"\"),\"\")","v":""},{"$f":"IFERROR(IF(AND(N14<>\"\",P14=\"\",N14<=MAX(P15:P$72)),IF(SMALL(P15:P$72,1)-N14>0,SMALL(P15:P$72,1),SMALL(P15:P$72,2)),\"\"),\"\")","v":""},{"$f":"IFERROR(IF(AND(Q14<>\"\",S14=\"\",Q14<=MAX(S15:S$72)),IF(SMALL(S15:S$72,1)-Q14>0,SMALL(S15:S$72,1),SMALL(S15:S$72,2)),\"\"),\"\")","v":""},{"$f":"IFERROR(IF(AND(U14<>\"\",W14=\"\",U14<=MAX(W15:W$72)),IF(SMALL(W15:W$72,1)-U14>0,SMALL(W15:W$72,1),SMALL(W15:W$72,2)),\"\"),\"\")","v":"10:18:00"}]
[null,null,null,null,null,null,null,null,null,null,null,null,null,null,null,null,null,null,null,null,null,"9445D","10:18:00","10:58:00","11:20:00","出雲横田","普通",null,"◆3月16日～6月30日の運行（あめつち運行日除く）","",{"$f":"_xlfn.IFNA(MATCH(Z15,設定_主要駅!$B$2:$B$15,0),IF(Z15=\"備後落合\",14,1))","v":14},"",12,"",13,{"$f":"IFERROR(IF(AND(D15<>\"\",F15=\"\",D15<=MAX(F16:F$72)),IF(SMALL(F16:F$72,1)-D15>0,SMALL(F16:F$72,1),SMALL(F16:F$72,2)),\"\"),\"\")","v":""},{"$f":"IFERROR(IF(AND(G15<>\"\",I15=\"\",G15<=MAX(I16:I$72)),IF(SMALL(I16:I$72,1)-G15>0,SMALL(I16:I$72,1),SMALL(I16:I$72,2)),\"\"),\"\")","v":""},{"$f":"IFERROR(IF(AND(N15<>\"\",P15=\"\",N15<=MAX(P16:P$72)),IF(SMALL(P16:P$72,1)-N15>0,SMALL(P16:P$72,1),SMALL(P16:P$72,2)),\"\"),\"\")","v":""},{"$f":"IFERROR(IF(AND(Q15<>\"\",S15=\"\",Q15<=MAX(S16:S$72)),IF(SMALL(S16:S$72,1)-Q15>0,SMALL(S16:S$72,1),SMALL(S16:S$72,2)),\"\"),\"\")","v":""},{"$f":"IFERROR(IF(AND(U15<>\"\",W15=\"\",U15<=MAX(W16:W$72)),IF(SMALL(W16:W$72,1)-U15>0,SMALL(W16:W$72,1),SMALL(W16:W$72,2)),\"\"),\"\")","v":""}]
[null,null,null,null,null,null,null,null,null,null,null,null,null,null,"1012M","09:40:00","09:55:00",null,null,null,null,null,null,null,null,"岡山","特急","やくも12号",null,"",{"$f":"_xlfn.IFNA(MATCH(Z16,設定_主要駅!$B$2:$B$15,0),IF(Z16=\"備後落合\",14,1))","v":1},"","","01:22:00",14,{"$f":"IFERROR(IF(AND(D16<>\"\",F16=\"\",D16<=MAX(F17:F$72)),IF(SMALL(F17:F$72,1)-D16>0,SMALL(F17:F$72,1),SMALL(F17:F$72,2)),\"\"),\"\")","v":""},{"$f":"IFERROR(IF(AND(G16<>\"\",I16=\"\",G16<=MAX(I17:I$72)),IF(SMALL(I17:I$72,1)-G16>0,SMALL(I17:I$72,1),SMALL(I17:I$72,2)),\"\"),\"\")","v":""},{"$f":"IFERROR(IF(AND(N16<>\"\",P16=\"\",N16<=MAX(P17:P$72)),IF(SMALL(P17:P$72,1)-N16>0,SMALL(P17:P$72,1),SMALL(P17:P$72,2)),\"\"),\"\")","v":""},{"$f":"IFERROR(IF(AND(Q16<>\"\",S16=\"\",Q16<=MAX(S17:S$72)),IF(SMALL(S17:S$72,1)-Q16>0,SMALL(S17:S$72,1),SMALL(S17:S$72,2)),\"\"),\"\")","v":"11:17:00"},{"$f":"IFERROR(IF(AND(U16<>\"\",W16=\"\",U16<=MAX(W17:W$72)),IF(SMALL(W17:W$72,1)-U16>0,SMALL(W17:W$72,1),SMALL(W17:W$72,2)),\"\"),\"\")","v":""}]
[null,null,null,null,null,null,null,null,null,null,null,null,null,null,"282M","10:06:00","10:24:00",null,null,null,null,null,null,null,null,"米子","普通",null,null,"",{"$f":"_xlfn.IFNA(MATCH(Z17,設定_主要駅!$B$2:$B$15,0),IF(Z17=\"備後落合\",14,1))","v":1},"","","00:53:00",15,{"$f":"IFERROR(IF(AND(D17<>\"\",F17=\"\",D17<=MAX(F18:F$72)),IF(SMALL(F18:F$72,1)-D17>0,SMALL(F18:F$72,1),SMALL(F18:F$72,2)),\"\"),\"\")","v":""},{"$f":"IFERROR(IF(AND(G17<>\"\",I17=\"\",G17<=MAX(I18:I$72)),IF(SMALL(I18:I$72,1)-G17>0,SMALL(I18:I$72,1),SMALL(I18:I$72,2)),\"\"),\"\")","v":""},{"$f":"IFERROR(IF(AND(N17<>\"\",P17=\"\",N17<=MAX(P18:P$72)),IF(SMALL(P18:P$72,1)-N17>0,SMALL(P18:P$72,1),SMALL(P18:P$72,2)),\"\"),\"\")","v":""},{"$f":"IFERROR(IF(AND(Q17<>\"\",S17=\"\",Q17<=MAX(S18:S$72)),IF(SMALL(S18:S$72,1)-Q17>0,SMALL(S18:S$72,1),SMALL(S18:S$72,2)),\"\"),\"\")","v":"11:17:00"},{"$f":"IFERROR(IF(AND(U17<>\"\",W17=\"\",U17<=MAX(W18:W$72)),IF(SMALL(W18:W$72,1)-U17>0,SMALL(W18:W$72,1),SMALL(W18:W$72,2)),\"\"),\"\")","v":""}]
[null,null,null,null,null,null,null,null,null,null,null,null,null,null,"134D","10:41:00","11:01:00",null,null,null,null,null,null,null,null,"米子","普通",null,null,"宍道",{"$f":"_xlfn.IFNA(MATCH(Z18,設定_主要駅!$B$2:$B$15,0),IF(Z18=\"備後落合\",14,1))","v":1},17,"","00:16:00",16,{"$f":"IFERROR(IF(AND(D18<>\"\",F18=\"\",D18<=MAX(F19:F$72)),IF(SMALL(F19:F$72,1)-D18>0,SMALL(F19:F$72,1),SMALL(F19:F$72,2)),\"\"),\"\")","v":""},{"$f":"IFERROR(IF(AND(G18<>\"\",I18=\"\",G18<=MAX(I19:I$72)),IF(SMALL(I19:I$72,1)-G18>0,SMALL(I19:I$72,1),SMALL(I19:I$72,2)),\"\"),\"\")","v":""},{"$f":"IFERROR(IF(AND(N18<>\"\",P18=\"\",N18<=MAX(P19:P$72)),IF(SMALL(P19:P$72,1)-N18>0,SMALL(P19:P$72,1),SMALL(P19:P$72,2)),\"\"),\"\")","v":""},{"$f":"IFERROR(IF(AND(Q18<>\"\",S18=\"\",Q18<=MAX(S19:S$72)),IF(SMALL(S19:S$72,1)-Q18>0,SMALL(S19:S$72,1),SMALL(S19:S$72,2)),\"\"),\"\")","v":"11:17:00"},{"$f":"IFERROR(IF(AND(U18<>\"\",W18=\"\",U18<=MAX(W19:W$72)),IF(SMALL(W19:W$72,1)-U18>0,SMALL(W19:W$72,1),SMALL(W19:W$72,2)),\"\"),\"\")","v":""}]
[null,null,null,null,null,null,null,null,null,null,null,null,null,null,null,null,null,"1447D","11:17:00","11:40:00","11:51:00",null,"11:54:00","12:32:00","13:07:00","備後落合","普通",null,"◆木次～備後落合間、第２木曜＜除く、4月21日＞は運休，宍道～木次間、第３日曜は運休、同区間代行輸送","",{"$f":"_xlfn.IFNA(MATCH(Z19,設定_主要駅!$B$2:$B$15,0),IF(Z19=\"備後落合\",14,1))","v":14},"",16,"",17,{"$f":"IFERROR(IF(AND(D19<>\"\",F19=\"\",D19<=MAX(F20:F$72)),IF(SMALL(F20:F$72,1)-D19>0,SMALL(F20:F$72,1),SMALL(F20:F$72,2)),\"\"),\"\")","v":""},{"$f":"IFERROR(IF(AND(G19<>\"\",I19=\"\",G19<=MAX(I20:I$72)),IF(SMALL(I20:I$72,1)-G19>0,SMALL(I20:I$72,1),SMALL(I20:I$72,2)),\"\"),\"\")","v":""},{"$f":"IFERROR(IF(AND(N19<>\"\",P19=\"\",N19<=MAX(P20:P$72)),IF(SMALL(P20:P$72,1)-N19>0,SMALL(P20:P$72,1),SMALL(P20:P$72,2)),\"\"),\"\")","v":""},{"$f":"IFERROR(IF(AND(Q19<>\"\",S19=\"\",Q19<=MAX(S20:S$72)),IF(SMALL(S20:S$72,1)-Q19>0,SMALL(S20:S$72,1),SMALL(S20:S$72,2)),\"\"),\"\")","v":""},{"$f":"IFERROR(IF(AND(U19<>\"\",W19=\"\",U19<=MAX(W20:W$72)),IF(SMALL(W20:W$72,1)-U19>0,SMALL(W20:W$72,1),SMALL(W20:W$72,2)),\"\"),\"\")","v":""}]
["2531D","06:45:00","06:57:00","07:26:00",null,null,null,null,null,null,null,null,null,null,null,null,null,null,null,null,null,null,null,null,null,"益田","普通",null,null,"益田",{"$f":"_xlfn.IFNA(MATCH(Z20,設定_主要駅!$B$2:$B$15,0),IF(Z20=\"備後落合\",14,1))","v":7},19,"","00:11:00",18,{"$f":"IFERROR(IF(AND(D20<>\"\",F20=\"\",D20<=MAX(F21:F$72)),IF(SMALL(F21:F$72,1)-D20>0,SMALL(F21:F$72,1),SMALL(F21:F$72,2)),\"\"),\"\")","v":"07:37:00"},{"$f":"IFERROR(IF(AND(G20<>\"\",I20=\"\",G20<=MAX(I21:I$72)),IF(SMALL(I21:I$72,1)-G20>0,SMALL(I21:I$72,1),SMALL(I21:I$72,2)),\"\"),\"\")","v":""},{"$f":"IFERROR(IF(AND(N20<>\"\",P20=\"\",N20<=MAX(P21:P$72)),IF(SMALL(P21:P$72,1)-N20>0,SMALL(P21:P$72,1),SMALL(P21:P$72,2)),\"\"),\"\")","v":""},{"$f":"IFERROR(IF(AND(Q20<>\"\",S20=\"\",Q20<=MAX(S21:S$72)),IF(SMALL(S21:S$72,1)-Q20>0,SMALL(S21:S$72,1),SMALL(S21:S$72,2)),\"\"),\"\")","v":""},{"$f":"IFERROR(IF(AND(U20<>\"\",W20=\"\",U20<=MAX(W21:W$72)),IF(SMALL(W21:W$72,1)-U20>0,SMALL(W21:W$72,1),SMALL(W21:W$72,2)),\"\"),\"\")","v":""}]
[null,null,null,null,"424D","07:37:00","08:31:00","324D","09:07:00","09:33:00","09:34:00","10:27:00","10:33:00","11:15:00",null,null,null,null,null,null,null,null,null,null,null,"出雲市","普通",null,null,"出雲市",{"$f":"_xlfn.IFNA(MATCH(Z21,設定_主要駅!$B$2:$B$15,0),IF(Z21=\"備後落合\",14,1))","v":3},21,18,"00:03:00",19,{"$f":"IFERROR(IF(AND(D21<>\"\",F21=\"\",D21<=MAX(F22:F$72)),IF(SMALL(F22:F$72,1)-D21>0,SMALL(F22:F$72,1),SMALL(F22:F$72,2)),\"\"),\"\")","v":""},{"$f":"IFERROR(IF(AND(G21<>\"\",I21=\"\",G21<=MAX(I22:I$72)),IF(SMALL(I22:I$72,1)-G21>0,SMALL(I22:I$72,1),SMALL(I22:I$72,2)),\"\"),\"\")","v":""},{"$f":"IFERROR(IF(AND(N21<>\"\",P21=\"\",N21<=MAX(P22:P$72)),IF(SMALL(P22:P$72,1)-N21>0,SMALL(P22:P$72,1),SMALL(P22:P$72,2)),\"\"),\"\")","v":"11:18:00"},{"$f":"IFERROR(IF(AND(Q21<>\"\",S21=\"\",Q21<=MAX(S22:S$72)),IF(SMALL(S22:S$72,1)-Q21>0,SMALL(S22:S$72,1),SMALL(S22:S$72,2)),\"\"),\"\")","v":""},{"$f":"IFERROR(IF(AND(U21<>\"\",W21=\"\",U21<=MAX(W22:W$72)),IF(SMALL(W22:W$72,1)-U21>0,SMALL(W22:W$72,1),SMALL(W22:W$72,2)),\"\"),\"\")","v":""}]
[null,null,null,null,null,null,null,null,null,null,null,null,null,null,"1016M","11:44:00","11:54:00",null,null,null,null,null,null,null,null,"岡山","特急","やくも16号",null,"",{"$f":"_xlfn.IFNA(MATCH(Z22,設定_主要駅!$B$2:$B$15,0),IF(Z22=\"備後落合\",14,1))","v":1},"","","02:21:00",20,{"$f":"IFERROR(IF(AND(D22<>\"\",F22=\"\",D22<=MAX(F23:F$72)),IF(SMALL(F23:F$72,1)-D22>0,SMALL(F23:F$72,1),SMALL(F23:F$72,2)),\"\"),\"\")","v":""},{"$f":"IFERROR(IF(AND(G22<>\"\",I22=\"\",G22<=MAX(I23:I$72)),IF(SMALL(I23:I$72,1)-G22>0,SMALL(I23:I$72,1),SMALL(I23:I$72,2)),\"\"),\"\")","v":""},{"$f":"IFERROR(IF(AND(N22<>\"\",P22=\"\",N22<=MAX(P23:P$72)),IF(SMALL(P23:P$72,1)-N22>0,SMALL(P23:P$72,1),SMALL(P23:P$72,2)),\"\"),\"\")","v":""},{"$f":"IFERROR(IF(AND(Q22<>\"\",S22=\"\",Q22<=MAX(S23:S$72)),IF(SMALL(S23:S$72,1)-Q22>0,SMALL(S23:S$72,1),SMALL(S23:S$72,2)),\"\"),\"\")","v":"14:15:00"},{"$f":"IFERROR(IF(AND(U22<>\"\",W22=\"\",U22<=MAX(W23:W$72)),IF(SMALL(W23:W$72,1)-U22>0,SMALL(W23:W$72,1),SMALL(W23:W$72,2)),\"\"),\"\")","v":""}]
[null,null,null,null,null,null,null,null,null,null,null,null,null,null,"136D","11:18:00","11:36:00",null,null,null,null,null,null,null,null,"米子","普通",null,null,"",{"$f":"_xlfn.IFNA(MATCH(Z23,設定_主要駅!$B$2:$B$15,0),IF(Z23=\"備後落合\",14,1))","v":1},"",19,"02:39:00",21,{"$f":"IFERROR(IF(AND(D23<>\"\",F23=\"\",D23<=MAX(F24:F$72)),IF(SMALL(F24:F$72,1)-D23>0,SMALL(F24:F$72,1),SMALL(F24:F$72,2)),\"\"),\"\")","v":""},{"$f":"IFERROR(IF(AND(G23<>\"\",I23=\"\",G23<=MAX(I24:I$72)),IF(SMALL(I24:I$72,1)-G23>0,SMALL(I24:I$72,1),SMALL(I24:I$72,2)),\"\"),\"\")","v":""},{"$f":"IFERROR(IF(AND(N23<>\"\",P23=\"\",N23<=MAX(P24:P$72)),IF(SMALL(P24:P$72,1)-N23>0,SMALL(P24:P$72,1),SMALL(P24:P$72,2)),\"\"),\"\")","v":""},{"$f":"IFERROR(IF(AND(Q23<>\"\",S23=\"\",Q23<=MAX(S24:S$72)),IF(SMALL(S24:S$72,1)-Q23>0,SMALL(S24:S$72,1),SMALL(S24:S$72,2)),\"\"),\"\")","v":"14:15:00"},{"$f":"IFERROR(IF(AND(U23<>\"\",W23=\"\",U23<=MAX(W24:W$72)),IF(SMALL(W24:W$72,1)-U23>0,SMALL(W24:W$72,1),SMALL(W24:W$72,2)),\"\"),\"\")","v":""}]
["3002D","10:03:00","10:14:00","10:35:00",null,"10:37:00","11:10:00",null,"11:12:00","11:27:00","11:28:00","11:55:00","11:56:00","12:20:00",null,"12:22:00","12:34:00",null,null,null,null,null,null,null,null,"米子","特急","スーパーおき2号",null,"",{"$f":"_xlfn.IFNA(MATCH(Z24,設定_主要駅!$B$2:$B$15,0),IF(Z24=\"備後落合\",14,1))","v":1},"","","01:41:00",22,{"$f":"IFERROR(IF(AND(D24<>\"\",F24=\"\",D24<=MAX(F25:F$72)),IF(SMALL(F25:F$72,1)-D24>0,SMALL(F25:F$72,1),SMALL(F25:F$72,2)),\"\"),\"\")","v":""},{"$f":"IFERROR(IF(AND(G24<>\"\",I24=\"\",G24<=MAX(I25:I$72)),IF(SMALL(I25:I$72,1)-G24>0,SMALL(I25:I$72,1),SMALL(I25:I$72,2)),\"\"),\"\")","v":""},{"$f":"IFERROR(IF(AND(N24<>\"\",P24=\"\",N24<=MAX(P25:P$72)),IF(SMALL(P25:P$72,1)-N24>0,SMALL(P25:P$72,1),SMALL(P25:P$72,2)),\"\"),\"\")","v":""},{"$f":"IFERROR(IF(AND(Q24<>\"\",S24=\"\",Q24<=MAX(S25:S$72)),IF(SMALL(S25:S$72,1)-Q24>0,SMALL(S25:S$72,1),SMALL(S25:S$72,2)),\"\"),\"\")","v":"14:15:00"},{"$f":"IFERROR(IF(AND(U24<>\"\",W24=\"\",U24<=MAX(W25:W$72)),IF(SMALL(W25:W$72,1)-U24>0,SMALL(W25:W$72,1),SMALL(W25:W$72,2)),\"\"),\"\")","v":""}]
[null,null,null,null,null,null,null,null,null,null,null,null,null,null,"138D","12:52:00","13:12:00",null,null,null,null,null,null,null,null,"米子","普通",null,null,"",{"$f":"_xlfn.IFNA(MATCH(Z25,設定_主要駅!$B$2:$B$15,0),IF(Z25=\"備後落合\",14,1))","v":1},"","","01:03:00",23,{"$f":"IFERROR(IF(AND(D25<>\"\",F25=\"\",D25<=MAX(F26:F$72)),IF(SMALL(F26:F$72,1)-D25>0,SMALL(F26:F$72,1),SMALL(F26:F$72,2)),\"\"),\"\")","v":""},{"$f":"IFERROR(IF(AND(G25<>\"\",I25=\"\",G25<=MAX(I26:I$72)),IF(SMALL(I26:I$72,1)-G25>0,SMALL(I26:I$72,1),SMALL(I26:I$72,2)),\"\"),\"\")","v":""},{"$f":"IFERROR(IF(AND(N25<>\"\",P25=\"\",N25<=MAX(P26:P$72)),IF(SMALL(P26:P$72,1)-N25>0,SMALL(P26:P$72,1),SMALL(P26:P$72,2)),\"\"),\"\")","v":""},{"$f":"IFERROR(IF(AND(Q25<>\"\",S25=\"\",Q25<=MAX(S26:S$72)),IF(SMALL(S26:S$72,1)-Q25>0,SMALL(S26:S$72,1),SMALL(S26:S$72,2)),\"\"),\"\")","v":"14:15:00"},{"$f":"IFERROR(IF(AND(U25<>\"\",W25=\"\",U25<=MAX(W26:W$72)),IF(SMALL(W26:W$72,1)-U25>0,SMALL(W26:W$72,1),SMALL(W26:W$72,2)),\"\"),\"\")","v":""}]
[null,null,null,null,"428D","10:44:00","11:44:00",null,null,null,null,null,null,null,null,null,null,null,null,null,null,null,null,null,null,"米子","普通",null,null,"浜田",{"$f":"_xlfn.IFNA(MATCH(Z26,設定_主要駅!$B$2:$B$15,0),IF(Z26=\"備後落合\",14,1))","v":1},25,"","00:02:00",24,{"$f":"IFERROR(IF(AND(D26<>\"\",F26=\"\",D26<=MAX(F27:F$72)),IF(SMALL(F27:F$72,1)-D26>0,SMALL(F27:F$72,1),SMALL(F27:F$72,2)),\"\"),\"\")","v":""},{"$f":"IFERROR(IF(AND(G26<>\"\",I26=\"\",G26<=MAX(I27:I$72)),IF(SMALL(I27:I$72,1)-G26>0,SMALL(I27:I$72,1),SMALL(I27:I$72,2)),\"\"),\"\")","v":"11:46:00"},{"$f":"IFERROR(IF(AND(N26<>\"\",P26=\"\",N26<=MAX(P27:P$72)),IF(SMALL(P27:P$72,1)-N26>0,SMALL(P27:P$72,1),SMALL(P27:P$72,2)),\"\"),\"\")","v":""},{"$f":"IFERROR(IF(AND(Q26<>\"\",S26=\"\",Q26<=MAX(S27:S$72)),IF(SMALL(S27:S$72,1)-Q26>0,SMALL(S27:S$72,1),SMALL(S27:S$72,2)),\"\"),\"\")","v":""},{"$f":"IFERROR(IF(AND(U26<>\"\",W26=\"\",U26<=MAX(W27:W$72)),IF(SMALL(W27:W$72,1)-U26>0,SMALL(W27:W$72,1),SMALL(W27:W$72,2)),\"\"),\"\")","v":""}]
[null,null,null,null,null,null,null,"326D","11:46:00","12:11:00","12:12:00","12:59:00","13:00:00","13:38:00",null,null,null,null,null,null,null,null,null,null,null,"出雲市","普通",null,null,"出雲市",{"$f":"_xlfn.IFNA(MATCH(Z27,設定_主要駅!$B$2:$B$15,0),IF(Z27=\"備後落合\",14,1))","v":3},26,24,"00:05:00",25,{"$f":"IFERROR(IF(AND(D27<>\"\",F27=\"\",D27<=MAX(F28:F$72)),IF(SMALL(F28:F$72,1)-D27>0,SMALL(F28:F$72,1),SMALL(F28:F$72,2)),\"\"),\"\")","v":""},{"$f":"IFERROR(IF(AND(G27<>\"\",I27=\"\",G27<=MAX(I28:I$72)),IF(SMALL(I28:I$72,1)-G27>0,SMALL(I28:I$72,1),SMALL(I28:I$72,2)),\"\"),\"\")","v":""},{"$f":"IFERROR(IF(AND(N27<>\"\",P27=\"\",N27<=MAX(P28:P$72)),IF(SMALL(P28:P$72,1)-N27>0,SMALL(P28:P$72,1),SMALL(P28:P$72,2)),\"\"),\"\")","v":"13:43:00"},{"$f":"IFERROR(IF(AND(Q27<>\"\",S27=\"\",Q27<=MAX(S28:S$72)),IF(SMALL(S28:S$72,1)-Q27>0,SMALL(S28:S$72,1),SMALL(S28:S$72,2)),\"\"),\"\")","v":""},{"$f":"IFERROR(IF(AND(U27<>\"\",W27=\"\",U27<=MAX(W28:W$72)),IF(SMALL(W28:W$72,1)-U27>0,SMALL(W28:W$72,1),SMALL(W28:W$72,2)),\"\"),\"\")","v":""}]
[null,null,null,null,null,null,null,null,null,null,null,null,null,null,"1020M","13:43:00","13:53:00",null,null,null,null,null,null,null,null,"岡山","特急","やくも20号",null,"宍道",{"$f":"_xlfn.IFNA(MATCH(Z28,設定_主要駅!$B$2:$B$15,0),IF(Z28=\"備後落合\",14,1))","v":1},28,25,"00:22:00",26,{"$f":"IFERROR(IF(AND(D28<>\"\",F28=\"\",D28<=MAX(F29:F$72)),IF(SMALL(F29:F$72,1)-D28>0,SMALL(F29:F$72,1),SMALL(F29:F$72,2)),\"\"),\"\")","v":""},{"$f":"IFERROR(IF(AND(G28<>\"\",I28=\"\",G28<=MAX(I29:I$72)),IF(SMALL(I29:I$72,1)-G28>0,SMALL(I29:I$72,1),SMALL(I29:I$72,2)),\"\"),\"\")","v":""},{"$f":"IFERROR(IF(AND(N28<>\"\",P28=\"\",N28<=MAX(P29:P$72)),IF(SMALL(P29:P$72,1)-N28>0,SMALL(P29:P$72,1),SMALL(P29:P$72,2)),\"\"),\"\")","v":""},{"$f":"IFERROR(IF(AND(Q28<>\"\",S28=\"\",Q28<=MAX(S29:S$72)),IF(SMALL(S29:S$72,1)-Q28>0,SMALL(S29:S$72,1),SMALL(S29:S$72,2)),\"\"),\"\")","v":"14:15:00"},{"$f":"IFERROR(IF(AND(U28<>\"\",W28=\"\",U28<=MAX(W29:W$72)),IF(SMALL(W29:W$72,1)-U28>0,SMALL(W29:W$72,1),SMALL(W29:W$72,2)),\"\"),\"\")","v":""}]
[null,null,null,null,null,null,null,null,null,null,null,null,null,null,"140D","13:50:00","14:07:00",null,null,null,null,null,null,null,null,"米子","普通",null,null,"宍道",{"$f":"_xlfn.IFNA(MATCH(Z29,設定_主要駅!$B$2:$B$15,0),IF(Z29=\"備後落合\",14,1))","v":1},28,"","00:08:00",27,{"$f":"IFERROR(IF(AND(D29<>\"\",F29=\"\",D29<=MAX(F30:F$72)),IF(SMALL(F30:F$72,1)-D29>0,SMALL(F30:F$72,1),SMALL(F30:F$72,2)),\"\"),\"\")","v":""},{"$f":"IFERROR(IF(AND(G29<>\"\",I29=\"\",G29<=MAX(I30:I$72)),IF(SMALL(I30:I$72,1)-G29>0,SMALL(I30:I$72,1),SMALL(I30:I$72,2)),\"\"),\"\")","v":""},{"$f":"IFERROR(IF(AND(N29<>\"\",P29=\"\",N29<=MAX(P30:P$72)),IF(SMALL(P30:P$72,1)-N29>0,SMALL(P30:P$72,1),SMALL(P30:P$72,2)),\"\"),\"\")","v":""},{"$f":"IFERROR(IF(AND(Q29<>\"\",S29=\"\",Q29<=MAX(S30:S$72)),IF(SMALL(S30:S$72,1)-Q29>0,SMALL(S30:S$72,1),SMALL(S30:S$72,2)),\"\"),\"\")","v":"14:15:00"},{"$f":"IFERROR(IF(AND(U29<>\"\",W29=\"\",U29<=MAX(W30:W$72)),IF(SMALL(W30:W$72,1)-U29>0,SMALL(W30:W$72,1),SMALL(W30:W$72,2)),\"\"),\"\")","v":""}]
[null,null,null,null,null,null,null,null,null,null,null,null,null,null,null,null,null,"1451D","14:15:00","14:39:00","14:51:00",null,"14:53:00","15:33:00","15:57:00","備後落合","普通",null,"◆宍道～木次間、第３日曜は運休、同区間代行輸送","",{"$f":"_xlfn.IFNA(MATCH(Z30,設定_主要駅!$B$2:$B$15,0),IF(Z30=\"備後落合\",14,1))","v":14},"",26,"",28,{"$f":"IFERROR(IF(AND(D30<>\"\",F30=\"\",D30<=MAX(F31:F$72)),IF(SMALL(F31:F$72,1)-D30>0,SMALL(F31:F$72,1),SMALL(F31:F$72,2)),\"\"),\"\")","v":""},{"$f":"IFERROR(IF(AND(G30<>\"\",I30=\"\",G30<=MAX(I31:I$72)),IF(SMALL(I31:I$72,1)-G30>0,SMALL(I31:I$72,1),SMALL(I31:I$72,2)),\"\"),\"\")","v":""},{"$f":"IFERROR(IF(AND(N30<>\"\",P30=\"\",N30<=MAX(P31:P$72)),IF(SMALL(P31:P$72,1)-N30>0,SMALL(P31:P$72,1),SMALL(P31:P$72,2)),\"\"),\"\")","v":""},{"$f":"IFERROR(IF(AND(Q30<>\"\",S30=\"\",Q30<=MAX(S31:S$72)),IF(SMALL(S31:S$72,1)-Q30>0,SMALL(S31:S$72,1),SMALL(S31:S$72,2)),\"\"),\"\")","v":""},{"$f":"IFERROR(IF(AND(U30<>\"\",W30=\"\",U30<=MAX(W31:W$72)),IF(SMALL(W31:W$72,1)-U30>0,SMALL(W31:W$72,1),SMALL(W31:W$72,2)),\"\"),\"\")","v":""}]
["2541D","11:30:00","11:42:00","12:11:00",null,null,null,null,null,null,null,null,null,null,null,null,null,null,null,null,null,null,null,null,null,"益田","普通",null,null,"益田",{"$f":"_xlfn.IFNA(MATCH(Z31,設定_主要駅!$B$2:$B$15,0),IF(Z31=\"備後落合\",14,1))","v":7},30,"","00:03:00",29,{"$f":"IFERROR(IF(AND(D31<>\"\",F31=\"\",D31<=MAX(F32:F$72)),IF(SMALL(F32:F$72,1)-D31>0,SMALL(F32:F$72,1),SMALL(F32:F$72,2)),\"\"),\"\")","v":"12:14:00"},{"$f":"IFERROR(IF(AND(G31<>\"\",I31=\"\",G31<=MAX(I32:I$72)),IF(SMALL(I32:I$72,1)-G31>0,SMALL(I32:I$72,1),SMALL(I32:I$72,2)),\"\"),\"\")","v":""},{"$f":"IFERROR(IF(AND(N31<>\"\",P31=\"\",N31<=MAX(P32:P$72)),IF(SMALL(P32:P$72,1)-N31>0,SMALL(P32:P$72,1),SMALL(P32:P$72,2)),\"\"),\"\")","v":""},{"$f":"IFERROR(IF(AND(Q31<>\"\",S31=\"\",Q31<=MAX(S32:S$72)),IF(SMALL(S32:S$72,1)-Q31>0,SMALL(S32:S$72,1),SMALL(S32:S$72,2)),\"\"),\"\")","v":""},{"$f":"IFERROR(IF(AND(U31<>\"\",W31=\"\",U31<=MAX(W32:W$72)),IF(SMALL(W32:W$72,1)-U31>0,SMALL(W32:W$72,1),SMALL(W32:W$72,2)),\"\"),\"\")","v":""}]
[null,null,null,null,"2010D","12:14:00","12:48:00",null,"12:50:00","13:04:00","13:05:00","13:32:00","13:33:00","13:58:00",null,"14:01:00",null,null,null,null,null,null,null,null,null,"鳥取","特急","スーパーまつかぜ10号",null,"",{"$f":"_xlfn.IFNA(MATCH(Z32,設定_主要駅!$B$2:$B$15,0),IF(Z32=\"備後落合\",14,1))","v":1},"",29,"",30,{"$f":"IFERROR(IF(AND(D32<>\"\",F32=\"\",D32<=MAX(F33:F$72)),IF(SMALL(F33:F$72,1)-D32>0,SMALL(F33:F$72,1),SMALL(F33:F$72,2)),\"\"),\"\")","v":""},{"$f":"IFERROR(IF(AND(G32<>\"\",I32=\"\",G32<=MAX(I33:I$72)),IF(SMALL(I33:I$72,1)-G32>0,SMALL(I33:I$72,1),SMALL(I33:I$72,2)),\"\"),\"\")","v":""},{"$f":"IFERROR(IF(AND(N32<>\"\",P32=\"\",N32<=MAX(P33:P$72)),IF(SMALL(P33:P$72,1)-N32>0,SMALL(P33:P$72,1),SMALL(P33:P$72,2)),\"\"),\"\")","v":""},{"$f":"IFERROR(IF(AND(Q32<>\"\",S32=\"\",Q32<=MAX(S33:S$72)),IF(SMALL(S33:S$72,1)-Q32>0,SMALL(S33:S$72,1),SMALL(S33:S$72,2)),\"\"),\"\")","v":""},{"$f":"IFERROR(IF(AND(U32<>\"\",W32=\"\",U32<=MAX(W33:W$72)),IF(SMALL(W33:W$72,1)-U32>0,SMALL(W33:W$72,1),SMALL(W33:W$72,2)),\"\"),\"\")","v":""}]
[null,null,null,null,null,null,null,null,null,null,null,null,null,null,"284M","14:59:00","15:17:00",null,null,null,null,null,null,null,null,"米子","普通",null,null,"",{"$f":"_xlfn.IFNA(MATCH(Z33,設定_主要駅!$B$2:$B$15,0),IF(Z33=\"備後落合\",14,1))","v":1},"","","00:45:00",31,{"$f":"IFERROR(IF(AND(D33<>\"\",F33=\"\",D33<=MAX(F34:F$72)),IF(SMALL(F34:F$72,1)-D33>0,SMALL(F34:F$72,1),SMALL(F34:F$72,2)),\"\"),\"\")","v":""},{"$f":"IFERROR(IF(AND(G33<>\"\",I33=\"\",G33<=MAX(I34:I$72)),IF(SMALL(I34:I$72,1)-G33>0,SMALL(I34:I$72,1),SMALL(I34:I$72,2)),\"\"),\"\")","v":""},{"$f":"IFERROR(IF(AND(N33<>\"\",P33=\"\",N33<=MAX(P34:P$72)),IF(SMALL(P34:P$72,1)-N33>0,SMALL(P34:P$72,1),SMALL(P34:P$72,2)),\"\"),\"\")","v":""},{"$f":"IFERROR(IF(AND(Q33<>\"\",S33=\"\",Q33<=MAX(S34:S$72)),IF(SMALL(S34:S$72,1)-Q33>0,SMALL(S34:S$72,1),SMALL(S34:S$72,2)),\"\"),\"\")","v":"16:02:00"},{"$f":"IFERROR(IF(AND(U33<>\"\",W33=\"\",U33<=MAX(W34:W$72)),IF(SMALL(W34:W$72,1)-U33>0,SMALL(W34:W$72,1),SMALL(W34:W$72,2)),\"\"),\"\")","v":""}]
[null,null,null,null,null,null,null,"328D","13:10:00","13:34:00","13:34:00","14:21:00","14:30:00","15:14:00",null,null,null,null,null,null,null,null,null,null,null,"出雲市","普通",null,null,"出雲市",{"$f":"_xlfn.IFNA(MATCH(Z34,設定_主要駅!$B$2:$B$15,0),IF(Z34=\"備後落合\",14,1))","v":3},33,"","00:15:00",32,{"$f":"IFERROR(IF(AND(D34<>\"\",F34=\"\",D34<=MAX(F35:F$72)),IF(SMALL(F35:F$72,1)-D34>0,SMALL(F35:F$72,1),SMALL(F35:F$72,2)),\"\"),\"\")","v":""},{"$f":"IFERROR(IF(AND(G34<>\"\",I34=\"\",G34<=MAX(I35:I$72)),IF(SMALL(I35:I$72,1)-G34>0,SMALL(I35:I$72,1),SMALL(I35:I$72,2)),\"\"),\"\")","v":""},{"$f":"IFERROR(IF(AND(N34<>\"\",P34=\"\",N34<=MAX(P35:P$72)),IF(SMALL(P35:P$72,1)-N34>0,SMALL(P35:P$72,1),SMALL(P35:P$72,2)),\"\"),\"\")","v":"15:29:00"},{"$f":"IFERROR(IF(AND(Q34<>\"\",S34=\"\",Q34<=MAX(S35:S$72)),IF(SMALL(S35:S$72,1)-Q34>0,SMALL(S35:S$72,1),SMALL(S35:S$72,2)),\"\"),\"\")","v":""},{"$f":"IFERROR(IF(AND(U34<>\"\",W34=\"\",U34<=MAX(W35:W$72)),IF(SMALL(W35:W$72,1)-U34>0,SMALL(W35:W$72,1),SMALL(W35:W$72,2)),\"\"),\"\")","v":""}]
[null,null,null,null,null,null,null,null,null,null,null,null,null,null,"142D","15:29:00","15:59:00",null,null,null,null,null,null,null,null,"米子","普通",null,null,"宍道",{"$f":"_xlfn.IFNA(MATCH(Z35,設定_主要駅!$B$2:$B$15,0),IF(Z35=\"備後落合\",14,1))","v":1},35,32,"00:03:00",33,{"$f":"IFERROR(IF(AND(D35<>\"\",F35=\"\",D35<=MAX(F36:F$72)),IF(SMALL(F36:F$72,1)-D35>0,SMALL(F36:F$72,1),SMALL(F36:F$72,2)),\"\"),\"\")","v":""},{"$f":"IFERROR(IF(AND(G35<>\"\",I35=\"\",G35<=MAX(I36:I$72)),IF(SMALL(I36:I$72,1)-G35>0,SMALL(I36:I$72,1),SMALL(I36:I$72,2)),\"\"),\"\")","v":""},{"$f":"IFERROR(IF(AND(N35<>\"\",P35=\"\",N35<=MAX(P36:P$72)),IF(SMALL(P36:P$72,1)-N35>0,SMALL(P36:P$72,1),SMALL(P36:P$72,2)),\"\"),\"\")","v":""},{"$f":"IFERROR(IF(AND(Q35<>\"\",S35=\"\",Q35<=MAX(S36:S$72)),IF(SMALL(S36:S$72,1)-Q35>0,SMALL(S36:S$72,1),SMALL(S36:S$72,2)),\"\"),\"\")","v":"16:02:00"},{"$f":"IFERROR(IF(AND(U35<>\"\",W35=\"\",U35<=MAX(W36:W$72)),IF(SMALL(W36:W$72,1)-U35>0,SMALL(W36:W$72,1),SMALL(W36:W$72,2)),\"\"),\"\")","v":""}]
[null,null,null,null,null,null,null,null,null,null,null,null,null,null,"1024M","15:35:00","15:48:00",null,null,null,null,null,null,null,null,"岡山","特急","やくも24号",null,"宍道",{"$f":"_xlfn.IFNA(MATCH(Z36,設定_主要駅!$B$2:$B$15,0),IF(Z36=\"備後落合\",14,1))","v":1},35,"","00:14:00",34,{"$f":"IFERROR(IF(AND(D36<>\"\",F36=\"\",D36<=MAX(F37:F$72)),IF(SMALL(F37:F$72,1)-D36>0,SMALL(F37:F$72,1),SMALL(F37:F$72,2)),\"\"),\"\")","v":""},{"$f":"IFERROR(IF(AND(G36<>\"\",I36=\"\",G36<=MAX(I37:I$72)),IF(SMALL(I37:I$72,1)-G36>0,SMALL(I37:I$72,1),SMALL(I37:I$72,2)),\"\"),\"\")","v":""},{"$f":"IFERROR(IF(AND(N36<>\"\",P36=\"\",N36<=MAX(P37:P$72)),IF(SMALL(P37:P$72,1)-N36>0,SMALL(P37:P$72,1),SMALL(P37:P$72,2)),\"\"),\"\")","v":""},{"$f":"IFERROR(IF(AND(Q36<>\"\",S36=\"\",Q36<=MAX(S37:S$72)),IF(SMALL(S37:S$72,1)-Q36>0,SMALL(S37:S$72,1),SMALL(S37:S$72,2)),\"\"),\"\")","v":"16:02:00"},{"$f":"IFERROR(IF(AND(U36<>\"\",W36=\"\",U36<=MAX(W37:W$72)),IF(SMALL(W37:W$72,1)-U36>0,SMALL(W37:W$72,1),SMALL(W37:W$72,2)),\"\"),\"\")","v":""}]
[null,null,null,null,null,null,null,null,null,null,null,null,null,null,null,null,null,"1453D","16:02:00","16:29:00","16:40:00",null,"16:54:00","17:32:00","17:53:00","出雲横田","普通",null,null,"",{"$f":"_xlfn.IFNA(MATCH(Z37,設定_主要駅!$B$2:$B$15,0),IF(Z37=\"備後落合\",14,1))","v":14},"",33,"",35,{"$f":"IFERROR(IF(AND(D37<>\"\",F37=\"\",D37<=MAX(F38:F$72)),IF(SMALL(F38:F$72,1)-D37>0,SMALL(F38:F$72,1),SMALL(F38:F$72,2)),\"\"),\"\")","v":""},{"$f":"IFERROR(IF(AND(G37<>\"\",I37=\"\",G37<=MAX(I38:I$72)),IF(SMALL(I38:I$72,1)-G37>0,SMALL(I38:I$72,1),SMALL(I38:I$72,2)),\"\"),\"\")","v":""},{"$f":"IFERROR(IF(AND(N37<>\"\",P37=\"\",N37<=MAX(P38:P$72)),IF(SMALL(P38:P$72,1)-N37>0,SMALL(P38:P$72,1),SMALL(P38:P$72,2)),\"\"),\"\")","v":""},{"$f":"IFERROR(IF(AND(Q37<>\"\",S37=\"\",Q37<=MAX(S38:S$72)),IF(SMALL(S38:S$72,1)-Q37>0,SMALL(S38:S$72,1),SMALL(S38:S$72,2)),\"\"),\"\")","v":""},{"$f":"IFERROR(IF(AND(U37<>\"\",W37=\"\",U37<=MAX(W38:W$72)),IF(SMALL(W38:W$72,1)-U37>0,SMALL(W38:W$72,1),SMALL(W38:W$72,2)),\"\"),\"\")","v":""}]
[null,null,null,null,null,null,null,null,null,null,null,null,null,null,"144D","16:07:00","16:36:00",null,null,null,null,null,null,null,null,"米子","普通",null,null,"",{"$f":"_xlfn.IFNA(MATCH(Z38,設定_主要駅!$B$2:$B$15,0),IF(Z38=\"備後落合\",14,1))","v":1},"","","00:38:00",36,{"$f":"IFERROR(IF(AND(D38<>\"\",F38=\"\",D38<=MAX(F39:F$72)),IF(SMALL(F39:F$72,1)-D38>0,SMALL(F39:F$72,1),SMALL(F39:F$72,2)),\"\"),\"\")","v":""},{"$f":"IFERROR(IF(AND(G38<>\"\",I38=\"\",G38<=MAX(I39:I$72)),IF(SMALL(I39:I$72,1)-G38>0,SMALL(I39:I$72,1),SMALL(I39:I$72,2)),\"\"),\"\")","v":""},{"$f":"IFERROR(IF(AND(N38<>\"\",P38=\"\",N38<=MAX(P39:P$72)),IF(SMALL(P39:P$72,1)-N38>0,SMALL(P39:P$72,1),SMALL(P39:P$72,2)),\"\"),\"\")","v":""},{"$f":"IFERROR(IF(AND(Q38<>\"\",S38=\"\",Q38<=MAX(S39:S$72)),IF(SMALL(S39:S$72,1)-Q38>0,SMALL(S39:S$72,1),SMALL(S39:S$72,2)),\"\"),\"\")","v":"17:14:00"},{"$f":"IFERROR(IF(AND(U38<>\"\",W38=\"\",U38<=MAX(W39:W$72)),IF(SMALL(W39:W$72,1)-U38>0,SMALL(W39:W$72,1),SMALL(W39:W$72,2)),\"\"),\"\")","v":""}]
["3004D","13:58:00","14:09:00","14:30:00",null,"14:34:00","15:07:00",null,"15:08:00","15:24:00","15:25:00","15:52:00","15:53:00","16:17:00",null,"16:19:00","16:29:00",null,null,null,null,null,null,null,null,"鳥取","特急","スーパーおき4号",null,"",{"$f":"_xlfn.IFNA(MATCH(Z39,設定_主要駅!$B$2:$B$15,0),IF(Z39=\"備後落合\",14,1))","v":1},"","","00:45:00",37,{"$f":"IFERROR(IF(AND(D39<>\"\",F39=\"\",D39<=MAX(F40:F$72)),IF(SMALL(F40:F$72,1)-D39>0,SMALL(F40:F$72,1),SMALL(F40:F$72,2)),\"\"),\"\")","v":""},{"$f":"IFERROR(IF(AND(G39<>\"\",I39=\"\",G39<=MAX(I40:I$72)),IF(SMALL(I40:I$72,1)-G39>0,SMALL(I40:I$72,1),SMALL(I40:I$72,2)),\"\"),\"\")","v":""},{"$f":"IFERROR(IF(AND(N39<>\"\",P39=\"\",N39<=MAX(P40:P$72)),IF(SMALL(P40:P$72,1)-N39>0,SMALL(P40:P$72,1),SMALL(P40:P$72,2)),\"\"),\"\")","v":""},{"$f":"IFERROR(IF(AND(Q39<>\"\",S39=\"\",Q39<=MAX(S40:S$72)),IF(SMALL(S40:S$72,1)-Q39>0,SMALL(S40:S$72,1),SMALL(S40:S$72,2)),\"\"),\"\")","v":"17:14:00"},{"$f":"IFERROR(IF(AND(U39<>\"\",W39=\"\",U39<=MAX(W40:W$72)),IF(SMALL(W40:W$72,1)-U39>0,SMALL(W40:W$72,1),SMALL(W40:W$72,2)),\"\"),\"\")","v":""}]
[null,null,null,null,null,null,null,null,null,null,null,null,null,null,"1026M","16:41:00","16:52:00",null,null,null,null,null,null,null,null,"岡山","特急","やくも26号",null,"宍道",{"$f":"_xlfn.IFNA(MATCH(Z40,設定_主要駅!$B$2:$B$15,0),IF(Z40=\"備後落合\",14,1))","v":1},39,"","00:22:00",38,{"$f":"IFERROR(IF(AND(D40<>\"\",F40=\"\",D40<=MAX(F41:F$72)),IF(SMALL(F41:F$72,1)-D40>0,SMALL(F41:F$72,1),SMALL(F41:F$72,2)),\"\"),\"\")","v":""},{"$f":"IFERROR(IF(AND(G40<>\"\",I40=\"\",G40<=MAX(I41:I$72)),IF(SMALL(I41:I$72,1)-G40>0,SMALL(I41:I$72,1),SMALL(I41:I$72,2)),\"\"),\"\")","v":""},{"$f":"IFERROR(IF(AND(N40<>\"\",P40=\"\",N40<=MAX(P41:P$72)),IF(SMALL(P41:P$72,1)-N40>0,SMALL(P41:P$72,1),SMALL(P41:P$72,2)),\"\"),\"\")","v":""},{"$f":"IFERROR(IF(AND(Q40<>\"\",S40=\"\",Q40<=MAX(S41:S$72)),IF(SMALL(S41:S$72,1)-Q40>0,SMALL(S41:S$72,1),SMALL(S41:S$72,2)),\"\"),\"\")","v":"17:14:00"},{"$f":"IFERROR(IF(AND(U40<>\"\",W40=\"\",U40<=MAX(W41:W$72)),IF(SMALL(W41:W$72,1)-U40>0,SMALL(W41:W$72,1),SMALL(W41:W$72,2)),\"\"),\"\")","v":""}]
[null,null,null,null,null,null,null,null,null,null,null,null,null,null,null,null,null,"1455D","17:14:00","17:37:00","17:48:00",null,null,null,null,"木次","普通",null,null,"",{"$f":"_xlfn.IFNA(MATCH(Z41,設定_主要駅!$B$2:$B$15,0),IF(Z41=\"備後落合\",14,1))","v":12},"",38,"01:16:00",39,{"$f":"IFERROR(IF(AND(D41<>\"\",F41=\"\",D41<=MAX(F42:F$72)),IF(SMALL(F42:F$72,1)-D41>0,SMALL(F42:F$72,1),SMALL(F42:F$72,2)),\"\"),\"\")","v":""},{"$f":"IFERROR(IF(AND(G41<>\"\",I41=\"\",G41<=MAX(I42:I$72)),IF(SMALL(I42:I$72,1)-G41>0,SMALL(I42:I$72,1),SMALL(I42:I$72,2)),\"\"),\"\")","v":""},{"$f":"IFERROR(IF(AND(N41<>\"\",P41=\"\",N41<=MAX(P42:P$72)),IF(SMALL(P42:P$72,1)-N41>0,SMALL(P42:P$72,1),SMALL(P42:P$72,2)),\"\"),\"\")","v":""},{"$f":"IFERROR(IF(AND(Q41<>\"\",S41=\"\",Q41<=MAX(S42:S$72)),IF(SMALL(S42:S$72,1)-Q41>0,SMALL(S42:S$72,1),SMALL(S42:S$72,2)),\"\"),\"\")","v":""},{"$f":"IFERROR(IF(AND(U41<>\"\",W41=\"\",U41<=MAX(W42:W$72)),IF(SMALL(W42:W$72,1)-U41>0,SMALL(W42:W$72,1),SMALL(W42:W$72,2)),\"\"),\"\")","v":"19:04:00"}]
[null,null,null,null,null,null,null,null,null,null,null,null,null,null,"146D","17:12:00","17:30:00",null,null,null,null,null,null,null,null,"米子","普通",null,null,"",{"$f":"_xlfn.IFNA(MATCH(Z42,設定_主要駅!$B$2:$B$15,0),IF(Z42=\"備後落合\",14,1))","v":1},"","","00:53:00",40,{"$f":"IFERROR(IF(AND(D42<>\"\",F42=\"\",D42<=MAX(F43:F$72)),IF(SMALL(F43:F$72,1)-D42>0,SMALL(F43:F$72,1),SMALL(F43:F$72,2)),\"\"),\"\")","v":""},{"$f":"IFERROR(IF(AND(G42<>\"\",I42=\"\",G42<=MAX(I43:I$72)),IF(SMALL(I43:I$72,1)-G42>0,SMALL(I43:I$72,1),SMALL(I43:I$72,2)),\"\"),\"\")","v":""},{"$f":"IFERROR(IF(AND(N42<>\"\",P42=\"\",N42<=MAX(P43:P$72)),IF(SMALL(P43:P$72,1)-N42>0,SMALL(P43:P$72,1),SMALL(P43:P$72,2)),\"\"),\"\")","v":""},{"$f":"IFERROR(IF(AND(Q42<>\"\",S42=\"\",Q42<=MAX(S43:S$72)),IF(SMALL(S43:S$72,1)-Q42>0,SMALL(S43:S$72,1),SMALL(S43:S$72,2)),\"\"),\"\")","v":"18:23:00"},{"$f":"IFERROR(IF(AND(U42<>\"\",W42=\"\",U42<=MAX(W43:W$72)),IF(SMALL(W43:W$72,1)-U42>0,SMALL(W43:W$72,1),SMALL(W43:W$72,2)),\"\"),\"\")","v":""}]
[null,null,null,null,null,null,null,null,null,null,null,null,null,null,"1028M","17:28:00","17:39:00",null,null,null,null,null,null,null,null,"岡山","特急","やくも28号","◆3月16日～9月30日運行","",{"$f":"_xlfn.IFNA(MATCH(Z43,設定_主要駅!$B$2:$B$15,0),IF(Z43=\"備後落合\",14,1))","v":1},"","","00:44:00",41,{"$f":"IFERROR(IF(AND(D43<>\"\",F43=\"\",D43<=MAX(F44:F$72)),IF(SMALL(F44:F$72,1)-D43>0,SMALL(F44:F$72,1),SMALL(F44:F$72,2)),\"\"),\"\")","v":""},{"$f":"IFERROR(IF(AND(G43<>\"\",I43=\"\",G43<=MAX(I44:I$72)),IF(SMALL(I44:I$72,1)-G43>0,SMALL(I44:I$72,1),SMALL(I44:I$72,2)),\"\"),\"\")","v":""},{"$f":"IFERROR(IF(AND(N43<>\"\",P43=\"\",N43<=MAX(P44:P$72)),IF(SMALL(P44:P$72,1)-N43>0,SMALL(P44:P$72,1),SMALL(P44:P$72,2)),\"\"),\"\")","v":""},{"$f":"IFERROR(IF(AND(Q43<>\"\",S43=\"\",Q43<=MAX(S44:S$72)),IF(SMALL(S44:S$72,1)-Q43>0,SMALL(S44:S$72,1),SMALL(S44:S$72,2)),\"\"),\"\")","v":"18:23:00"},{"$f":"IFERROR(IF(AND(U43<>\"\",W43=\"\",U43<=MAX(W44:W$72)),IF(SMALL(W44:W$72,1)-U43>0,SMALL(W44:W$72,1),SMALL(W44:W$72,2)),\"\"),\"\")","v":""}]
[null,null,null,null,null,null,null,"330D","15:40:00","16:07:00","16:08:00","16:59:00","17:16:00","17:59:00",null,null,null,null,null,null,null,null,null,null,null,"出雲市","普通",null,null,"出雲市",{"$f":"_xlfn.IFNA(MATCH(Z44,設定_主要駅!$B$2:$B$15,0),IF(Z44=\"備後落合\",14,1))","v":3},44,"","00:02:00",42,{"$f":"IFERROR(IF(AND(D44<>\"\",F44=\"\",D44<=MAX(F45:F$72)),IF(SMALL(F45:F$72,1)-D44>0,SMALL(F45:F$72,1),SMALL(F45:F$72,2)),\"\"),\"\")","v":""},{"$f":"IFERROR(IF(AND(G44<>\"\",I44=\"\",G44<=MAX(I45:I$72)),IF(SMALL(I45:I$72,1)-G44>0,SMALL(I45:I$72,1),SMALL(I45:I$72,2)),\"\"),\"\")","v":""},{"$f":"IFERROR(IF(AND(N44<>\"\",P44=\"\",N44<=MAX(P45:P$72)),IF(SMALL(P45:P$72,1)-N44>0,SMALL(P45:P$72,1),SMALL(P45:P$72,2)),\"\"),\"\")","v":"18:01:00"},{"$f":"IFERROR(IF(AND(Q44<>\"\",S44=\"\",Q44<=MAX(S45:S$72)),IF(SMALL(S45:S$72,1)-Q44>0,SMALL(S45:S$72,1),SMALL(S45:S$72,2)),\"\"),\"\")","v":""},{"$f":"IFERROR(IF(AND(U44<>\"\",W44=\"\",U44<=MAX(W45:W$72)),IF(SMALL(W45:W$72,1)-U44>0,SMALL(W45:W$72,1),SMALL(W45:W$72,2)),\"\"),\"\")","v":""}]
[null,null,null,null,"2012D","15:48:00","16:23:00",null,"16:27:00","16:42:00","16:43:00","17:09:00","17:10:00","17:33:00",null,"17:35:00",null,null,null,null,null,null,null,null,null,"鳥取","特急","スーパーまつかぜ12号",null,"",{"$f":"_xlfn.IFNA(MATCH(Z45,設定_主要駅!$B$2:$B$15,0),IF(Z45=\"備後落合\",14,1))","v":1},"","","",43,{"$f":"IFERROR(IF(AND(D45<>\"\",F45=\"\",D45<=MAX(F46:F$72)),IF(SMALL(F46:F$72,1)-D45>0,SMALL(F46:F$72,1),SMALL(F46:F$72,2)),\"\"),\"\")","v":""},{"$f":"IFERROR(IF(AND(G45<>\"\",I45=\"\",G45<=MAX(I46:I$72)),IF(SMALL(I46:I$72,1)-G45>0,SMALL(I46:I$72,1),SMALL(I46:I$72,2)),\"\"),\"\")","v":""},{"$f":"IFERROR(IF(AND(N45<>\"\",P45=\"\",N45<=MAX(P46:P$72)),IF(SMALL(P46:P$72,1)-N45>0,SMALL(P46:P$72,1),SMALL(P46:P$72,2)),\"\"),\"\")","v":""},{"$f":"IFERROR(IF(AND(Q45<>\"\",S45=\"\",Q45<=MAX(S46:S$72)),IF(SMALL(S46:S$72,1)-Q45>0,SMALL(S46:S$72,1),SMALL(S46:S$72,2)),\"\"),\"\")","v":""},{"$f":"IFERROR(IF(AND(U45<>\"\",W45=\"\",U45<=MAX(W46:W$72)),IF(SMALL(W46:W$72,1)-U45>0,SMALL(W46:W$72,1),SMALL(W46:W$72,2)),\"\"),\"\")","v":""}]
[null,null,null,null,null,null,null,null,null,null,null,null,null,null,"286M","18:01:00","18:19:00",null,null,null,null,null,null,null,null,"新見","普通",null,null,"宍道",{"$f":"_xlfn.IFNA(MATCH(Z46,設定_主要駅!$B$2:$B$15,0),IF(Z46=\"備後落合\",14,1))","v":1},45,42,"00:04:00",44,{"$f":"IFERROR(IF(AND(D46<>\"\",F46=\"\",D46<=MAX(F47:F$72)),IF(SMALL(F47:F$72,1)-D46>0,SMALL(F47:F$72,1),SMALL(F47:F$72,2)),\"\"),\"\")","v":""},{"$f":"IFERROR(IF(AND(G46<>\"\",I46=\"\",G46<=MAX(I47:I$72)),IF(SMALL(I47:I$72,1)-G46>0,SMALL(I47:I$72,1),SMALL(I47:I$72,2)),\"\"),\"\")","v":""},{"$f":"IFERROR(IF(AND(N46<>\"\",P46=\"\",N46<=MAX(P47:P$72)),IF(SMALL(P47:P$72,1)-N46>0,SMALL(P47:P$72,1),SMALL(P47:P$72,2)),\"\"),\"\")","v":""},{"$f":"IFERROR(IF(AND(Q46<>\"\",S46=\"\",Q46<=MAX(S47:S$72)),IF(SMALL(S47:S$72,1)-Q46>0,SMALL(S47:S$72,1),SMALL(S47:S$72,2)),\"\"),\"\")","v":"18:23:00"},{"$f":"IFERROR(IF(AND(U46<>\"\",W46=\"\",U46<=MAX(W47:W$72)),IF(SMALL(W47:W$72,1)-U46>0,SMALL(W47:W$72,1),SMALL(W47:W$72,2)),\"\"),\"\")","v":""}]
[null,null,null,null,null,null,null,null,null,null,null,null,null,null,null,null,null,"1457D","18:23:00","18:47:00","18:58:00",null,"19:04:00","19:43:00","20:05:00","出雲横田","普通",null,null,"",{"$f":"_xlfn.IFNA(MATCH(Z47,設定_主要駅!$B$2:$B$15,0),IF(Z47=\"備後落合\",14,1))","v":14},"",44,"",45,{"$f":"IFERROR(IF(AND(D47<>\"\",F47=\"\",D47<=MAX(F48:F$72)),IF(SMALL(F48:F$72,1)-D47>0,SMALL(F48:F$72,1),SMALL(F48:F$72,2)),\"\"),\"\")","v":""},{"$f":"IFERROR(IF(AND(G47<>\"\",I47=\"\",G47<=MAX(I48:I$72)),IF(SMALL(I48:I$72,1)-G47>0,SMALL(I48:I$72,1),SMALL(I48:I$72,2)),\"\"),\"\")","v":""},{"$f":"IFERROR(IF(AND(N47<>\"\",P47=\"\",N47<=MAX(P48:P$72)),IF(SMALL(P48:P$72,1)-N47>0,SMALL(P48:P$72,1),SMALL(P48:P$72,2)),\"\"),\"\")","v":""},{"$f":"IFERROR(IF(AND(Q47<>\"\",S47=\"\",Q47<=MAX(S48:S$72)),IF(SMALL(S48:S$72,1)-Q47>0,SMALL(S48:S$72,1),SMALL(S48:S$72,2)),\"\"),\"\")","v":""},{"$f":"IFERROR(IF(AND(U47<>\"\",W47=\"\",U47<=MAX(W48:W$72)),IF(SMALL(W48:W$72,1)-U47>0,SMALL(W48:W$72,1),SMALL(W48:W$72,2)),\"\"),\"\")","v":""}]
[null,null,null,null,null,null,null,null,null,null,null,null,null,null,"1030M","18:32:00","18:43:00",null,null,null,null,null,null,null,null,"岡山","特急","やくも30号",null,"宍道",{"$f":"_xlfn.IFNA(MATCH(Z48,設定_主要駅!$B$2:$B$15,0),IF(Z48=\"備後落合\",14,1))","v":1},47,"","00:24:00",46,{"$f":"IFERROR(IF(AND(D48<>\"\",F48=\"\",D48<=MAX(F49:F$72)),IF(SMALL(F49:F$72,1)-D48>0,SMALL(F49:F$72,1),SMALL(F49:F$72,2)),\"\"),\"\")","v":""},{"$f":"IFERROR(IF(AND(G48<>\"\",I48=\"\",G48<=MAX(I49:I$72)),IF(SMALL(I49:I$72,1)-G48>0,SMALL(I49:I$72,1),SMALL(I49:I$72,2)),\"\"),\"\")","v":""},{"$f":"IFERROR(IF(AND(N48<>\"\",P48=\"\",N48<=MAX(P49:P$72)),IF(SMALL(P49:P$72,1)-N48>0,SMALL(P49:P$72,1),SMALL(P49:P$72,2)),\"\"),\"\")","v":""},{"$f":"IFERROR(IF(AND(Q48<>\"\",S48=\"\",Q48<=MAX(S49:S$72)),IF(SMALL(S49:S$72,1)-Q48>0,SMALL(S49:S$72,1),SMALL(S49:S$72,2)),\"\"),\"\")","v":"19:07:00"},{"$f":"IFERROR(IF(AND(U48<>\"\",W48=\"\",U48<=MAX(W49:W$72)),IF(SMALL(W49:W$72,1)-U48>0,SMALL(W49:W$72,1),SMALL(W49:W$72,2)),\"\"),\"\")","v":""}]
[null,null,null,null,null,null,null,null,null,null,null,null,null,null,null,null,null,"1459D","19:07:00","19:34:00","19:45:00",null,null,null,null,"木次","普通",null,null,"",{"$f":"_xlfn.IFNA(MATCH(Z49,設定_主要駅!$B$2:$B$15,0),IF(Z49=\"備後落合\",14,1))","v":12},"",46,"01:39:00",47,{"$f":"IFERROR(IF(AND(D49<>\"\",F49=\"\",D49<=MAX(F50:F$72)),IF(SMALL(F50:F$72,1)-D49>0,SMALL(F50:F$72,1),SMALL(F50:F$72,2)),\"\"),\"\")","v":""},{"$f":"IFERROR(IF(AND(G49<>\"\",I49=\"\",G49<=MAX(I50:I$72)),IF(SMALL(I50:I$72,1)-G49>0,SMALL(I50:I$72,1),SMALL(I50:I$72,2)),\"\"),\"\")","v":""},{"$f":"IFERROR(IF(AND(N49<>\"\",P49=\"\",N49<=MAX(P50:P$72)),IF(SMALL(P50:P$72,1)-N49>0,SMALL(P50:P$72,1),SMALL(P50:P$72,2)),\"\"),\"\")","v":""},{"$f":"IFERROR(IF(AND(Q49<>\"\",S49=\"\",Q49<=MAX(S50:S$72)),IF(SMALL(S50:S$72,1)-Q49>0,SMALL(S50:S$72,1),SMALL(S50:S$72,2)),\"\"),\"\")","v":""},{"$f":"IFERROR(IF(AND(U49<>\"\",W49=\"\",U49<=MAX(W50:W$72)),IF(SMALL(W50:W$72,1)-U49>0,SMALL(W50:W$72,1),SMALL(W50:W$72,2)),\"\"),\"\")","v":"21:24:00"}]
[null,null,null,null,"432D","15:22:00","16:14:00",null,null,null,null,null,null,null,null,null,null,null,null,null,null,null,null,null,null,"浜田","普通",null,null,"浜田",{"$f":"_xlfn.IFNA(MATCH(Z50,設定_主要駅!$B$2:$B$15,0),IF(Z50=\"備後落合\",14,1))","v":6},49,"","00:23:00",48,{"$f":"IFERROR(IF(AND(D50<>\"\",F50=\"\",D50<=MAX(F51:F$72)),IF(SMALL(F51:F$72,1)-D50>0,SMALL(F51:F$72,1),SMALL(F51:F$72,2)),\"\"),\"\")","v":""},{"$f":"IFERROR(IF(AND(G50<>\"\",I50=\"\",G50<=MAX(I51:I$72)),IF(SMALL(I51:I$72,1)-G50>0,SMALL(I51:I$72,1),SMALL(I51:I$72,2)),\"\"),\"\")","v":"16:37:00"},{"$f":"IFERROR(IF(AND(N50<>\"\",P50=\"\",N50<=MAX(P51:P$72)),IF(SMALL(P51:P$72,1)-N50>0,SMALL(P51:P$72,1),SMALL(P51:P$72,2)),\"\"),\"\")","v":""},{"$f":"IFERROR(IF(AND(Q50<>\"\",S50=\"\",Q50<=MAX(S51:S$72)),IF(SMALL(S51:S$72,1)-Q50>0,SMALL(S51:S$72,1),SMALL(S51:S$72,2)),\"\"),\"\")","v":""},{"$f":"IFERROR(IF(AND(U50<>\"\",W50=\"\",U50<=MAX(W51:W$72)),IF(SMALL(W51:W$72,1)-U50>0,SMALL(W51:W$72,1),SMALL(W51:W$72,2)),\"\"),\"\")","v":""}]
[null,null,null,null,null,null,null,"332D","16:37:00","17:02:00","17:03:00","18:14:00","18:15:00","18:55:00",null,null,null,null,null,null,null,null,null,null,null,"出雲市","普通",null,null,"出雲市",{"$f":"_xlfn.IFNA(MATCH(Z51,設定_主要駅!$B$2:$B$15,0),IF(Z51=\"備後落合\",14,1))","v":3},50,48,"00:02:00",49,{"$f":"IFERROR(IF(AND(D51<>\"\",F51=\"\",D51<=MAX(F52:F$72)),IF(SMALL(F52:F$72,1)-D51>0,SMALL(F52:F$72,1),SMALL(F52:F$72,2)),\"\"),\"\")","v":""},{"$f":"IFERROR(IF(AND(G51<>\"\",I51=\"\",G51<=MAX(I52:I$72)),IF(SMALL(I52:I$72,1)-G51>0,SMALL(I52:I$72,1),SMALL(I52:I$72,2)),\"\"),\"\")","v":""},{"$f":"IFERROR(IF(AND(N51<>\"\",P51=\"\",N51<=MAX(P52:P$72)),IF(SMALL(P52:P$72,1)-N51>0,SMALL(P52:P$72,1),SMALL(P52:P$72,2)),\"\"),\"\")","v":"18:57:00"},{"$f":"IFERROR(IF(AND(Q51<>\"\",S51=\"\",Q51<=MAX(S52:S$72)),IF(SMALL(S52:S$72,1)-Q51>0,SMALL(S52:S$72,1),SMALL(S52:S$72,2)),\"\"),\"\")","v":""},{"$f":"IFERROR(IF(AND(U51<>\"\",W51=\"\",U51<=MAX(W52:W$72)),IF(SMALL(W52:W$72,1)-U51>0,SMALL(W52:W$72,1),SMALL(W52:W$72,2)),\"\"),\"\")","v":""}]
[null,null,null,null,null,null,null,null,null,null,null,null,null,null,"4032M","18:57:00","19:10:00",null,null,null,null,null,null,null,null,"東京","特急","サンライズ出雲",null,"",{"$f":"_xlfn.IFNA(MATCH(Z52,設定_主要駅!$B$2:$B$15,0),IF(Z52=\"備後落合\",14,1))","v":1},"",49,"01:37:00",50,{"$f":"IFERROR(IF(AND(D52<>\"\",F52=\"\",D52<=MAX(F53:F$72)),IF(SMALL(F53:F$72,1)-D52>0,SMALL(F53:F$72,1),SMALL(F53:F$72,2)),\"\"),\"\")","v":""},{"$f":"IFERROR(IF(AND(G52<>\"\",I52=\"\",G52<=MAX(I53:I$72)),IF(SMALL(I53:I$72,1)-G52>0,SMALL(I53:I$72,1),SMALL(I53:I$72,2)),\"\"),\"\")","v":""},{"$f":"IFERROR(IF(AND(N52<>\"\",P52=\"\",N52<=MAX(P53:P$72)),IF(SMALL(P53:P$72,1)-N52>0,SMALL(P53:P$72,1),SMALL(P53:P$72,2)),\"\"),\"\")","v":""},{"$f":"IFERROR(IF(AND(Q52<>\"\",S52=\"\",Q52<=MAX(S53:S$72)),IF(SMALL(S53:S$72,1)-Q52>0,SMALL(S53:S$72,1),SMALL(S53:S$72,2)),\"\"),\"\")","v":"20:47:00"},{"$f":"IFERROR(IF(AND(U52<>\"\",W52=\"\",U52<=MAX(W53:W$72)),IF(SMALL(W53:W$72,1)-U52>0,SMALL(W53:W$72,1),SMALL(W53:W$72,2)),\"\"),\"\")","v":""}]
[null,null,null,null,null,null,null,null,null,null,null,null,null,null,"148D","19:00:00","19:17:00",null,null,null,null,null,null,null,null,"米子","普通",null,null,"",{"$f":"_xlfn.IFNA(MATCH(Z53,設定_主要駅!$B$2:$B$15,0),IF(Z53=\"備後落合\",14,1))","v":1},"","","01:30:00",51,{"$f":"IFERROR(IF(AND(D53<>\"\",F53=\"\",D53<=MAX(F54:F$72)),IF(SMALL(F54:F$72,1)-D53>0,SMALL(F54:F$72,1),SMALL(F54:F$72,2)),\"\"),\"\")","v":""},{"$f":"IFERROR(IF(AND(G53<>\"\",I53=\"\",G53<=MAX(I54:I$72)),IF(SMALL(I54:I$72,1)-G53>0,SMALL(I54:I$72,1),SMALL(I54:I$72,2)),\"\"),\"\")","v":""},{"$f":"IFERROR(IF(AND(N53<>\"\",P53=\"\",N53<=MAX(P54:P$72)),IF(SMALL(P54:P$72,1)-N53>0,SMALL(P54:P$72,1),SMALL(P54:P$72,2)),\"\"),\"\")","v":""},{"$f":"IFERROR(IF(AND(Q53<>\"\",S53=\"\",Q53<=MAX(S54:S$72)),IF(SMALL(S54:S$72,1)-Q53>0,SMALL(S54:S$72,1),SMALL(S54:S$72,2)),\"\"),\"\")","v":"20:47:00"},{"$f":"IFERROR(IF(AND(U53<>\"\",W53=\"\",U53<=MAX(W54:W$72)),IF(SMALL(W54:W$72,1)-U53>0,SMALL(W54:W$72,1),SMALL(W54:W$72,2)),\"\"),\"\")","v":""}]
[null,null,null,null,null,null,null,null,null,null,null,null,null,null,"150D","19:32:00","19:52:00",null,null,null,null,null,null,null,null,"米子","普通",null,null,"",{"$f":"_xlfn.IFNA(MATCH(Z54,設定_主要駅!$B$2:$B$15,0),IF(Z54=\"備後落合\",14,1))","v":1},"","","00:55:00",52,{"$f":"IFERROR(IF(AND(D54<>\"\",F54=\"\",D54<=MAX(F55:F$72)),IF(SMALL(F55:F$72,1)-D54>0,SMALL(F55:F$72,1),SMALL(F55:F$72,2)),\"\"),\"\")","v":""},{"$f":"IFERROR(IF(AND(G54<>\"\",I54=\"\",G54<=MAX(I55:I$72)),IF(SMALL(I55:I$72,1)-G54>0,SMALL(I55:I$72,1),SMALL(I55:I$72,2)),\"\"),\"\")","v":""},{"$f":"IFERROR(IF(AND(N54<>\"\",P54=\"\",N54<=MAX(P55:P$72)),IF(SMALL(P55:P$72,1)-N54>0,SMALL(P55:P$72,1),SMALL(P55:P$72,2)),\"\"),\"\")","v":""},{"$f":"IFERROR(IF(AND(Q54<>\"\",S54=\"\",Q54<=MAX(S55:S$72)),IF(SMALL(S55:S$72,1)-Q54>0,SMALL(S55:S$72,1),SMALL(S55:S$72,2)),\"\"),\"\")","v":"20:47:00"},{"$f":"IFERROR(IF(AND(U54<>\"\",W54=\"\",U54<=MAX(W55:W$72)),IF(SMALL(W55:W$72,1)-U54>0,SMALL(W55:W$72,1),SMALL(W55:W$72,2)),\"\"),\"\")","v":""}]
["2545D","15:20:00","15:32:00","16:00:00",null,null,null,null,null,null,null,null,null,null,null,null,null,null,null,null,null,null,null,null,null,"益田","普通",null,null,"",{"$f":"_xlfn.IFNA(MATCH(Z55,設定_主要駅!$B$2:$B$15,0),IF(Z55=\"備後落合\",14,1))","v":7},"","","01:37:00",53,{"$f":"IFERROR(IF(AND(D55<>\"\",F55=\"\",D55<=MAX(F56:F$72)),IF(SMALL(F56:F$72,1)-D55>0,SMALL(F56:F$72,1),SMALL(F56:F$72,2)),\"\"),\"\")","v":"17:37:00"},{"$f":"IFERROR(IF(AND(G55<>\"\",I55=\"\",G55<=MAX(I56:I$72)),IF(SMALL(I56:I$72,1)-G55>0,SMALL(I56:I$72,1),SMALL(I56:I$72,2)),\"\"),\"\")","v":""},{"$f":"IFERROR(IF(AND(N55<>\"\",P55=\"\",N55<=MAX(P56:P$72)),IF(SMALL(P56:P$72,1)-N55>0,SMALL(P56:P$72,1),SMALL(P56:P$72,2)),\"\"),\"\")","v":""},{"$f":"IFERROR(IF(AND(Q55<>\"\",S55=\"\",Q55<=MAX(S56:S$72)),IF(SMALL(S56:S$72,1)-Q55>0,SMALL(S56:S$72,1),SMALL(S56:S$72,2)),\"\"),\"\")","v":""},{"$f":"IFERROR(IF(AND(U55<>\"\",W55=\"\",U55<=MAX(W56:W$72)),IF(SMALL(W56:W$72,1)-U55>0,SMALL(W56:W$72,1),SMALL(W56:W$72,2)),\"\"),\"\")","v":""}]
["3006D","17:21:00","17:32:00","18:00:00",null,"18:01:00","18:36:00",null,"18:39:00","18:53:00","18:54:00","19:23:00","19:24:00","19:51:00",null,"19:53:00","20:03:00",null,null,null,null,null,null,null,null,"米子","特急","スーパーおき6号",null,"",{"$f":"_xlfn.IFNA(MATCH(Z56,設定_主要駅!$B$2:$B$15,0),IF(Z56=\"備後落合\",14,1))","v":1},"","","00:44:00",54,{"$f":"IFERROR(IF(AND(D56<>\"\",F56=\"\",D56<=MAX(F57:F$72)),IF(SMALL(F57:F$72,1)-D56>0,SMALL(F57:F$72,1),SMALL(F57:F$72,2)),\"\"),\"\")","v":""},{"$f":"IFERROR(IF(AND(G56<>\"\",I56=\"\",G56<=MAX(I57:I$72)),IF(SMALL(I57:I$72,1)-G56>0,SMALL(I57:I$72,1),SMALL(I57:I$72,2)),\"\"),\"\")","v":""},{"$f":"IFERROR(IF(AND(N56<>\"\",P56=\"\",N56<=MAX(P57:P$72)),IF(SMALL(P57:P$72,1)-N56>0,SMALL(P57:P$72,1),SMALL(P57:P$72,2)),\"\"),\"\")","v":""},{"$f":"IFERROR(IF(AND(Q56<>\"\",S56=\"\",Q56<=MAX(S57:S$72)),IF(SMALL(S57:S$72,1)-Q56>0,SMALL(S57:S$72,1),SMALL(S57:S$72,2)),\"\"),\"\")","v":"20:47:00"},{"$f":"IFERROR(IF(AND(U56<>\"\",W56=\"\",U56<=MAX(W57:W$72)),IF(SMALL(W57:W$72,1)-U56>0,SMALL(W57:W$72,1),SMALL(W57:W$72,2)),\"\"),\"\")","v":""}]
[null,null,null,null,null,null,null,"334D","17:42:00","18:10:00","18:20:00","19:07:00","19:30:00","20:17:00",null,null,null,null,null,null,null,null,null,null,null,"出雲市","普通",null,null,"出雲市",{"$f":"_xlfn.IFNA(MATCH(Z57,設定_主要駅!$B$2:$B$15,0),IF(Z57=\"備後落合\",14,1))","v":3},56,"","00:09:00",55,{"$f":"IFERROR(IF(AND(D57<>\"\",F57=\"\",D57<=MAX(F58:F$72)),IF(SMALL(F58:F$72,1)-D57>0,SMALL(F58:F$72,1),SMALL(F58:F$72,2)),\"\"),\"\")","v":""},{"$f":"IFERROR(IF(AND(G57<>\"\",I57=\"\",G57<=MAX(I58:I$72)),IF(SMALL(I58:I$72,1)-G57>0,SMALL(I58:I$72,1),SMALL(I58:I$72,2)),\"\"),\"\")","v":""},{"$f":"IFERROR(IF(AND(N57<>\"\",P57=\"\",N57<=MAX(P58:P$72)),IF(SMALL(P58:P$72,1)-N57>0,SMALL(P58:P$72,1),SMALL(P58:P$72,2)),\"\"),\"\")","v":"20:26:00"},{"$f":"IFERROR(IF(AND(Q57<>\"\",S57=\"\",Q57<=MAX(S58:S$72)),IF(SMALL(S58:S$72,1)-Q57>0,SMALL(S58:S$72,1),SMALL(S58:S$72,2)),\"\"),\"\")","v":""},{"$f":"IFERROR(IF(AND(U57<>\"\",W57=\"\",U57<=MAX(W58:W$72)),IF(SMALL(W58:W$72,1)-U57>0,SMALL(W58:W$72,1),SMALL(W58:W$72,2)),\"\"),\"\")","v":""}]
[null,null,null,null,null,null,null,null,null,null,null,null,null,null,"152D","20:26:00","20:44:00",null,null,null,null,null,null,null,null,"米子","普通",null,null,"宍道",{"$f":"_xlfn.IFNA(MATCH(Z58,設定_主要駅!$B$2:$B$15,0),IF(Z58=\"備後落合\",14,1))","v":1},57,55,"00:03:00",56,{"$f":"IFERROR(IF(AND(D58<>\"\",F58=\"\",D58<=MAX(F59:F$72)),IF(SMALL(F59:F$72,1)-D58>0,SMALL(F59:F$72,1),SMALL(F59:F$72,2)),\"\"),\"\")","v":""},{"$f":"IFERROR(IF(AND(G58<>\"\",I58=\"\",G58<=MAX(I59:I$72)),IF(SMALL(I59:I$72,1)-G58>0,SMALL(I59:I$72,1),SMALL(I59:I$72,2)),\"\"),\"\")","v":""},{"$f":"IFERROR(IF(AND(N58<>\"\",P58=\"\",N58<=MAX(P59:P$72)),IF(SMALL(P59:P$72,1)-N58>0,SMALL(P59:P$72,1),SMALL(P59:P$72,2)),\"\"),\"\")","v":""},{"$f":"IFERROR(IF(AND(Q58<>\"\",S58=\"\",Q58<=MAX(S59:S$72)),IF(SMALL(S59:S$72,1)-Q58>0,SMALL(S59:S$72,1),SMALL(S59:S$72,2)),\"\"),\"\")","v":"20:47:00"},{"$f":"IFERROR(IF(AND(U58<>\"\",W58=\"\",U58<=MAX(W59:W$72)),IF(SMALL(W59:W$72,1)-U58>0,SMALL(W59:W$72,1),SMALL(W59:W$72,2)),\"\"),\"\")","v":""}]
[null,null,null,null,null,null,null,null,null,null,null,null,null,null,null,null,null,"1461D","20:47:00","21:10:00","21:22:00","5465D","21:24:00","22:02:00","22:23:00","出雲横田","普通",null,"◆土曜運休","",{"$f":"_xlfn.IFNA(MATCH(Z59,設定_主要駅!$B$2:$B$15,0),IF(Z59=\"備後落合\",14,1))","v":14},"",56,"",57,{"$f":"IFERROR(IF(AND(D59<>\"\",F59=\"\",D59<=MAX(F60:F$72)),IF(SMALL(F60:F$72,1)-D59>0,SMALL(F60:F$72,1),SMALL(F60:F$72,2)),\"\"),\"\")","v":""},{"$f":"IFERROR(IF(AND(G59<>\"\",I59=\"\",G59<=MAX(I60:I$72)),IF(SMALL(I60:I$72,1)-G59>0,SMALL(I60:I$72,1),SMALL(I60:I$72,2)),\"\"),\"\")","v":""},{"$f":"IFERROR(IF(AND(N59<>\"\",P59=\"\",N59<=MAX(P60:P$72)),IF(SMALL(P60:P$72,1)-N59>0,SMALL(P60:P$72,1),SMALL(P60:P$72,2)),\"\"),\"\")","v":""},{"$f":"IFERROR(IF(AND(Q59<>\"\",S59=\"\",Q59<=MAX(S60:S$72)),IF(SMALL(S60:S$72,1)-Q59>0,SMALL(S60:S$72,1),SMALL(S60:S$72,2)),\"\"),\"\")","v":""},{"$f":"IFERROR(IF(AND(U59<>\"\",W59=\"\",U59<=MAX(W60:W$72)),IF(SMALL(W60:W$72,1)-U59>0,SMALL(W60:W$72,1),SMALL(W60:W$72,2)),\"\"),\"\")","v":""}]
["2547D","16:55:00","17:07:00","17:36:00",null,null,null,null,null,null,null,null,null,null,null,null,null,null,null,null,null,null,null,null,null,"益田","普通",null,null,"益田",{"$f":"_xlfn.IFNA(MATCH(Z60,設定_主要駅!$B$2:$B$15,0),IF(Z60=\"備後落合\",14,1))","v":7},59,"","00:01:00",58,{"$f":"IFERROR(IF(AND(D60<>\"\",F60=\"\",D60<=MAX(F61:F$72)),IF(SMALL(F61:F$72,1)-D60>0,SMALL(F61:F$72,1),SMALL(F61:F$72,2)),\"\"),\"\")","v":"17:37:00"},{"$f":"IFERROR(IF(AND(G60<>\"\",I60=\"\",G60<=MAX(I61:I$72)),IF(SMALL(I61:I$72,1)-G60>0,SMALL(I61:I$72,1),SMALL(I61:I$72,2)),\"\"),\"\")","v":""},{"$f":"IFERROR(IF(AND(N60<>\"\",P60=\"\",N60<=MAX(P61:P$72)),IF(SMALL(P61:P$72,1)-N60>0,SMALL(P61:P$72,1),SMALL(P61:P$72,2)),\"\"),\"\")","v":""},{"$f":"IFERROR(IF(AND(Q60<>\"\",S60=\"\",Q60<=MAX(S61:S$72)),IF(SMALL(S61:S$72,1)-Q60>0,SMALL(S61:S$72,1),SMALL(S61:S$72,2)),\"\"),\"\")","v":""},{"$f":"IFERROR(IF(AND(U60<>\"\",W60=\"\",U60<=MAX(W61:W$72)),IF(SMALL(W61:W$72,1)-U60>0,SMALL(W61:W$72,1),SMALL(W61:W$72,2)),\"\"),\"\")","v":""}]
[null,null,null,null,"434D","17:37:00","18:28:00","336D","18:50:00","19:16:00","19:17:00","20:02:00","20:03:00","20:55:00",null,null,null,null,null,null,null,null,null,null,null,"出雲市","普通",null,null,"出雲市",{"$f":"_xlfn.IFNA(MATCH(Z61,設定_主要駅!$B$2:$B$15,0),IF(Z61=\"備後落合\",14,1))","v":3},60,58,"00:15:00",59,{"$f":"IFERROR(IF(AND(D61<>\"\",F61=\"\",D61<=MAX(F62:F$72)),IF(SMALL(F62:F$72,1)-D61>0,SMALL(F62:F$72,1),SMALL(F62:F$72,2)),\"\"),\"\")","v":""},{"$f":"IFERROR(IF(AND(G61<>\"\",I61=\"\",G61<=MAX(I62:I$72)),IF(SMALL(I62:I$72,1)-G61>0,SMALL(I62:I$72,1),SMALL(I62:I$72,2)),\"\"),\"\")","v":""},{"$f":"IFERROR(IF(AND(N61<>\"\",P61=\"\",N61<=MAX(P62:P$72)),IF(SMALL(P62:P$72,1)-N61>0,SMALL(P62:P$72,1),SMALL(P62:P$72,2)),\"\"),\"\")","v":"21:10:00"},{"$f":"IFERROR(IF(AND(Q61<>\"\",S61=\"\",Q61<=MAX(S62:S$72)),IF(SMALL(S62:S$72,1)-Q61>0,SMALL(S62:S$72,1),SMALL(S62:S$72,2)),\"\"),\"\")","v":""},{"$f":"IFERROR(IF(AND(U61<>\"\",W61=\"\",U61<=MAX(W62:W$72)),IF(SMALL(W62:W$72,1)-U61>0,SMALL(W62:W$72,1),SMALL(W62:W$72,2)),\"\"),\"\")","v":""}]
[null,null,null,null,null,null,null,null,null,null,null,null,null,null,"154D","21:10:00","21:35:00",null,null,null,null,null,null,null,null,"米子","普通",null,null,"宍道",{"$f":"_xlfn.IFNA(MATCH(Z62,設定_主要駅!$B$2:$B$15,0),IF(Z62=\"備後落合\",14,1))","v":1},61,59,"00:04:00",60,{"$f":"IFERROR(IF(AND(D62<>\"\",F62=\"\",D62<=MAX(F63:F$72)),IF(SMALL(F63:F$72,1)-D62>0,SMALL(F63:F$72,1),SMALL(F63:F$72,2)),\"\"),\"\")","v":""},{"$f":"IFERROR(IF(AND(G62<>\"\",I62=\"\",G62<=MAX(I63:I$72)),IF(SMALL(I63:I$72,1)-G62>0,SMALL(I63:I$72,1),SMALL(I63:I$72,2)),\"\"),\"\")","v":""},{"$f":"IFERROR(IF(AND(N62<>\"\",P62=\"\",N62<=MAX(P63:P$72)),IF(SMALL(P63:P$72,1)-N62>0,SMALL(P63:P$72,1),SMALL(P63:P$72,2)),\"\"),\"\")","v":""},{"$f":"IFERROR(IF(AND(Q62<>\"\",S62=\"\",Q62<=MAX(S63:S$72)),IF(SMALL(S63:S$72,1)-Q62>0,SMALL(S63:S$72,1),SMALL(S63:S$72,2)),\"\"),\"\")","v":"21:39:00"},{"$f":"IFERROR(IF(AND(U62<>\"\",W62=\"\",U62<=MAX(W63:W$72)),IF(SMALL(W63:W$72,1)-U62>0,SMALL(W63:W$72,1),SMALL(W63:W$72,2)),\"\"),\"\")","v":""}]
[null,null,null,null,null,null,null,null,null,null,null,null,null,null,null,null,null,"1463D","21:39:00","22:02:00","22:13:00",null,null,null,null,"木次","普通",null,null,"",{"$f":"_xlfn.IFNA(MATCH(Z63,設定_主要駅!$B$2:$B$15,0),IF(Z63=\"備後落合\",14,1))","v":12},"",60,"",61,{"$f":"IFERROR(IF(AND(D63<>\"\",F63=\"\",D63<=MAX(F64:F$72)),IF(SMALL(F64:F$72,1)-D63>0,SMALL(F64:F$72,1),SMALL(F64:F$72,2)),\"\"),\"\")","v":""},{"$f":"IFERROR(IF(AND(G63<>\"\",I63=\"\",G63<=MAX(I64:I$72)),IF(SMALL(I64:I$72,1)-G63>0,SMALL(I64:I$72,1),SMALL(I64:I$72,2)),\"\"),\"\")","v":""},{"$f":"IFERROR(IF(AND(N63<>\"\",P63=\"\",N63<=MAX(P64:P$72)),IF(SMALL(P64:P$72,1)-N63>0,SMALL(P64:P$72,1),SMALL(P64:P$72,2)),\"\"),\"\")","v":""},{"$f":"IFERROR(IF(AND(Q63<>\"\",S63=\"\",Q63<=MAX(S64:S$72)),IF(SMALL(S64:S$72,1)-Q63>0,SMALL(S64:S$72,1),SMALL(S64:S$72,2)),\"\"),\"\")","v":""},{"$f":"IFERROR(IF(AND(U63<>\"\",W63=\"\",U63<=MAX(W64:W$72)),IF(SMALL(W64:W$72,1)-U63>0,SMALL(W64:W$72,1),SMALL(W64:W$72,2)),\"\"),\"\")","v":""}]